Back to Multiple platform build/check report for BioC 3.19: simplified long |
|
This page was generated on 2024-03-28 11:39:44 -0400 (Thu, 28 Mar 2024).
Hostname | OS | Arch (*) | R version | Installed pkgs |
---|---|---|---|---|
nebbiolo1 | Linux (Ubuntu 22.04.3 LTS) | x86_64 | R Under development (unstable) (2024-03-18 r86148) -- "Unsuffered Consequences" | 4708 |
palomino3 | Windows Server 2022 Datacenter | x64 | R Under development (unstable) (2024-03-16 r86144 ucrt) -- "Unsuffered Consequences" | 4446 |
lconway | macOS 12.7.1 Monterey | x86_64 | R Under development (unstable) (2024-03-18 r86148) -- "Unsuffered Consequences" | 4471 |
kunpeng2 | Linux (openEuler 22.03 LTS-SP1) | aarch64 | R Under development (unstable) (2024-03-19 r86153) -- "Unsuffered Consequences" | 4426 |
Click on any hostname to see more info about the system (e.g. compilers) (*) as reported by 'uname -p', except on Windows and Mac OS X |
Package 1476/2270 | Hostname | OS / Arch | INSTALL | BUILD | CHECK | BUILD BIN | ||||||||
OUTRIDER 1.21.1 (landing page) Christian Mertes
| nebbiolo1 | Linux (Ubuntu 22.04.3 LTS) / x86_64 | OK | OK | OK | |||||||||
palomino3 | Windows Server 2022 Datacenter / x64 | OK | OK | OK | OK | |||||||||
lconway | macOS 12.7.1 Monterey / x86_64 | OK | OK | OK | OK | |||||||||
kunpeng2 | Linux (openEuler 22.03 LTS-SP1) / aarch64 | OK | OK | OK | ||||||||||
To the developers/maintainers of the OUTRIDER package: - Allow up to 24 hours (and sometimes 48 hours) for your latest push to git@git.bioconductor.org:packages/OUTRIDER.git to reflect on this report. See Troubleshooting Build Report for more information. - Use the following Renviron settings to reproduce errors and warnings. - If 'R CMD check' started to fail recently on the Linux builder(s) over a missing dependency, add the missing dependency to 'Suggests:' in your DESCRIPTION file. See Renviron.bioc for more information. |
Package: OUTRIDER |
Version: 1.21.1 |
Command: /Library/Frameworks/R.framework/Resources/bin/R CMD check --install=check:OUTRIDER.install-out.txt --library=/Library/Frameworks/R.framework/Resources/library --no-vignettes --timings OUTRIDER_1.21.1.tar.gz |
StartedAt: 2024-03-27 22:57:50 -0400 (Wed, 27 Mar 2024) |
EndedAt: 2024-03-27 23:08:13 -0400 (Wed, 27 Mar 2024) |
EllapsedTime: 623.5 seconds |
RetCode: 0 |
Status: OK |
CheckDir: OUTRIDER.Rcheck |
Warnings: 0 |
############################################################################## ############################################################################## ### ### Running command: ### ### /Library/Frameworks/R.framework/Resources/bin/R CMD check --install=check:OUTRIDER.install-out.txt --library=/Library/Frameworks/R.framework/Resources/library --no-vignettes --timings OUTRIDER_1.21.1.tar.gz ### ############################################################################## ############################################################################## * using log directory ‘/Users/biocbuild/bbs-3.19-bioc/meat/OUTRIDER.Rcheck’ * using R Under development (unstable) (2024-03-18 r86148) * using platform: x86_64-apple-darwin20 * R was compiled by Apple clang version 14.0.0 (clang-1400.0.29.202) GNU Fortran (GCC) 12.2.0 * running under: macOS Monterey 12.7.1 * using session charset: UTF-8 * using option ‘--no-vignettes’ * checking for file ‘OUTRIDER/DESCRIPTION’ ... OK * checking extension type ... Package * this is package ‘OUTRIDER’ version ‘1.21.1’ * package encoding: UTF-8 * checking package namespace information ... OK * checking package dependencies ... OK * checking if this is a source package ... OK * checking if there is a namespace ... OK * checking for hidden files and directories ... OK * checking for portable file names ... OK * checking for sufficient/correct file permissions ... OK * checking whether package ‘OUTRIDER’ can be installed ... OK * used C++ compiler: ‘Apple clang version 14.0.0 (clang-1400.0.29.202)’ * used SDK: ‘MacOSX11.3.sdk’ * checking C++ specification ... NOTE Specified C++11: please drop specification unless essential * checking installed package size ... OK * checking package directory ... OK * checking ‘build’ directory ... OK * checking DESCRIPTION meta-information ... NOTE License stub is invalid DCF. * checking top-level files ... OK * checking for left-over files ... OK * checking index information ... OK * checking package subdirectories ... OK * checking code files for non-ASCII characters ... OK * checking R files for syntax errors ... OK * checking whether the package can be loaded ... OK * checking whether the package can be loaded with stated dependencies ... OK * checking whether the package can be unloaded cleanly ... OK * checking whether the namespace can be loaded with stated dependencies ... OK * checking whether the namespace can be unloaded cleanly ... OK * checking dependencies in R code ... OK * checking S3 generic/method consistency ... OK * checking replacement functions ... OK * checking foreign function calls ... OK * checking R code for possible problems ... NOTE padjOnSubset: no visible global function definition for ‘bpmapply’ Undefined global functions or variables: bpmapply * checking Rd files ... OK * checking Rd metadata ... OK * checking Rd cross-references ... OK * checking for missing documentation entries ... OK * checking for code/documentation mismatches ... OK * checking Rd \usage sections ... OK * checking Rd contents ... OK * checking for unstated dependencies in examples ... OK * checking line endings in C/C++/Fortran sources/headers ... OK * checking line endings in Makefiles ... OK * checking compilation flags in Makevars ... OK * checking for GNU extensions in Makefiles ... OK * checking for portable use of $(BLAS_LIBS) and $(LAPACK_LIBS) ... OK * checking use of PKG_*FLAGS in Makefiles ... OK * checking compiled code ... NOTE Note: information on .o files is not available * checking sizes of PDF files under ‘inst/doc’ ... OK * checking files in ‘vignettes’ ... OK * checking examples ... OK Examples with CPU (user + system) or elapsed time > 5s user system elapsed OUTRIDER 12.509 2.723 13.950 findEncodingDim 14.201 0.352 14.694 plotFunctions 8.724 0.503 9.474 * checking for unstated dependencies in ‘tests’ ... OK * checking tests ... Running ‘testthat.R’ OK * checking for unstated dependencies in vignettes ... OK * checking package vignettes ... OK * checking running R code from vignettes ... SKIPPED * checking re-building of vignette outputs ... SKIPPED * checking PDF version of manual ... OK * DONE Status: 4 NOTEs See ‘/Users/biocbuild/bbs-3.19-bioc/meat/OUTRIDER.Rcheck/00check.log’ for details.
OUTRIDER.Rcheck/00install.out
############################################################################## ############################################################################## ### ### Running command: ### ### /Library/Frameworks/R.framework/Resources/bin/R CMD INSTALL OUTRIDER ### ############################################################################## ############################################################################## * installing to library ‘/Library/Frameworks/R.framework/Versions/4.4-x86_64/Resources/library’ * installing *source* package ‘OUTRIDER’ ... ** using staged installation ** libs using C++ compiler: ‘Apple clang version 14.0.0 (clang-1400.0.29.202)’ using C++11 using SDK: ‘MacOSX11.3.sdk’ clang++ -arch x86_64 -std=gnu++11 -std=gnu++11 -I"/Library/Frameworks/R.framework/Resources/include" -DNDEBUG -I'/Library/Frameworks/R.framework/Versions/4.4-x86_64/Resources/library/Rcpp/include' -I'/Library/Frameworks/R.framework/Versions/4.4-x86_64/Resources/library/RcppArmadillo/include' -I/opt/R/x86_64/include -DARMA_DONT_USE_OPENMP -fPIC -falign-functions=64 -Wall -g -O2 -c RcppExports.cpp -o RcppExports.o clang++ -arch x86_64 -std=gnu++11 -std=gnu++11 -I"/Library/Frameworks/R.framework/Resources/include" -DNDEBUG -I'/Library/Frameworks/R.framework/Versions/4.4-x86_64/Resources/library/Rcpp/include' -I'/Library/Frameworks/R.framework/Versions/4.4-x86_64/Resources/library/RcppArmadillo/include' -I/opt/R/x86_64/include -DARMA_DONT_USE_OPENMP -fPIC -falign-functions=64 -Wall -g -O2 -c loss_n_gradient_functions.cpp -o loss_n_gradient_functions.o clang++ -arch x86_64 -std=gnu++11 -std=gnu++11 -dynamiclib -Wl,-headerpad_max_install_names -undefined dynamic_lookup -L/Library/Frameworks/R.framework/Resources/lib -L/opt/R/x86_64/lib -o OUTRIDER.so RcppExports.o loss_n_gradient_functions.o -L/Library/Frameworks/R.framework/Resources/lib -lRlapack -L/Library/Frameworks/R.framework/Resources/lib -lRblas -L/opt/gfortran/lib/gcc/x86_64-apple-darwin20.0/12.2.0 -L/opt/gfortran/lib -lgfortran -lquadmath -F/Library/Frameworks/R.framework/.. -framework R -Wl,-framework -Wl,CoreFoundation installing to /Library/Frameworks/R.framework/Versions/4.4-x86_64/Resources/library/00LOCK-OUTRIDER/00new/OUTRIDER/libs ** R ** inst ** byte-compile and prepare package for lazy loading ** help *** installing help indices ** building package indices ** installing vignettes ** testing if installed package can be loaded from temporary location ** checking absolute paths in shared objects and dynamic libraries ** testing if installed package can be loaded from final location ** testing if installed package keeps a record of temporary installation path * DONE (OUTRIDER)
OUTRIDER.Rcheck/tests/testthat.Rout
R Under development (unstable) (2024-03-18 r86148) -- "Unsuffered Consequences" Copyright (C) 2024 The R Foundation for Statistical Computing Platform: x86_64-apple-darwin20 R is free software and comes with ABSOLUTELY NO WARRANTY. You are welcome to redistribute it under certain conditions. Type 'license()' or 'licence()' for distribution details. R is a collaborative project with many contributors. Type 'contributors()' for more information and 'citation()' on how to cite R or R packages in publications. Type 'demo()' for some demos, 'help()' for on-line help, or 'help.start()' for an HTML browser interface to help. Type 'q()' to quit R. > library(testthat) > library(OUTRIDER) Loading required package: BiocParallel Loading required package: GenomicFeatures Loading required package: BiocGenerics Attaching package: 'BiocGenerics' The following objects are masked from 'package:stats': IQR, mad, sd, var, xtabs The following objects are masked from 'package:base': Filter, Find, Map, Position, Reduce, anyDuplicated, aperm, append, as.data.frame, basename, cbind, colnames, dirname, do.call, duplicated, eval, evalq, get, grep, grepl, intersect, is.unsorted, lapply, mapply, match, mget, order, paste, pmax, pmax.int, pmin, pmin.int, rank, rbind, rownames, sapply, setdiff, table, tapply, union, unique, unsplit, which.max, which.min Loading required package: S4Vectors Loading required package: stats4 Attaching package: 'S4Vectors' The following object is masked from 'package:utils': findMatches The following objects are masked from 'package:base': I, expand.grid, unname Loading required package: IRanges Loading required package: GenomeInfoDb Loading required package: GenomicRanges Loading required package: AnnotationDbi Loading required package: Biobase Welcome to Bioconductor Vignettes contain introductory material; view with 'browseVignettes()'. To cite Bioconductor, see 'citation("Biobase")', and for packages 'citation("pkgname")'. Loading required package: SummarizedExperiment Loading required package: MatrixGenerics Loading required package: matrixStats Attaching package: 'matrixStats' The following objects are masked from 'package:Biobase': anyMissing, rowMedians Attaching package: 'MatrixGenerics' The following objects are masked from 'package:matrixStats': colAlls, colAnyNAs, colAnys, colAvgsPerRowSet, colCollapse, colCounts, colCummaxs, colCummins, colCumprods, colCumsums, colDiffs, colIQRDiffs, colIQRs, colLogSumExps, colMadDiffs, colMads, colMaxs, colMeans2, colMedians, colMins, colOrderStats, colProds, colQuantiles, colRanges, colRanks, colSdDiffs, colSds, colSums2, colTabulates, colVarDiffs, colVars, colWeightedMads, colWeightedMeans, colWeightedMedians, colWeightedSds, colWeightedVars, rowAlls, rowAnyNAs, rowAnys, rowAvgsPerColSet, rowCollapse, rowCounts, rowCummaxs, rowCummins, rowCumprods, rowCumsums, rowDiffs, rowIQRDiffs, rowIQRs, rowLogSumExps, rowMadDiffs, rowMads, rowMaxs, rowMeans2, rowMedians, rowMins, rowOrderStats, rowProds, rowQuantiles, rowRanges, rowRanks, rowSdDiffs, rowSds, rowSums2, rowTabulates, rowVarDiffs, rowVars, rowWeightedMads, rowWeightedMeans, rowWeightedMedians, rowWeightedSds, rowWeightedVars The following object is masked from 'package:Biobase': rowMedians Loading required package: data.table Attaching package: 'data.table' The following object is masked from 'package:SummarizedExperiment': shift The following object is masked from 'package:GenomicRanges': shift The following object is masked from 'package:IRanges': shift The following objects are masked from 'package:S4Vectors': first, second > > register(SerialParam()) > > test_check("OUTRIDER") [1] "Wed Mar 27 23:06:56 2024: Initial PCA loss: 6.35227763111014" [1] "Wed Mar 27 23:06:57 2024: Iteration: 1 loss: 4.57953564310833" [1] "Wed Mar 27 23:06:58 2024: Iteration: 2 loss: 4.52456168367337" [1] "Wed Mar 27 23:06:59 2024: Iteration: 3 loss: 4.50872348846876" [1] "Wed Mar 27 23:07:00 2024: Iteration: 4 loss: 4.49775017688599" [1] "Wed Mar 27 23:07:00 2024: Iteration: 5 loss: 4.48782404977097" [1] "Wed Mar 27 23:07:01 2024: Iteration: 6 loss: 4.46794120127924" Time difference of 4.832131 secs [1] "Wed Mar 27 23:07:01 2024: 6 Final nb-AE loss: 4.46794120127924" [1] "Wed Mar 27 23:07:02 2024: Initial PCA loss: 6.35227763111014" [1] "Wed Mar 27 23:07:04 2024: Iteration: 1 loss: 4.57953564310833" [1] "Wed Mar 27 23:07:05 2024: Iteration: 2 loss: 4.52456168367337" [1] "Wed Mar 27 23:07:06 2024: Iteration: 3 loss: 4.50872348846876" [1] "Wed Mar 27 23:07:07 2024: Iteration: 4 loss: 4.49775017688599" [1] "Wed Mar 27 23:07:08 2024: Iteration: 5 loss: 4.48782404977097" [1] "Wed Mar 27 23:07:09 2024: Iteration: 6 loss: 4.46794120127924" Time difference of 5.425944 secs [1] "Wed Mar 27 23:07:09 2024: 6 Final nb-AE loss: 4.46794120127924" class: OutriderDataSet class: RangedSummarizedExperiment dim: 100 50 metadata(1): version assays(1): counts rownames(100): ENSG00000223972.4 ENSG00000227232.4 ... ENSG00000107404.13 ENSG00000162576.12 rowData names(0): colnames(50): GTEX.UPK5.0426.SM.3GAEK GTEX.WFG7.2026.SM.3GIL7 ... GTEX.11UD2.2526.SM.5CVNU GTEX.13O61.1426.SM.5KM3D colData names(1): sampleID [1] "Wed Mar 27 23:07:25 2024: Initial PCA loss: 4.47695070706255" [1] "Wed Mar 27 23:07:26 2024: Iteration: 1 loss: 4.11095529027036" [1] "Wed Mar 27 23:07:27 2024: Iteration: 2 loss: 4.09757835992789" Time difference of 1.729635 secs [1] "Wed Mar 27 23:07:27 2024: 2 Final nb-AE loss: 4.09757835992789" [1] "Evaluation loss: 0.40312516977505 for q=3" [1] "Wed Mar 27 23:07:28 2024: Initial PCA loss: 4.44248418467854" [1] "Wed Mar 27 23:07:30 2024: Iteration: 1 loss: 4.03947460333123" [1] "Wed Mar 27 23:07:31 2024: Iteration: 2 loss: 4.0281316601686" Time difference of 1.674979 secs [1] "Wed Mar 27 23:07:31 2024: 2 Final nb-AE loss: 4.0281316601686" [1] "Evaluation loss: 0.313623435569986 for q=4" [1] "Wed Mar 27 23:07:32 2024: Initial PCA loss: 4.4187778846463" [1] "Wed Mar 27 23:07:33 2024: Iteration: 1 loss: 3.9384632536914" [1] "Wed Mar 27 23:07:34 2024: Iteration: 2 loss: 3.9071366615659" Time difference of 1.629314 secs [1] "Wed Mar 27 23:07:34 2024: 2 Final nb-AE loss: 3.9071366615659" [1] "Evaluation loss: 0.351863099814551 for q=5" [1] "Wed Mar 27 23:07:45 2024: Initial PCA loss: 6.46616282459584" [1] "Wed Mar 27 23:07:47 2024: Iteration: 1 loss: 4.81562907245538" [1] "Wed Mar 27 23:07:48 2024: Iteration: 2 loss: 4.78987290550184" Time difference of 2.192127 secs [1] "Wed Mar 27 23:07:48 2024: 2 Final nb-AE loss: 4.78987290550184" Error in x$.self$finalize() : attempt to apply non-function [ FAIL 0 | WARN 8 | SKIP 0 | PASS 103 ] [ FAIL 0 | WARN 8 | SKIP 0 | PASS 103 ] Warning message: call dbDisconnect() when finished working with a connection > > proc.time() user system elapsed 85.108 2.481 88.622
OUTRIDER.Rcheck/OUTRIDER-Ex.timings
name | user | system | elapsed | |
OUTRIDER | 12.509 | 2.723 | 13.950 | |
OutriderDataSet-class | 1.060 | 0.091 | 1.167 | |
aberrant | 2.296 | 0.821 | 2.270 | |
computeGeneLength | 2.000 | 0.198 | 2.228 | |
computeLatentSpace | 0.976 | 0.017 | 0.999 | |
computePvalues | 2.963 | 2.027 | 3.432 | |
computeZscores | 1.233 | 0.123 | 1.374 | |
controlForConfounders | 1.564 | 0.088 | 1.674 | |
counts | 0.749 | 0.013 | 0.768 | |
estimateBestQ | 0.516 | 0.008 | 0.529 | |
filterExpression | 1.974 | 0.048 | 2.047 | |
findEncodingDim | 14.201 | 0.352 | 14.694 | |
fit | 0.927 | 0.014 | 0.948 | |
fpkm | 0.826 | 0.011 | 0.843 | |
getter_setter_functions | 3.713 | 0.060 | 3.822 | |
makeExampleOutriderDataSet | 1.451 | 0.016 | 1.485 | |
normalizationFactors | 0.835 | 0.008 | 0.848 | |
plotFunctions | 8.724 | 0.503 | 9.474 | |
results | 3.657 | 0.049 | 3.732 | |
sampleExclusionMask | 0.538 | 0.007 | 0.549 | |
sizeFactors | 0.746 | 0.007 | 0.756 | |