Back to Multiple platform build/check report for BioC 3.16
ABCDEFGHIJKL[M]NOPQRSTUVWXYZ

This page was generated on 2022-08-18 11:05:34 -0400 (Thu, 18 Aug 2022).

HostnameOSArch (*)R versionInstalled pkgs
nebbiolo2Linux (Ubuntu 20.04.4 LTS)x86_644.2.1 (2022-06-23) -- "Funny-Looking Kid" 4379
palomino4Windows Server 2022 Datacenterx644.2.1 (2022-06-23 ucrt) -- "Funny-Looking Kid" 4161
lconwaymacOS 12.2.1 Montereyx86_644.2.1 Patched (2022-07-09 r82577) -- "Funny-Looking Kid" 4169
Click on any hostname to see more info about the system (e.g. compilers)      (*) as reported by 'uname -p', except on Windows and Mac OS X

BUILD results for monocle on nebbiolo2


To the developers/maintainers of the monocle package:
- Please allow up to 24 hours (and sometimes 48 hours) for your latest push to git@git.bioconductor.org:packages/monocle.git to
reflect on this report. See How and When does the builder pull? When will my changes propagate? for more information.
- Make sure to use the following settings in order to reproduce any error or warning you see on this page.

raw results

Package 1226/2140HostnameOS / ArchINSTALLBUILDCHECKBUILD BIN
monocle 2.25.1  (landing page)
Cole Trapnell
Snapshot Date: 2022-08-17 14:00:04 -0400 (Wed, 17 Aug 2022)
git_url: https://git.bioconductor.org/packages/monocle
git_branch: master
git_last_commit: df410d6
git_last_commit_date: 2022-06-08 17:26:28 -0400 (Wed, 08 Jun 2022)
nebbiolo2Linux (Ubuntu 20.04.4 LTS) / x86_64  OK    OK    OK  UNNEEDED, same version is already published
palomino4Windows Server 2022 Datacenter / x64  OK    OK    OK    OK  UNNEEDED, same version is already published
lconwaymacOS 12.2.1 Monterey / x86_64  OK    OK    OK    OK  UNNEEDED, same version is already published

Summary

Package: monocle
Version: 2.25.1
Command: /home/biocbuild/bbs-3.16-bioc/R/bin/R CMD build --keep-empty-dirs --no-resave-data monocle
StartedAt: 2022-08-17 16:59:00 -0400 (Wed, 17 Aug 2022)
EndedAt: 2022-08-17 16:59:32 -0400 (Wed, 17 Aug 2022)
EllapsedTime: 32.2 seconds
RetCode: 0
Status:   OK  
PackageFile: monocle_2.25.1.tar.gz
PackageFileSize: 8.949 MiB

Command output

##############################################################################
##############################################################################
###
### Running command:
###
###   /home/biocbuild/bbs-3.16-bioc/R/bin/R CMD build --keep-empty-dirs --no-resave-data monocle
###
##############################################################################
##############################################################################


* checking for file ‘monocle/DESCRIPTION’ ... OK
* preparing ‘monocle’:
* checking DESCRIPTION meta-information ... OK
* cleaning src
* installing the package to build vignettes
* creating vignettes ... OK
* cleaning src
* checking for LF line-endings in source and make files and shell scripts
* checking for empty or unneeded directories
* building ‘monocle_2.25.1.tar.gz’