Back to Multiple platform build/check report for BioC 3.14
ABCDEFGH[I]JKLMNOPQRSTUVWXYZ

This page was generated on 2021-10-14 12:05:09 -0400 (Thu, 14 Oct 2021).

BUILD results for IsoformSwitchAnalyzeR on nebbiolo2

To the developers/maintainers of the IsoformSwitchAnalyzeR package:
- Please allow up to 24 hours (and sometimes 48 hours) for your latest push to git@git.bioconductor.org:packages/IsoformSwitchAnalyzeR.git to
reflect on this report. See How and When does the builder pull? When will my changes propagate? here for more information.
- Make sure to use the following settings in order to reproduce any error or warning you see on this page.

raw results

Package 949/2056HostnameOS / ArchINSTALLBUILDCHECKBUILD BIN
IsoformSwitchAnalyzeR 1.15.02  (landing page)
Kristoffer Vitting-Seerup
Snapshot Date: 2021-10-13 14:50:09 -0400 (Wed, 13 Oct 2021)
git_url: https://git.bioconductor.org/packages/IsoformSwitchAnalyzeR
git_branch: master
git_last_commit: 01aa984
git_last_commit_date: 2021-09-14 06:20:29 -0400 (Tue, 14 Sep 2021)
nebbiolo2Linux (Ubuntu 20.04.2 LTS) / x86_64  OK    OK    OK  UNNEEDED, same version is already published
riesling1Windows Server 2019 Standard / x64  OK    OK    OK    OK  UNNEEDED, same version is already published
merida1macOS 10.14.6 Mojave / x86_64  OK    OK    OK    OK  UNNEEDED, same version is already published

Summary

Package: IsoformSwitchAnalyzeR
Version: 1.15.02
Command: /home/biocbuild/bbs-3.14-bioc/R/bin/R CMD build --keep-empty-dirs --no-resave-data IsoformSwitchAnalyzeR
StartedAt: 2021-10-13 17:40:12 -0400 (Wed, 13 Oct 2021)
EndedAt: 2021-10-13 17:43:26 -0400 (Wed, 13 Oct 2021)
EllapsedTime: 194.1 seconds
RetCode: 0
Status:   OK  
PackageFile: IsoformSwitchAnalyzeR_1.15.02.tar.gz
PackageFileSize: 5.139 MiB

Command output

##############################################################################
##############################################################################
###
### Running command:
###
###   /home/biocbuild/bbs-3.14-bioc/R/bin/R CMD build --keep-empty-dirs --no-resave-data IsoformSwitchAnalyzeR
###
##############################################################################
##############################################################################


* checking for file ‘IsoformSwitchAnalyzeR/DESCRIPTION’ ... OK
* preparing ‘IsoformSwitchAnalyzeR’:
* checking DESCRIPTION meta-information ... OK
* cleaning src
* installing the package to build vignettes
* creating vignettes ... OK
* cleaning src
* checking for LF line-endings in source and make files and shell scripts
* checking for empty or unneeded directories
* looking to see if a ‘data/datalist’ file should be added
* building ‘IsoformSwitchAnalyzeR_1.15.02.tar.gz’