Back to Multiple platform build/check report for BioC 3.17:   simplified   long
ABCDEFGHIJKLMNOPQ[R]STUVWXYZ

This page was generated on 2023-03-20 11:04:38 -0400 (Mon, 20 Mar 2023).

HostnameOSArch (*)R versionInstalled pkgs
nebbiolo1Linux (Ubuntu 22.04.1 LTS)x86_64R Under development (unstable) (2023-03-16 r83996) -- "Unsuffered Consequences" 4297
palomino3Windows Server 2022 Datacenterx64R Under development (unstable) (2023-03-15 r83984 ucrt) -- "Unsuffered Consequences" 4286
merida1macOS 10.14.6 Mojavex86_64R Under development (unstable) (2023-03-16 r83985) -- "Unsuffered Consequences" 4150
Click on any hostname to see more info about the system (e.g. compilers)      (*) as reported by 'uname -p', except on Windows and Mac OS X

All results for package RCy3


To the developers/maintainers of the RCy3 package:
- Please allow up to 24 hours (and sometimes 48 hours) for your latest push to git@git.bioconductor.org:packages/RCy3.git to
reflect on this report. See How and When does the builder pull? When will my changes propagate? for more information.
- Make sure to use the following settings in order to reproduce any error or warning you see on this page.

raw results

Package 1628/2189HostnameOS / ArchINSTALLBUILDCHECKBUILD BIN
RCy3 2.19.0  (landing page)
Alex Pico
Snapshot Date: 2023-03-19 14:00:12 -0400 (Sun, 19 Mar 2023)
git_url: https://git.bioconductor.org/packages/RCy3
git_branch: master
git_last_commit: 92d567f
git_last_commit_date: 2023-01-31 03:46:17 -0400 (Tue, 31 Jan 2023)
nebbiolo1Linux (Ubuntu 22.04.1 LTS) / x86_64  OK    OK    OK  UNNEEDED, same version is already published
palomino3Windows Server 2022 Datacenter / x64  OK    OK    OK    OK  UNNEEDED, same version is already published
merida1macOS 10.14.6 Mojave / x86_64  OK    OK    OK    OK  UNNEEDED, same version is already published

Results for Bioconductor software packages that depend directly on package RCy3

QUICK STATSOS / ArchINSTALLBUILDCHECKBUILD BIN
nebbiolo1Linux (Ubuntu 22.04.1 LTS) / x86_64
0010
0010
1009
palomino3Windows Server 2022 Datacenter / x64
009
009
0108
009
merida1macOS 10.14.6 Mojave / x86_64
009
108
0107
008
Package 1/10HostnameOS / ArchINSTALLBUILDCHECKBUILD BIN
categoryCompare 1.43.0  (landing page)
Robert M. Flight
git_last_commit: d82fecd
git_last_commit_date: 2022-11-01 11:06:57 -0400
nebbiolo1Linux (Ubuntu 22.04.1 LTS) / x86_64  OK    OK    OK  UNNEEDED, same version is already published
palomino3Windows Server 2022 Datacenter / x64  OK    OK    OK    OK  UNNEEDED, same version is already published
merida1macOS 10.14.6 Mojave / x86_64  OK    OK    OK    OK  UNNEEDED, same version is already published
Package 2/10HostnameOS / ArchINSTALLBUILDCHECKBUILD BIN
CeTF 1.11.2  (landing page)
Carlos Alberto Oliveira de Biagi Junior
git_last_commit: 4372834
git_last_commit_date: 2023-01-26 11:52:13 -0400
nebbiolo1Linux (Ubuntu 22.04.1 LTS) / x86_64  OK    OK    OK  UNNEEDED, same version is already published
palomino3Windows Server 2022 Datacenter / x64  OK    OK    OK    OK  UNNEEDED, same version is already published
merida1macOS 10.14.6 Mojave / x86_64  OK    OK    OK    OK  UNNEEDED, same version is already published
Package 3/10HostnameOS / ArchINSTALLBUILDCHECKBUILD BIN
fedup 1.7.0  (landing page)
Catherine Ross
git_last_commit: ba52c15
git_last_commit_date: 2022-11-01 11:24:21 -0400
nebbiolo1Linux (Ubuntu 22.04.1 LTS) / x86_64  OK    OK    OK  UNNEEDED, same version is already published
palomino3Windows Server 2022 Datacenter / x64  OK    OK    OK    OK  UNNEEDED, same version is already published
merida1macOS 10.14.6 Mojave / x86_64  OK    OK    OK    OK  UNNEEDED, same version is already published
Package 4/10HostnameOS / ArchINSTALLBUILDCHECKBUILD BIN
MetaPhOR 1.1.0  (landing page)
Emily Isenhart
git_last_commit: 17e38d0
git_last_commit_date: 2022-11-01 11:27:43 -0400
nebbiolo1Linux (Ubuntu 22.04.1 LTS) / x86_64  OK    OK    OK  UNNEEDED, same version is already published
palomino3Windows Server 2022 Datacenter / x64  OK    OK    OK    OK  UNNEEDED, same version is already published
merida1macOS 10.14.6 Mojave / x86_64  OK    TIMEOUT  skippedskipped
Package 5/10HostnameOS / ArchINSTALLBUILDCHECKBUILD BIN
MOGAMUN 1.9.0  (landing page)
Elva-MarĂ­a Novoa-del-Toro
git_last_commit: c901fa5
git_last_commit_date: 2022-11-01 11:23:13 -0400
nebbiolo1Linux (Ubuntu 22.04.1 LTS) / x86_64  OK    OK    OK  UNNEEDED, same version is already published
palomino3Windows Server 2022 Datacenter / x64  OK    OK    OK    OK  UNNEEDED, same version is already published
merida1macOS 10.14.6 Mojave / x86_64  OK    OK    OK    OK  UNNEEDED, same version is already published
Package 6/10HostnameOS / ArchINSTALLBUILDCHECKBUILD BIN
NCIgraph 1.47.0  (landing page)
Laurent Jacob
git_last_commit: 5be4f0a
git_last_commit_date: 2022-11-01 11:05:48 -0400
nebbiolo1Linux (Ubuntu 22.04.1 LTS) / x86_64  OK    OK    OK  UNNEEDED, same version is already published
palomino3Windows Server 2022 Datacenter / x64... NOT SUPPORTED ...
merida1macOS 10.14.6 Mojave / x86_64... NOT SUPPORTED ...
Package 7/10HostnameOS / ArchINSTALLBUILDCHECKBUILD BIN
netZooR 1.3.5  (landing page)
Marouen Ben Guebila
git_last_commit: 4c5e16e
git_last_commit_date: 2023-03-18 23:12:59 -0400
nebbiolo1Linux (Ubuntu 22.04.1 LTS) / x86_64  OK    OK    TIMEOUT  
palomino3Windows Server 2022 Datacenter / x64  OK    OK    ERROR    OK  
merida1macOS 10.14.6 Mojave / x86_64  OK    OK    ERROR    OK  
Package 8/10HostnameOS / ArchINSTALLBUILDCHECKBUILD BIN
regutools 1.11.0  (landing page)
Joselyn Chavez
git_last_commit: cdbd584
git_last_commit_date: 2022-11-01 11:22:01 -0400
nebbiolo1Linux (Ubuntu 22.04.1 LTS) / x86_64  OK    OK    OK  UNNEEDED, same version is already published
palomino3Windows Server 2022 Datacenter / x64  OK    OK    OK    OK  UNNEEDED, same version is already published
merida1macOS 10.14.6 Mojave / x86_64  OK    OK    OK    OK  UNNEEDED, same version is already published
Package 9/10HostnameOS / ArchINSTALLBUILDCHECKBUILD BIN
TimiRGeN 1.9.0  (landing page)
Krutik Patel
git_last_commit: 08fc888
git_last_commit_date: 2022-11-01 11:22:47 -0400
nebbiolo1Linux (Ubuntu 22.04.1 LTS) / x86_64  OK    OK    OK  UNNEEDED, same version is already published
palomino3Windows Server 2022 Datacenter / x64  OK    OK    OK    OK  UNNEEDED, same version is already published
merida1macOS 10.14.6 Mojave / x86_64  OK    OK    OK    OK  UNNEEDED, same version is already published
Package 10/10HostnameOS / ArchINSTALLBUILDCHECKBUILD BIN
transomics2cytoscape 1.9.0  (landing page)
Kozo Nishida
git_last_commit: 1ebedb4
git_last_commit_date: 2022-11-01 11:22:31 -0400
nebbiolo1Linux (Ubuntu 22.04.1 LTS) / x86_64  OK    OK    OK  UNNEEDED, same version is already published
palomino3Windows Server 2022 Datacenter / x64  OK    OK    OK    OK  UNNEEDED, same version is already published
merida1macOS 10.14.6 Mojave / x86_64  OK    OK    OK    OK  UNNEEDED, same version is already published