Back to Multiple platform build/check report for BioC 3.18:   simplified   long
ABCDEFGHIJKLMNO[P]QRSTUVWXYZ

This page was generated on 2023-09-26 11:37:00 -0400 (Tue, 26 Sep 2023).

HostnameOSArch (*)R versionInstalled pkgs
nebbiolo2Linux (Ubuntu 22.04.2 LTS)x86_644.3.1 (2023-06-16) -- "Beagle Scouts" 4659
palomino4Windows Server 2022 Datacenterx644.3.1 (2023-06-16 ucrt) -- "Beagle Scouts" 4394
lconwaymacOS 12.6.5 Montereyx86_644.3.1 Patched (2023-06-17 r84564) -- "Beagle Scouts" 4408
kunpeng2Linux (openEuler 22.03 LTS-SP1)aarch644.3.1 (2023-06-16) -- "Beagle Scouts" 4397
Click on any hostname to see more info about the system (e.g. compilers)      (*) as reported by 'uname -p', except on Windows and Mac OS X

Package 1569/2233HostnameOS / ArchINSTALLBUILDCHECKBUILD BIN
profileplyr 1.17.0  (landing page)
Tom Carroll , Doug Barrows
Snapshot Date: 2023-09-25 14:05:08 -0400 (Mon, 25 Sep 2023)
git_url: https://git.bioconductor.org/packages/profileplyr
git_branch: devel
git_last_commit: 1e507e5
git_last_commit_date: 2023-04-25 11:09:25 -0400 (Tue, 25 Apr 2023)
nebbiolo2Linux (Ubuntu 22.04.2 LTS) / x86_64  OK    OK    OK  UNNEEDED, same version is already published
palomino4Windows Server 2022 Datacenter / x64  OK    OK    OK    OK  UNNEEDED, same version is already published
lconwaymacOS 12.6.5 Monterey / x86_64  OK    OK    OK    OK  UNNEEDED, same version is already published
kunpeng2Linux (openEuler 22.03 LTS-SP1) / aarch64  OK    OK    OK  

BUILD results for profileplyr on nebbiolo2


To the developers/maintainers of the profileplyr package:
- Allow up to 24 hours (and sometimes 48 hours) for your latest push to git@git.bioconductor.org:packages/profileplyr.git to reflect on this report. See Troubleshooting Build Report for more information.
- Use the following Renviron settings to reproduce errors and warnings.
- If 'R CMD check' started to fail recently on the Linux builder(s) over a missing dependency, add the missing dependency to 'Suggests:' in your DESCRIPTION file. See Renviron.bioc for more information.

raw results


Summary

Package: profileplyr
Version: 1.17.0
Command: /home/biocbuild/bbs-3.18-bioc/R/bin/R CMD build --keep-empty-dirs --no-resave-data profileplyr
StartedAt: 2023-09-25 18:11:17 -0400 (Mon, 25 Sep 2023)
EndedAt: 2023-09-25 18:14:01 -0400 (Mon, 25 Sep 2023)
EllapsedTime: 163.1 seconds
RetCode: 0
Status:   OK  
PackageFile: profileplyr_1.17.0.tar.gz
PackageFileSize: 2.412 MiB

Command output

##############################################################################
##############################################################################
###
### Running command:
###
###   /home/biocbuild/bbs-3.18-bioc/R/bin/R CMD build --keep-empty-dirs --no-resave-data profileplyr
###
##############################################################################
##############################################################################


* checking for file ‘profileplyr/DESCRIPTION’ ... OK
* preparing ‘profileplyr’:
* checking DESCRIPTION meta-information ... OK
* installing the package to build vignettes
* creating vignettes ... OK
* checking for LF line-endings in source and make files and shell scripts
* checking for empty or unneeded directories
* looking to see if a ‘data/datalist’ file should be added
* building ‘profileplyr_1.17.0.tar.gz’