Back to Multiple platform build/check report for BioC 3.13
ABCDEFGHIJKLMNOPQ[R]STUVWXYZ

Multiple platform build/check report for BioC 3.13

Results for R4RNA

This page was generated on 2020-11-24 12:01:41 -0500 (Tue, 24 Nov 2020).

Package 1393/1907HostnameOS / ArchINSTALLBUILDCHECKBUILD BIN
R4RNA 1.19.0
Daniel Lai
Snapshot Date: 2020-11-23 14:41:10 -0500 (Mon, 23 Nov 2020)
URL: https://git.bioconductor.org/packages/R4RNA
Branch: master
Last Commit: ba7bf7c
Last Changed Date: 2020-10-27 11:09:25 -0500 (Tue, 27 Oct 2020)
malbec2 Linux (Ubuntu 20.04.1 LTS) / x86_64  OK  OK  OK UNNEEDED, same version exists in internal repository
tokay2 Windows Server 2012 R2 Standard / x64  OK  OK  OK  OK UNNEEDED, same version exists in internal repository
riesling1 Windows Server 2019 Standard / x64  OK  OK  OK  OK 
machv2 macOS 10.14.6 Mojave / x86_64  OK  OK  OK  OK UNNEEDED, same version exists in internal repository