Back to Multiple platform build/check report for BioC 3.18:   simplified   long
ABCDEFGHIJKL[M]NOPQRSTUVWXYZ

This page was generated on 2023-06-01 11:30:24 -0400 (Thu, 01 Jun 2023).

HostnameOSArch (*)R versionInstalled pkgs
nebbiolo2Linux (Ubuntu 22.04.2 LTS)x86_644.3.0 RC (2023-04-18 r84287) -- "Already Tomorrow" 4588
palomino4Windows Server 2022 Datacenterx644.3.0 RC (2023-04-18 r84287 ucrt) -- "Already Tomorrow" 4337
lconwaymacOS 12.6.5 Montereyx86_644.3.0 RC (2023-04-13 r84266) -- "Already Tomorrow" 4338
Click on any hostname to see more info about the system (e.g. compilers)      (*) as reported by 'uname -p', except on Windows and Mac OS X

All results for package mixOmics


To the developers/maintainers of the mixOmics package:
- Allow up to 24 hours (and sometimes 48 hours) for your latest push to git@git.bioconductor.org:packages/mixOmics.git to reflect on this report. See Troubleshooting Build Report for more information.

- Use the following Renviron settings to reproduce errors and warnings.

Note: If "R CMD check" recently failed on the Linux builder over a missing dependency, add the missing dependency to "Suggests" in your DESCRIPTION file. See the Renviron.bioc for details.

raw results

Package 1238/2197HostnameOS / ArchINSTALLBUILDCHECKBUILD BIN
mixOmics 6.25.0  (landing page)
Max Bladen
Snapshot Date: 2023-05-31 14:00:03 -0400 (Wed, 31 May 2023)
git_url: https://git.bioconductor.org/packages/mixOmics
git_branch: devel
git_last_commit: 54731ea
git_last_commit_date: 2023-04-25 11:06:06 -0400 (Tue, 25 Apr 2023)
nebbiolo2Linux (Ubuntu 22.04.2 LTS) / x86_64  OK    OK    ERROR  
palomino4Windows Server 2022 Datacenter / x64  OK    OK    OK    OK  
lconwaymacOS 12.6.5 Monterey / x86_64  OK    OK    OK    OK  

Results for Bioconductor software packages that depend directly on package mixOmics

QUICK STATSOS / ArchINSTALLBUILDCHECKBUILD BIN
nebbiolo2Linux (Ubuntu 22.04.2 LTS) / x86_64
005
005
0104
palomino4Windows Server 2022 Datacenter / x64
005
014
0103
004
lconwaymacOS 12.6.5 Monterey / x86_64
005
005
0104
005
Package 1/5HostnameOS / ArchINSTALLBUILDCHECKBUILD BIN
AlpsNMR 4.3.0  (landing page)
Sergio Oller Moreno
git_last_commit: 2a21cd0
git_last_commit_date: 2023-04-25 11:24:59 -0400
nebbiolo2Linux (Ubuntu 22.04.2 LTS) / x86_64  OK    OK    OK  NO, package depends on 'mixOmics' which is not available
palomino4Windows Server 2022 Datacenter / x64  OK    ERROR  skippedskipped
lconwaymacOS 12.6.5 Monterey / x86_64  OK    OK    OK    OK  
Package 2/5HostnameOS / ArchINSTALLBUILDCHECKBUILD BIN
DepecheR 1.17.0  (landing page)
Jakob Theorell
git_last_commit: 5e999ba
git_last_commit_date: 2023-04-25 11:08:33 -0400
nebbiolo2Linux (Ubuntu 22.04.2 LTS) / x86_64  OK    OK    OK  NO, package depends on 'mixOmics' which is not available
palomino4Windows Server 2022 Datacenter / x64  OK    OK    OK    OK  
lconwaymacOS 12.6.5 Monterey / x86_64  OK    OK    OK    OK  
Package 3/5HostnameOS / ArchINSTALLBUILDCHECKBUILD BIN
multiSight 1.9.0  (landing page)
Florian Jeanneret
git_last_commit: 3791ec8
git_last_commit_date: 2023-04-25 11:29:23 -0400
nebbiolo2Linux (Ubuntu 22.04.2 LTS) / x86_64  OK    OK    ERROR  
palomino4Windows Server 2022 Datacenter / x64  OK    OK    ERROR    OK  
lconwaymacOS 12.6.5 Monterey / x86_64  OK    OK    ERROR    OK  
Package 4/5HostnameOS / ArchINSTALLBUILDCHECKBUILD BIN
POMA 1.11.0  (landing page)
Pol Castellano-Escuder
git_last_commit: e2a8660
git_last_commit_date: 2023-04-25 11:21:26 -0400
nebbiolo2Linux (Ubuntu 22.04.2 LTS) / x86_64  OK    OK    OK  NO, package depends on 'mixOmics' which is not available
palomino4Windows Server 2022 Datacenter / x64  OK    OK    OK    OK  
lconwaymacOS 12.6.5 Monterey / x86_64  OK    OK    OK    OK  
Package 5/5HostnameOS / ArchINSTALLBUILDCHECKBUILD BIN
timeOmics 1.13.0  (landing page)
Antoine Bodein
git_last_commit: 05c478f
git_last_commit_date: 2023-04-25 11:17:05 -0400
nebbiolo2Linux (Ubuntu 22.04.2 LTS) / x86_64  OK    OK    OK  NO, package depends on 'mixOmics' which is not available
palomino4Windows Server 2022 Datacenter / x64  OK    OK    OK    OK  
lconwaymacOS 12.6.5 Monterey / x86_64  OK    OK    OK    OK