Back to Multiple platform build/check report for BioC 3.16
ABCDEF[G]HIJKLMNOPQRSTUVWXYZ

This page was generated on 2022-05-14 11:04:28 -0400 (Sat, 14 May 2022).

HostnameOSArch (*)R versionInstalled pkgs
nebbiolo2Linux (Ubuntu 20.04.4 LTS)x86_644.2.0 RC (2022-04-21 r82226) -- "Vigorous Calisthenics" 4351
palomino4Windows Server 2022 Datacenterx644.2.0 Patched (2022-04-24 r82246 ucrt) -- "Vigorous Calisthenics" 4122
lconwaymacOS 12.2.1 Montereyx86_644.2.0 Patched (2022-04-24 r82246) -- "Vigorous Calisthenics" 4132
Click on any hostname to see more info about the system (e.g. compilers)      (*) as reported by 'uname -p', except on Windows and Mac OS X

All results for package graphite


To the developers/maintainers of the graphite package:
- Please allow up to 24 hours (and sometimes 48 hours) for your latest push to git@git.bioconductor.org:packages/graphite.git to
reflect on this report. See How and When does the builder pull? When will my changes propagate? for more information.
- Make sure to use the following settings in order to reproduce any error or warning you see on this page.

raw results

Package 833/2112HostnameOS / ArchINSTALLBUILDCHECKBUILD BIN
graphite 1.43.0  (landing page)
Gabriele Sales
Snapshot Date: 2022-05-13 13:55:06 -0400 (Fri, 13 May 2022)
git_url: https://git.bioconductor.org/packages/graphite
git_branch: master
git_last_commit: b9a8e06
git_last_commit_date: 2022-04-26 11:08:45 -0400 (Tue, 26 Apr 2022)
nebbiolo2Linux (Ubuntu 20.04.4 LTS) / x86_64  OK    OK    OK  UNNEEDED, same version is already published
palomino4Windows Server 2022 Datacenter / x64  OK    OK    OK    OK  UNNEEDED, same version is already published
lconwaymacOS 12.2.1 Monterey / x86_64  OK    OK    OK    OK  NO, package depends on 'AnnotationDbi' which is not available

Results for Bioconductor software packages that depend directly on package graphite

QUICK STATSOS / ArchINSTALLBUILDCHECKBUILD BIN
nebbiolo2Linux (Ubuntu 20.04.4 LTS) / x86_64
008
008
0017
palomino4Windows Server 2022 Datacenter / x64
008
017
0016
007
lconwaymacOS 12.2.1 Monterey / x86_64
008
017
0016
007
Package 1/8HostnameOS / ArchINSTALLBUILDCHECKBUILD BIN
dce 1.5.1  (landing page)
Kim Philipp Jablonski
git_last_commit: c6b8336
git_last_commit_date: 2022-05-10 09:15:34 -0400
nebbiolo2Linux (Ubuntu 20.04.4 LTS) / x86_64  OK    OK    OK  UNNEEDED, same version is already published
palomino4Windows Server 2022 Datacenter / x64  OK    OK    OK    OK  UNNEEDED, same version is already published
lconwaymacOS 12.2.1 Monterey / x86_64  OK    OK    OK    OK  NO, package depends on 'graphite' which is not available
Package 2/8HostnameOS / ArchINSTALLBUILDCHECKBUILD BIN
EnrichmentBrowser 2.27.0  (landing page)
Ludwig Geistlinger
git_last_commit: 166f089
git_last_commit_date: 2022-04-26 11:21:31 -0400
nebbiolo2Linux (Ubuntu 20.04.4 LTS) / x86_64  OK    OK    OK  UNNEEDED, same version is already published
palomino4Windows Server 2022 Datacenter / x64  OK    OK    OK    OK  UNNEEDED, same version is already published
lconwaymacOS 12.2.1 Monterey / x86_64  OK    OK    OK    OK  NO, package depends on 'SummarizedExperiment' which is not available
Package 3/8HostnameOS / ArchINSTALLBUILDCHECKBUILD BIN
mogsa 1.31.0  (landing page)
Chen Meng
git_last_commit: e15c4c6
git_last_commit_date: 2022-04-26 11:24:48 -0400
nebbiolo2Linux (Ubuntu 20.04.4 LTS) / x86_64  OK    OK    OK  UNNEEDED, same version is already published
palomino4Windows Server 2022 Datacenter / x64  OK    OK    OK    OK  UNNEEDED, same version is already published
lconwaymacOS 12.2.1 Monterey / x86_64  OK    OK    OK    OK  NO, package depends on 'graphite' which is not available
Package 4/8HostnameOS / ArchINSTALLBUILDCHECKBUILD BIN
multiGSEA 1.7.1  (landing page)
Sebastian Canzler
git_last_commit: 9ba5136
git_last_commit_date: 2022-04-28 01:24:54 -0400
nebbiolo2Linux (Ubuntu 20.04.4 LTS) / x86_64  OK    OK    OK  UNNEEDED, same version is already published
palomino4Windows Server 2022 Datacenter / x64  OK    OK    OK    OK  UNNEEDED, same version is already published
lconwaymacOS 12.2.1 Monterey / x86_64  OK    OK    OK    OK  NO, package depends on 'graphite' which is not available
Package 5/8HostnameOS / ArchINSTALLBUILDCHECKBUILD BIN
PoTRA 1.13.0  (landing page)
Margaret Linan
git_last_commit: 34eec3c
git_last_commit_date: 2022-04-26 11:53:50 -0400
nebbiolo2Linux (Ubuntu 20.04.4 LTS) / x86_64  OK    OK    OK  UNNEEDED, same version is already published
palomino4Windows Server 2022 Datacenter / x64  OK    ERROR  skippedskipped
lconwaymacOS 12.2.1 Monterey / x86_64  OK    ERROR  skippedskipped
Package 6/8HostnameOS / ArchINSTALLBUILDCHECKBUILD BIN
ReactomePA 1.41.0  (landing page)
Guangchuang Yu
git_last_commit: 79a22cd
git_last_commit_date: 2022-04-26 11:10:35 -0400
nebbiolo2Linux (Ubuntu 20.04.4 LTS) / x86_64  OK    OK    OK  UNNEEDED, same version is already published
palomino4Windows Server 2022 Datacenter / x64  OK    OK    OK    OK  UNNEEDED, same version is already published
lconwaymacOS 12.2.1 Monterey / x86_64  OK    OK    OK    OK  NO, package depends on 'AnnotationDbi' which is not available
Package 7/8HostnameOS / ArchINSTALLBUILDCHECKBUILD BIN
sSNAPPY 1.1.0  (landing page)
Wenjun Liu
git_last_commit: f22ebb1
git_last_commit_date: 2022-04-27 15:48:39 -0400
nebbiolo2Linux (Ubuntu 20.04.4 LTS) / x86_64  OK    OK    OK  UNNEEDED, same version is already published
palomino4Windows Server 2022 Datacenter / x64  OK    OK    OK    OK  UNNEEDED, same version is already published
lconwaymacOS 12.2.1 Monterey / x86_64  OK    OK    OK    OK  NO, package depends on 'graphite' which is not available
Package 8/8HostnameOS / ArchINSTALLBUILDCHECKBUILD BIN
StarBioTrek 1.23.0  (landing page)
Claudia Cava
git_last_commit: 53068a2
git_last_commit_date: 2022-04-26 11:37:09 -0400
nebbiolo2Linux (Ubuntu 20.04.4 LTS) / x86_64  OK    OK    WARNINGS  UNNEEDED, same version is already published
palomino4Windows Server 2022 Datacenter / x64  OK    OK    WARNINGS    OK  NO, package depends on 'SpidermiR' which is not available
lconwaymacOS 12.2.1 Monterey / x86_64  OK    OK    WARNINGS    OK  NO, package depends on 'SpidermiR' which is not available