Back to Multiple platform build/check report for BioC 3.15
ABCDEFGHIJKLMNOPQ[R]STUVWXYZ

This page was generated on 2021-11-30 13:54:12 -0500 (Tue, 30 Nov 2021).

All results for package RVS

To the developers/maintainers of the RVS package:
- Please allow up to 24 hours (and sometimes 48 hours) for your latest push to git@git.bioconductor.org:packages/RVS.git to
reflect on this report. See How and When does the builder pull? When will my changes propagate? here for more information.
- Make sure to use the following settings in order to reproduce any error or warning you see on this page.

raw results

Package 1671/2068HostnameOS / ArchINSTALLBUILDCHECKBUILD BIN
RVS 1.17.1  (landing page)
Thomas Sherman
Snapshot Date: 2021-11-29 14:50:17 -0500 (Mon, 29 Nov 2021)
git_url: https://git.bioconductor.org/packages/RVS
git_branch: master
git_last_commit: 955af65
git_last_commit_date: 2021-11-21 00:51:06 -0500 (Sun, 21 Nov 2021)
nebbiolo1Linux (Ubuntu 20.04.3 LTS) / x86_64  OK    ERROR  skipped
riesling1Windows Server 2019 Standard / x64  OK    ERROR  skippedskipped
merida1macOS 10.14.6 Mojave / x86_64  OK    ERROR  skippedskipped