Back to Multiple platform build/check report for BioC 3.14
ABCDEFGHIJKLMNOPQRS[T]UVWXYZ

This page was generated on 2021-10-18 12:03:55 -0400 (Mon, 18 Oct 2021).

BUILD results for TCC on nebbiolo2

To the developers/maintainers of the TCC package:
- Please allow up to 24 hours (and sometimes 48 hours) for your latest push to git@git.bioconductor.org:packages/TCC.git to
reflect on this report. See How and When does the builder pull? When will my changes propagate? here for more information.
- Make sure to use the following settings in order to reproduce any error or warning you see on this page.

raw results

Package 1914/2060HostnameOS / ArchINSTALLBUILDCHECKBUILD BIN
TCC 1.33.0  (landing page)
Jianqiang Sun
Snapshot Date: 2021-10-17 14:50:03 -0400 (Sun, 17 Oct 2021)
git_url: https://git.bioconductor.org/packages/TCC
git_branch: master
git_last_commit: c4c22b5
git_last_commit_date: 2021-05-19 12:00:26 -0400 (Wed, 19 May 2021)
nebbiolo2Linux (Ubuntu 20.04.2 LTS) / x86_64  OK    OK    OK  UNNEEDED, same version is already published
riesling1Windows Server 2019 Standard / x64  OK    OK    OK    OK  UNNEEDED, same version is already published
merida1macOS 10.14.6 Mojave / x86_64  OK    OK    OK    NA  

Summary

Package: TCC
Version: 1.33.0
Command: /home/biocbuild/bbs-3.14-bioc/R/bin/R CMD build --keep-empty-dirs --no-resave-data TCC
StartedAt: 2021-10-17 18:46:50 -0400 (Sun, 17 Oct 2021)
EndedAt: 2021-10-17 18:48:56 -0400 (Sun, 17 Oct 2021)
EllapsedTime: 125.5 seconds
RetCode: 0
Status:   OK  
PackageFile: TCC_1.33.0.tar.gz
PackageFileSize: 2.909 MiB

Command output

##############################################################################
##############################################################################
###
### Running command:
###
###   /home/biocbuild/bbs-3.14-bioc/R/bin/R CMD build --keep-empty-dirs --no-resave-data TCC
###
##############################################################################
##############################################################################


* checking for file ‘TCC/DESCRIPTION’ ... OK
* preparing ‘TCC’:
* checking DESCRIPTION meta-information ... OK
* installing the package to build vignettes
* creating vignettes ... OK
* checking for LF line-endings in source and make files and shell scripts
* checking for empty or unneeded directories
* looking to see if a ‘data/datalist’ file should be added
* building ‘TCC_1.33.0.tar.gz’