Back to Multiple platform build/check report for BioC 3.16
ABCD[E]FGHIJKLMNOPQRSTUVWXYZ

This page was generated on 2022-06-24 11:05:14 -0400 (Fri, 24 Jun 2022).

HostnameOSArch (*)R versionInstalled pkgs
nebbiolo2Linux (Ubuntu 20.04.4 LTS)x86_644.2.0 Patched (2022-06-02 r82447) -- "Vigorous Calisthenics" 4331
palomino4Windows Server 2022 Datacenterx644.2.0 Patched (2022-06-02 r82447 ucrt) -- "Vigorous Calisthenics" 4136
lconwaymacOS 12.2.1 Montereyx86_644.2.0 Patched (2022-05-29 r82424) -- "Vigorous Calisthenics" 4147
Click on any hostname to see more info about the system (e.g. compilers)      (*) as reported by 'uname -p', except on Windows and Mac OS X

CHECK results for epiNEM on nebbiolo2


To the developers/maintainers of the epiNEM package:
- Please allow up to 24 hours (and sometimes 48 hours) for your latest push to git@git.bioconductor.org:packages/epiNEM.git to
reflect on this report. See How and When does the builder pull? When will my changes propagate? for more information.
- Make sure to use the following settings in order to reproduce any error or warning you see on this page.

raw results

Package 606/2118HostnameOS / ArchINSTALLBUILDCHECKBUILD BIN
epiNEM 1.21.0  (landing page)
Martin Pirkl
Snapshot Date: 2022-06-23 14:00:04 -0400 (Thu, 23 Jun 2022)
git_url: https://git.bioconductor.org/packages/epiNEM
git_branch: master
git_last_commit: 15310ae
git_last_commit_date: 2022-04-26 11:39:25 -0400 (Tue, 26 Apr 2022)
nebbiolo2Linux (Ubuntu 20.04.4 LTS) / x86_64  OK    OK    OK  UNNEEDED, same version is already published
palomino4Windows Server 2022 Datacenter / x64  OK    OK    OK    OK  UNNEEDED, same version is already published
lconwaymacOS 12.2.1 Monterey / x86_64  OK    OK    OK    OK  UNNEEDED, same version is already published

Summary

Package: epiNEM
Version: 1.21.0
Command: /home/biocbuild/bbs-3.16-bioc/R/bin/R CMD check --install=check:epiNEM.install-out.txt --library=/home/biocbuild/bbs-3.16-bioc/R/library --no-vignettes --timings epiNEM_1.21.0.tar.gz
StartedAt: 2022-06-23 19:44:22 -0400 (Thu, 23 Jun 2022)
EndedAt: 2022-06-23 19:46:44 -0400 (Thu, 23 Jun 2022)
EllapsedTime: 142.7 seconds
RetCode: 0
Status:   OK  
CheckDir: epiNEM.Rcheck
Warnings: 0

Command output

##############################################################################
##############################################################################
###
### Running command:
###
###   /home/biocbuild/bbs-3.16-bioc/R/bin/R CMD check --install=check:epiNEM.install-out.txt --library=/home/biocbuild/bbs-3.16-bioc/R/library --no-vignettes --timings epiNEM_1.21.0.tar.gz
###
##############################################################################
##############################################################################


* using log directory ‘/home/biocbuild/bbs-3.16-bioc/meat/epiNEM.Rcheck’
* using R version 4.2.0 Patched (2022-06-02 r82447)
* using platform: x86_64-pc-linux-gnu (64-bit)
* using session charset: UTF-8
* using option ‘--no-vignettes’
* checking for file ‘epiNEM/DESCRIPTION’ ... OK
* checking extension type ... Package
* this is package ‘epiNEM’ version ‘1.21.0’
* package encoding: UTF-8
* checking package namespace information ... OK
* checking package dependencies ... OK
* checking if this is a source package ... OK
* checking if there is a namespace ... OK
* checking for hidden files and directories ... OK
* checking for portable file names ... OK
* checking for sufficient/correct file permissions ... OK
* checking whether package ‘epiNEM’ can be installed ... OK
* checking installed package size ... OK
* checking package directory ... OK
* checking ‘build’ directory ... OK
* checking DESCRIPTION meta-information ... OK
* checking top-level files ... OK
* checking for left-over files ... OK
* checking index information ... OK
* checking package subdirectories ... OK
* checking R files for non-ASCII characters ... OK
* checking R files for syntax errors ... OK
* checking whether the package can be loaded ... OK
* checking whether the package can be loaded with stated dependencies ... OK
* checking whether the package can be unloaded cleanly ... OK
* checking whether the namespace can be loaded with stated dependencies ... OK
* checking whether the namespace can be unloaded cleanly ... OK
* checking dependencies in R code ... OK
* checking S3 generic/method consistency ... OK
* checking replacement functions ... OK
* checking foreign function calls ... NOTE
Foreign function call to a different package:
  .Call("getTruthTable_R", ..., PACKAGE = "BoolNet")
See chapter ‘System and foreign language interfaces’ in the ‘Writing R
Extensions’ manual.
* checking R code for possible problems ... NOTE
SimEpiNEM: no visible global function definition for ‘epiNEM2Bg’
SimEpiNEM: no visible global function definition for ‘dummyCNOlist’
SimEpiNEM: no visible global function definition for ‘readSIF’
SimEpiNEM: no visible global function definition for ‘preprocessing’
SimEpiNEM: no visible global function definition for ‘absorption’
SimEpiNEM: no visible global function definition for ‘bnem’
SimEpiNEM: no visible binding for global variable ‘popSize’
SimEpiNEM: no visible global function definition for ‘computeFc’
SimEpiNEM: no visible global function definition for
  ‘simulateStatesRecursive’
SimEpiNEM: no visible global function definition for ‘dnf2adj’
epiNEM: no visible binding for global variable ‘inference’
plot.epiSim: no visible binding for global variable ‘sim’
plot.epiSim: no visible global function definition for ‘layout’
plot.epiSim: no visible global function definition for ‘boxplot’
plot.epiSim: no visible global function definition for ‘abline’
plot.epiSim: no visible global function definition for ‘axis’
Undefined global functions or variables:
  abline absorption axis bnem boxplot computeFc dnf2adj dummyCNOlist
  epiNEM2Bg inference layout popSize preprocessing readSIF sim
  simulateStatesRecursive
Consider adding
  importFrom("graphics", "abline", "axis", "boxplot", "layout")
to your NAMESPACE file.
* checking Rd files ... OK
* checking Rd metadata ... OK
* checking Rd cross-references ... OK
* checking for missing documentation entries ... OK
* checking for code/documentation mismatches ... OK
* checking Rd \usage sections ... OK
* checking Rd contents ... OK
* checking for unstated dependencies in examples ... OK
* checking contents of ‘data’ directory ... OK
* checking data for non-ASCII characters ... OK
* checking LazyData ... OK
* checking data for ASCII and uncompressed saves ... OK
* checking files in ‘vignettes’ ... OK
* checking examples ... OK
Examples with CPU (user + system) or elapsed time > 5s
                user system elapsed
epiScreen      9.090  0.111   9.202
plot.epiScreen 8.825  0.076   8.901
plot.epiSim    6.166  0.067   6.234
SimEpiNEM      5.968  0.143   6.112
* checking for unstated dependencies in ‘tests’ ... OK
* checking tests ...
  Running ‘runTests.R’
 OK
* checking for unstated dependencies in vignettes ... OK
* checking package vignettes in ‘inst/doc’ ... OK
* checking running R code from vignettes ... SKIPPED
* checking re-building of vignette outputs ... SKIPPED
* checking PDF version of manual ... OK
* DONE

Status: 2 NOTEs
See
  ‘/home/biocbuild/bbs-3.16-bioc/meat/epiNEM.Rcheck/00check.log’
for details.



Installation output

epiNEM.Rcheck/00install.out

##############################################################################
##############################################################################
###
### Running command:
###
###   /home/biocbuild/bbs-3.16-bioc/R/bin/R CMD INSTALL epiNEM
###
##############################################################################
##############################################################################


* installing to library ‘/home/biocbuild/bbs-3.16-bioc/R/library’
* installing *source* package ‘epiNEM’ ...
** using staged installation
** R
** data
*** moving datasets to lazyload DB
** inst
** byte-compile and prepare package for lazy loading
** help
*** installing help indices
** building package indices
** installing vignettes
** testing if installed package can be loaded from temporary location
** testing if installed package can be loaded from final location
** testing if installed package keeps a record of temporary installation path
* DONE (epiNEM)

Tests output

epiNEM.Rcheck/tests/runTests.Rout


R version 4.2.0 Patched (2022-06-02 r82447) -- "Vigorous Calisthenics"
Copyright (C) 2022 The R Foundation for Statistical Computing
Platform: x86_64-pc-linux-gnu (64-bit)

R is free software and comes with ABSOLUTELY NO WARRANTY.
You are welcome to redistribute it under certain conditions.
Type 'license()' or 'licence()' for distribution details.

R is a collaborative project with many contributors.
Type 'contributors()' for more information and
'citation()' on how to cite R or R packages in publications.

Type 'demo()' for some demos, 'help()' for on-line help, or
'help.start()' for an HTML browser interface to help.
Type 'q()' to quit R.

> BiocGenerics:::testPackage("epiNEM")
[1] "Progress (of 1 iterations):"

1...


RUNIT TEST PROTOCOL -- Thu Jun 23 19:46:41 2022 
*********************************************** 
Number of test functions: 0 
Number of errors: 0 
Number of failures: 0 

 
1 Test Suite : 
epiNEM RUnit Tests - 0 test functions, 0 errors, 0 failures
Number of test functions: 0 
Number of errors: 0 
Number of failures: 0 
> 
> proc.time()
   user  system elapsed 
  6.208   0.281   6.477 

Example timings

epiNEM.Rcheck/epiNEM-Ex.timings

nameusersystemelapsed
AddLogicGates0.0010.0000.001
CreateExtendedAdjacency0.0590.0000.059
CreateRandomGraph000
CreateTopology0.1370.0000.138
ExtendTopology0.0470.0000.047
GenerateData0.3930.0000.393
HeatmapOP0.0930.0000.093
Mll000
SimEpiNEM5.9680.1436.112
epiAnno0.2040.0080.213
epiNEM0.8230.0200.844
epiScreen9.0900.1119.202
perm.rank.test0.2760.0080.284
plot.epiNEM0.7300.0040.733
plot.epiScreen8.8250.0768.901
plot.epiSim6.1660.0676.234
rank.enrichment0.3390.0120.351
sameith_GO0.0010.0010.001
sameith_string0.0010.0000.001
samscreen0.0000.0000.001
sim000
wageningen_GO000
wageningen_string0.0010.0000.001
wagscreen0.0010.0000.001