Back to Multiple platform build/check report for BioC 3.16
ABCDEFGHIJKLM[N]OPQRSTUVWXYZ

This page was generated on 2022-06-24 11:08:17 -0400 (Fri, 24 Jun 2022).

HostnameOSArch (*)R versionInstalled pkgs
nebbiolo2Linux (Ubuntu 20.04.4 LTS)x86_644.2.0 Patched (2022-06-02 r82447) -- "Vigorous Calisthenics" 4331
palomino4Windows Server 2022 Datacenterx644.2.0 Patched (2022-06-02 r82447 ucrt) -- "Vigorous Calisthenics" 4136
lconwaymacOS 12.2.1 Montereyx86_644.2.0 Patched (2022-05-29 r82424) -- "Vigorous Calisthenics" 4147
Click on any hostname to see more info about the system (e.g. compilers)      (*) as reported by 'uname -p', except on Windows and Mac OS X

CHECK results for netZooR on lconway


To the developers/maintainers of the netZooR package:
- Please allow up to 24 hours (and sometimes 48 hours) for your latest push to git@git.bioconductor.org:packages/netZooR.git to
reflect on this report. See How and When does the builder pull? When will my changes propagate? for more information.
- Make sure to use the following settings in order to reproduce any error or warning you see on this page.

raw results

Package 1312/2118HostnameOS / ArchINSTALLBUILDCHECKBUILD BIN
netZooR 1.1.0  (landing page)
Marouen Ben Guebila
Snapshot Date: 2022-06-23 14:00:04 -0400 (Thu, 23 Jun 2022)
git_url: https://git.bioconductor.org/packages/netZooR
git_branch: master
git_last_commit: 9461a1d
git_last_commit_date: 2022-04-26 12:20:14 -0400 (Tue, 26 Apr 2022)
nebbiolo2Linux (Ubuntu 20.04.4 LTS) / x86_64  OK    OK    OK  UNNEEDED, same version is already published
palomino4Windows Server 2022 Datacenter / x64  OK    OK    ERROR    OK  
lconwaymacOS 12.2.1 Monterey / x86_64  OK    OK    OK    OK  UNNEEDED, same version is already published

Summary

Package: netZooR
Version: 1.1.0
Command: /Library/Frameworks/R.framework/Resources/bin/R CMD check --install=check:netZooR.install-out.txt --library=/Library/Frameworks/R.framework/Resources/library --no-vignettes --timings netZooR_1.1.0.tar.gz
StartedAt: 2022-06-23 21:32:25 -0400 (Thu, 23 Jun 2022)
EndedAt: 2022-06-23 21:40:14 -0400 (Thu, 23 Jun 2022)
EllapsedTime: 469.5 seconds
RetCode: 0
Status:   OK  
CheckDir: netZooR.Rcheck
Warnings: 0

Command output

##############################################################################
##############################################################################
###
### Running command:
###
###   /Library/Frameworks/R.framework/Resources/bin/R CMD check --install=check:netZooR.install-out.txt --library=/Library/Frameworks/R.framework/Resources/library --no-vignettes --timings netZooR_1.1.0.tar.gz
###
##############################################################################
##############################################################################


* using log directory ‘/Users/biocbuild/bbs-3.16-bioc/meat/netZooR.Rcheck’
* using R version 4.2.0 Patched (2022-05-29 r82424)
* using platform: x86_64-apple-darwin17.0 (64-bit)
* using session charset: UTF-8
* using option ‘--no-vignettes’
* checking for file ‘netZooR/DESCRIPTION’ ... OK
* this is package ‘netZooR’ version ‘1.1.0’
* package encoding: UTF-8
* checking package namespace information ... OK
* checking package dependencies ... OK
* checking if this is a source package ... OK
* checking if there is a namespace ... OK
* checking for hidden files and directories ... OK
* checking for portable file names ... OK
* checking for sufficient/correct file permissions ... OK
* checking whether package ‘netZooR’ can be installed ... OK
* checking installed package size ... NOTE
  installed size is  5.1Mb
  sub-directories of 1Mb or more:
    data      1.5Mb
    extdata   2.9Mb
* checking package directory ... OK
* checking ‘build’ directory ... OK
* checking DESCRIPTION meta-information ... OK
* checking top-level files ... OK
* checking for left-over files ... OK
* checking index information ... OK
* checking package subdirectories ... OK
* checking R files for non-ASCII characters ... OK
* checking R files for syntax errors ... OK
* checking whether the package can be loaded ... OK
* checking whether the package can be loaded with stated dependencies ... OK
* checking whether the package can be unloaded cleanly ... OK
* checking whether the namespace can be loaded with stated dependencies ... OK
* checking whether the namespace can be unloaded cleanly ... OK
* checking dependencies in R code ... OK
* checking S3 generic/method consistency ... OK
* checking replacement functions ... OK
* checking foreign function calls ... OK
* checking R code for possible problems ... NOTE
runEgret: no visible binding for global variable ‘NA12878’
Undefined global functions or variables:
  NA12878
* checking Rd files ... OK
* checking Rd metadata ... OK
* checking Rd cross-references ... OK
* checking for missing documentation entries ... OK
* checking for code/documentation mismatches ... OK
* checking Rd \usage sections ... OK
* checking Rd contents ... OK
* checking for unstated dependencies in examples ... OK
* checking contents of ‘data’ directory ... OK
* checking data for non-ASCII characters ... OK
* checking data for ASCII and uncompressed saves ... OK
* checking files in ‘vignettes’ ... OK
* checking examples ... OK
Examples with CPU (user + system) or elapsed time > 5s
                              user system elapsed
monsterPlotMonsterAnalysis  32.802  2.624  35.546
monsterPrintMonsterAnalysis 30.505  2.600  33.199
monster                      6.128  0.407   6.558
* checking for unstated dependencies in ‘tests’ ... OK
* checking tests ...
  Running ‘testthat.R’
 OK
* checking for unstated dependencies in vignettes ... OK
* checking package vignettes in ‘inst/doc’ ... OK
* checking running R code from vignettes ... SKIPPED
* checking re-building of vignette outputs ... SKIPPED
* checking PDF version of manual ... OK
* DONE

Status: 2 NOTEs
See
  ‘/Users/biocbuild/bbs-3.16-bioc/meat/netZooR.Rcheck/00check.log’
for details.



Installation output

netZooR.Rcheck/00install.out

##############################################################################
##############################################################################
###
### Running command:
###
###   /Library/Frameworks/R.framework/Resources/bin/R CMD INSTALL netZooR
###
##############################################################################
##############################################################################


* installing to library ‘/Library/Frameworks/R.framework/Versions/4.2/Resources/library’
* installing *source* package ‘netZooR’ ...
** using staged installation
** R
** data
** inst
** byte-compile and prepare package for lazy loading
** help
*** installing help indices
** building package indices
** installing vignettes
** testing if installed package can be loaded from temporary location
** testing if installed package can be loaded from final location
** testing if installed package keeps a record of temporary installation path
* DONE (netZooR)

Tests output

netZooR.Rcheck/tests/testthat.Rout


R version 4.2.0 Patched (2022-05-29 r82424) -- "Vigorous Calisthenics"
Copyright (C) 2022 The R Foundation for Statistical Computing
Platform: x86_64-apple-darwin17.0 (64-bit)

R is free software and comes with ABSOLUTELY NO WARRANTY.
You are welcome to redistribute it under certain conditions.
Type 'license()' or 'licence()' for distribution details.

R is a collaborative project with many contributors.
Type 'contributors()' for more information and
'citation()' on how to cite R or R packages in publications.

Type 'demo()' for some demos, 'help()' for on-line help, or
'help.start()' for an HTML browser interface to help.
Type 'q()' to quit R.

> library(testthat)
> library(netZooR)
Loading required package: igraph

Attaching package: 'igraph'

The following object is masked from 'package:testthat':

    compare

The following objects are masked from 'package:stats':

    decompose, spectrum

The following object is masked from 'package:base':

    union

Loading required package: reticulate
Loading required package: pandaR
Loading required package: Biobase
Loading required package: BiocGenerics

Attaching package: 'BiocGenerics'

The following objects are masked from 'package:igraph':

    normalize, path, union

The following objects are masked from 'package:stats':

    IQR, mad, sd, var, xtabs

The following objects are masked from 'package:base':

    Filter, Find, Map, Position, Reduce, anyDuplicated, append,
    as.data.frame, basename, cbind, colnames, dirname, do.call,
    duplicated, eval, evalq, get, grep, grepl, intersect, is.unsorted,
    lapply, mapply, match, mget, order, paste, pmax, pmax.int, pmin,
    pmin.int, rank, rbind, rownames, sapply, setdiff, sort, table,
    tapply, union, unique, unsplit, which.max, which.min

Welcome to Bioconductor

    Vignettes contain introductory material; view with
    'browseVignettes()'. To cite Bioconductor, see
    'citation("Biobase")', and for packages 'citation("pkgname")'.

Loading required package: yarn
Setting options('download.file.method.GEOquery'='auto')
Setting options('GEOquery.inmemory.gpl'=FALSE)


> 
> #download test data
> download.file('https://netzoo.s3.us-east-2.amazonaws.com/netZooR/unittest_datasets/ppi.txt','testthat/ppi.txt')
trying URL 'https://netzoo.s3.us-east-2.amazonaws.com/netZooR/unittest_datasets/ppi.txt'
Content type 'text/plain' length 11495523 bytes (11.0 MB)
==================================================
downloaded 11.0 MB

> download.file('https://netzoo.s3.us-east-2.amazonaws.com/netZooR/unittest_datasets/testDataset.RData','testthat/testDataset.RData')
trying URL 'https://netzoo.s3.us-east-2.amazonaws.com/netZooR/unittest_datasets/testDataset.RData'
Content type 'binary/octet-stream' length 15200389 bytes (14.5 MB)
==================================================
downloaded 14.5 MB

> 
> test_check("netZooR")
[1] "modularity of projected graph 0.227272727272727"
[1] "Q = 0.231404958677686"
[1] "Q = 0.231404958677686"
[1] "modularity of projected graph 0"
[1] "Q = 0"
[1] "Q = 0.173553719008264"
[1] "Q = 0.231404958677686"
[1] "Q = 0.231404958677686"
[1] "Q = 0.198347107438017"
[1] "Q = 0.231404958677686"
[1] "Q = 0.231404958677686"
[1] "Q = 0.140495867768595"
[1] "Q = 0.140495867768595"
[1] "modularity of projected graph 0.227272727272727"
[1] "Q = 0.231404958677686"
[1] "Q = 0.231404958677686"
[1] "modularity of projected graph 0.523013747073361"
[1] "Q = 0.524618317507804"
[1] "Q = 0.524618317507804"
[ FAIL 0 | WARN 0 | SKIP 0 | PASS 11 ]
> 
> proc.time()
   user  system elapsed 
 19.905   1.381  31.279 

Example timings

netZooR.Rcheck/netZooR-Ex.timings

nameusersystemelapsed
alpaca0.9790.0261.007
alpacaCommunityStructureRotation000
alpacaComputeDWBMmatmScale0.0000.0000.001
alpacaComputeWBMmat000
alpacaDeltaZAnalysis000
alpacaDeltaZAnalysisLouvain0.0010.0000.000
alpacaExtractTopGenes0.5590.0100.571
alpacaGOtabtogenes000
alpacaGenLouvain000
alpacaGoToGenes0.0000.0010.000
alpacaListToGo0.0000.0000.001
alpacaMetaNetwork0.0010.0010.000
alpacaNodeToGene000
alpacaRotationAnalysis000
alpacaRotationAnalysisLouvain0.0000.0000.001
alpacaSimulateNetwork000
alpacaTestNodeRank000
alpacaTidyConfig0.0000.0010.001
alpacaTopEnsembltoTopSym000
alpacaWBMlouvain000
condorCluster1.0170.0061.025
condorCoreEnrich1.8200.0511.872
condorMatrixModularity0.0070.0010.008
condorModularityMax0.0230.0030.026
condorPlotCommunities1.1110.0071.119
condorPlotHeatmap0.1730.0230.196
condorQscore1.0590.0061.067
createCondorObject0.0030.0000.003
createPandaStyle0.0000.0010.000
lioness3.9620.2104.181
lionessPy0.0020.0010.002
monster6.1280.4076.558
monsterBereFull2.9590.2353.234
monsterCalculateTmPValues0.0100.0030.013
monsterCheckDataType0.1860.4780.667
monsterGetTm0.0020.0010.004
monsterHclHeatmapPlot0.6940.0410.737
monsterMonsterNI2.4180.0402.462
monsterPlotMonsterAnalysis32.802 2.62435.546
monsterPrintMonsterAnalysis30.505 2.60033.199
monsterTransformationMatrix0.6830.0280.713
monsterTransitionNetworkPlot0.2290.0050.235
monsterTransitionPCAPlot0.1220.0040.126
monsterdTFIPlot0.1480.0040.153
otter0.0020.0000.002
pandaPy0.0020.0010.003
pandaToAlpaca0.0020.0010.002
pandaToCondorObject0.0020.0010.002
runEgret0.0110.0030.014
sambar1.7180.1881.917
sourcePPI0.0080.0020.010
visPandaInCytoscape000