Back to Multiple platform build/check report for BioC 3.15
ABCDEFGHIJKL[M]NOPQRSTUVWXYZ

This page was generated on 2021-12-07 12:33:27 -0500 (Tue, 07 Dec 2021).

All results for package MSstatsQCgui

To the developers/maintainers of the MSstatsQCgui package:
- Please allow up to 24 hours (and sometimes 48 hours) for your latest push to git@git.bioconductor.org:packages/MSstatsQCgui.git to
reflect on this report. See How and When does the builder pull? When will my changes propagate? here for more information.
- Make sure to use the following settings in order to reproduce any error or warning you see on this page.

raw results

Package 1223/2068HostnameOS / ArchINSTALLBUILDCHECKBUILD BIN
MSstatsQCgui 1.15.0  (landing page)
Eralp Dogu
Snapshot Date: 2021-12-06 13:55:08 -0500 (Mon, 06 Dec 2021)
git_url: https://git.bioconductor.org/packages/MSstatsQCgui
git_branch: master
git_last_commit: d18f9aa
git_last_commit_date: 2021-10-26 12:44:39 -0500 (Tue, 26 Oct 2021)
nebbiolo1Linux (Ubuntu 20.04.3 LTS) / x86_64  OK    OK    OK  UNNEEDED, same version is already published
merida1macOS 10.14.6 Mojave / x86_64  OK    OK    OK    OK  NO, package depends on 'MSstatsQC' which is not available