Back to Multiple platform build/check report for BioC 3.16
ABCDEFGHIJKLMNO[P]QRSTUVWXYZ

This page was generated on 2022-08-06 11:05:26 -0400 (Sat, 06 Aug 2022).

HostnameOSArch (*)R versionInstalled pkgs
nebbiolo2Linux (Ubuntu 20.04.4 LTS)x86_644.2.1 (2022-06-23) -- "Funny-Looking Kid" 4371
palomino4Windows Server 2022 Datacenterx644.2.1 (2022-06-23 ucrt) -- "Funny-Looking Kid" 4155
lconwaymacOS 12.2.1 Montereyx86_644.2.1 Patched (2022-07-09 r82577) -- "Funny-Looking Kid" 4155
Click on any hostname to see more info about the system (e.g. compilers)      (*) as reported by 'uname -p', except on Windows and Mac OS X

CHECK results for PADOG on nebbiolo2


To the developers/maintainers of the PADOG package:
- Please allow up to 24 hours (and sometimes 48 hours) for your latest push to git@git.bioconductor.org:packages/PADOG.git to
reflect on this report. See How and When does the builder pull? When will my changes propagate? for more information.
- Make sure to use the following settings in order to reproduce any error or warning you see on this page.

raw results

Package 1397/2137HostnameOS / ArchINSTALLBUILDCHECKBUILD BIN
PADOG 1.39.0  (landing page)
Adi L. Tarca
Snapshot Date: 2022-08-05 14:00:05 -0400 (Fri, 05 Aug 2022)
git_url: https://git.bioconductor.org/packages/PADOG
git_branch: master
git_last_commit: 3d62408
git_last_commit_date: 2022-04-26 11:11:39 -0400 (Tue, 26 Apr 2022)
nebbiolo2Linux (Ubuntu 20.04.4 LTS) / x86_64  OK    OK    OK  UNNEEDED, same version is already published
palomino4Windows Server 2022 Datacenter / x64  OK    OK    OK    NA  
lconwaymacOS 12.2.1 Monterey / x86_64  OK    OK    OK    OK  UNNEEDED, same version is already published

Summary

Package: PADOG
Version: 1.39.0
Command: /home/biocbuild/bbs-3.16-bioc/R/bin/R CMD check --install=check:PADOG.install-out.txt --library=/home/biocbuild/bbs-3.16-bioc/R/library --no-vignettes --timings PADOG_1.39.0.tar.gz
StartedAt: 2022-08-05 21:07:24 -0400 (Fri, 05 Aug 2022)
EndedAt: 2022-08-05 21:12:51 -0400 (Fri, 05 Aug 2022)
EllapsedTime: 327.8 seconds
RetCode: 0
Status:   OK  
CheckDir: PADOG.Rcheck
Warnings: 0

Command output

##############################################################################
##############################################################################
###
### Running command:
###
###   /home/biocbuild/bbs-3.16-bioc/R/bin/R CMD check --install=check:PADOG.install-out.txt --library=/home/biocbuild/bbs-3.16-bioc/R/library --no-vignettes --timings PADOG_1.39.0.tar.gz
###
##############################################################################
##############################################################################


* using log directory ‘/home/biocbuild/bbs-3.16-bioc/meat/PADOG.Rcheck’
* using R version 4.2.1 (2022-06-23)
* using platform: x86_64-pc-linux-gnu (64-bit)
* using session charset: UTF-8
* using option ‘--no-vignettes’
* checking for file ‘PADOG/DESCRIPTION’ ... OK
* this is package ‘PADOG’ version ‘1.39.0’
* checking package namespace information ... OK
* checking package dependencies ... OK
* checking if this is a source package ... OK
* checking if there is a namespace ... OK
* checking for hidden files and directories ... OK
* checking for portable file names ... OK
* checking for sufficient/correct file permissions ... OK
* checking whether package ‘PADOG’ can be installed ... OK
* checking installed package size ... OK
* checking package directory ... OK
* checking ‘build’ directory ... OK
* checking DESCRIPTION meta-information ... OK
* checking top-level files ... OK
* checking for left-over files ... OK
* checking index information ... OK
* checking package subdirectories ... OK
* checking R files for non-ASCII characters ... OK
* checking R files for syntax errors ... OK
* checking whether the package can be loaded ... OK
* checking whether the package can be loaded with stated dependencies ... OK
* checking whether the package can be unloaded cleanly ... OK
* checking whether the namespace can be loaded with stated dependencies ... OK
* checking whether the namespace can be unloaded cleanly ... OK
* checking dependencies in R code ... OK
* checking S3 generic/method consistency ... OK
* checking replacement functions ... OK
* checking foreign function calls ... OK
* checking R code for possible problems ... NOTE
compPADOG: no visible global function definition for ‘data’
compPADOG : padogF: no visible global function definition for
  ‘p.adjust’
compPADOG : gsaF: no visible global function definition for ‘p.adjust’
compPADOG : <anonymous>: no visible global function definition for
  ‘complete.cases’
compPADOG : wi: no visible global function definition for ‘wilcox.test’
compPADOG: no visible binding for global variable ‘median’
compPADOG: no visible global function definition for ‘colors’
compPADOG: no visible global function definition for ‘par’
compPADOG: no visible global function definition for ‘boxplot’
compPADOG: no visible global function definition for ‘abline’
filteranot: no visible global function definition for ‘model.matrix’
padog: no visible global function definition for ‘quantile’
padog: no visible global function definition for ‘sd’
padog : combFun: no visible global function definition for ‘combn’
padog : gsScoreFun: no visible global function definition for
  ‘model.matrix’
padog : gsScoreFun : <anonymous>: no visible global function definition
  for ‘na.omit’
padog: no visible global function definition for ‘par’
padog: no visible global function definition for ‘boxplot’
padog: no visible global function definition for ‘points’
padog: no visible global function definition for ‘abline’
Undefined global functions or variables:
  abline boxplot colors combn complete.cases data median model.matrix
  na.omit p.adjust par points quantile sd wilcox.test
Consider adding
  importFrom("grDevices", "colors")
  importFrom("graphics", "abline", "boxplot", "par", "points")
  importFrom("stats", "complete.cases", "median", "model.matrix",
             "na.omit", "p.adjust", "quantile", "sd", "wilcox.test")
  importFrom("utils", "combn", "data")
to your NAMESPACE file.
* checking Rd files ... OK
* checking Rd metadata ... OK
* checking Rd cross-references ... OK
* checking for missing documentation entries ... OK
* checking for code/documentation mismatches ... OK
* checking Rd \usage sections ... OK
* checking Rd contents ... OK
* checking for unstated dependencies in examples ... OK
* checking files in ‘vignettes’ ... OK
* checking examples ... OK
Examples with CPU (user + system) or elapsed time > 5s
            user system elapsed
compPADOG 26.788  3.786 189.865
padog     11.328  0.648  38.672
* checking for unstated dependencies in vignettes ... OK
* checking package vignettes in ‘inst/doc’ ... OK
* checking running R code from vignettes ... SKIPPED
* checking re-building of vignette outputs ... SKIPPED
* checking PDF version of manual ... OK
* DONE

Status: 1 NOTE
See
  ‘/home/biocbuild/bbs-3.16-bioc/meat/PADOG.Rcheck/00check.log’
for details.



Installation output

PADOG.Rcheck/00install.out

##############################################################################
##############################################################################
###
### Running command:
###
###   /home/biocbuild/bbs-3.16-bioc/R/bin/R CMD INSTALL PADOG
###
##############################################################################
##############################################################################


* installing to library ‘/home/biocbuild/bbs-3.16-bioc/R/library’
* installing *source* package ‘PADOG’ ...
** using staged installation
** R
** byte-compile and prepare package for lazy loading
** help
*** installing help indices
** building package indices
** installing vignettes
** testing if installed package can be loaded from temporary location
** testing if installed package can be loaded from final location
** testing if installed package keeps a record of temporary installation path
* DONE (PADOG)

Tests output


Example timings

PADOG.Rcheck/PADOG-Ex.timings

nameusersystemelapsed
compPADOG 26.788 3.786189.865
filteranot1.6560.2451.998
padog11.328 0.64838.672