Back to Multiple platform build/check report for BioC 3.18:   simplified   long
ABCDEF[G]HIJKLMNOPQRSTUVWXYZ

This page was generated on 2023-05-29 11:04:38 -0400 (Mon, 29 May 2023).

HostnameOSArch (*)R versionInstalled pkgs
nebbiolo2Linux (Ubuntu 22.04.2 LTS)x86_644.3.0 RC (2023-04-18 r84287) -- "Already Tomorrow" 4587
palomino4Windows Server 2022 Datacenterx644.3.0 RC (2023-04-18 r84287 ucrt) -- "Already Tomorrow" 4336
lconwaymacOS 12.6.5 Montereyx86_644.3.0 RC (2023-04-13 r84266) -- "Already Tomorrow" 4337
Click on any hostname to see more info about the system (e.g. compilers)      (*) as reported by 'uname -p', except on Windows and Mac OS X

All results for package ggtree


To the developers/maintainers of the ggtree package:
- Allow up to 24 hours (and sometimes 48 hours) for your latest push to git@git.bioconductor.org:packages/ggtree.git to reflect on this report. See Troubleshooting Build Report for more information.

- Use the following Renviron settings to reproduce errors and warnings.

Note: If "R CMD check" recently failed on the Linux builder over a missing dependency, add the missing dependency to "Suggests" in your DESCRIPTION file. See the Renviron.bioc for details.

raw results

Package 825/2197HostnameOS / ArchINSTALLBUILDCHECKBUILD BIN
ggtree 3.9.0  (landing page)
Guangchuang Yu
Snapshot Date: 2023-05-28 14:00:06 -0400 (Sun, 28 May 2023)
git_url: https://git.bioconductor.org/packages/ggtree
git_branch: devel
git_last_commit: 12cf587
git_last_commit_date: 2023-04-25 10:37:21 -0400 (Tue, 25 Apr 2023)
nebbiolo2Linux (Ubuntu 22.04.2 LTS) / x86_64  OK    OK    OK  UNNEEDED, same version is already published
palomino4Windows Server 2022 Datacenter / x64  OK    OK    OK    OK  UNNEEDED, same version is already published
lconwaymacOS 12.6.5 Monterey / x86_64  OK    OK    OK    OK  UNNEEDED, same version is already published

Results for Bioconductor software packages that depend directly on package ggtree

QUICK STATSOS / ArchINSTALLBUILDCHECKBUILD BIN
nebbiolo2Linux (Ubuntu 22.04.2 LTS) / x86_64
0019
0019
01216
palomino4Windows Server 2022 Datacenter / x64
0019
0019
01216
0019
lconwaymacOS 12.6.5 Monterey / x86_64
0019
0019
01216
0019
Package 1/19HostnameOS / ArchINSTALLBUILDCHECKBUILD BIN
cardelino 1.3.0  (landing page)
Davis McCarthy
git_last_commit: c510b51
git_last_commit_date: 2023-04-25 11:40:59 -0400
nebbiolo2Linux (Ubuntu 22.04.2 LTS) / x86_64  OK    OK    OK  UNNEEDED, same version is already published
palomino4Windows Server 2022 Datacenter / x64  OK    OK    OK    OK  UNNEEDED, same version is already published
lconwaymacOS 12.6.5 Monterey / x86_64  OK    OK    OK    OK  UNNEEDED, same version is already published
Package 2/19HostnameOS / ArchINSTALLBUILDCHECKBUILD BIN
cogeqc 1.5.0  (landing page)
Fabrício Almeida-Silva
git_last_commit: ffae8b0
git_last_commit_date: 2023-04-25 11:37:54 -0400
nebbiolo2Linux (Ubuntu 22.04.2 LTS) / x86_64  OK    OK    OK  UNNEEDED, same version is already published
palomino4Windows Server 2022 Datacenter / x64  OK    OK    OK    OK  UNNEEDED, same version is already published
lconwaymacOS 12.6.5 Monterey / x86_64  OK    OK    OK    OK  UNNEEDED, same version is already published
Package 3/19HostnameOS / ArchINSTALLBUILDCHECKBUILD BIN
enrichplot 1.21.0  (landing page)
Guangchuang Yu
git_last_commit: adc0749
git_last_commit_date: 2023-04-25 10:59:24 -0400
nebbiolo2Linux (Ubuntu 22.04.2 LTS) / x86_64  OK    OK    WARNINGS  UNNEEDED, same version is already published
palomino4Windows Server 2022 Datacenter / x64  OK    OK    WARNINGS    OK  UNNEEDED, same version is already published
lconwaymacOS 12.6.5 Monterey / x86_64  OK    OK    WARNINGS    OK  UNNEEDED, same version is already published
Package 4/19HostnameOS / ArchINSTALLBUILDCHECKBUILD BIN
ggmsa 1.7.0  (landing page)
Lang Zhou
git_last_commit: a846cbd
git_last_commit_date: 2023-04-25 11:32:57 -0400
nebbiolo2Linux (Ubuntu 22.04.2 LTS) / x86_64  OK    OK    OK  UNNEEDED, same version is already published
palomino4Windows Server 2022 Datacenter / x64  OK    OK    OK    OK  UNNEEDED, same version is already published
lconwaymacOS 12.6.5 Monterey / x86_64  OK    OK    OK    OK  UNNEEDED, same version is already published
Package 5/19HostnameOS / ArchINSTALLBUILDCHECKBUILD BIN
ggtreeDendro 1.3.0  (landing page)
Guangchuang Yu
git_last_commit: c53f963
git_last_commit_date: 2023-04-25 11:40:43 -0400
nebbiolo2Linux (Ubuntu 22.04.2 LTS) / x86_64  OK    OK    OK  UNNEEDED, same version is already published
palomino4Windows Server 2022 Datacenter / x64  OK    OK    OK    OK  UNNEEDED, same version is already published
lconwaymacOS 12.6.5 Monterey / x86_64  OK    OK    OK    OK  UNNEEDED, same version is already published
Package 6/19HostnameOS / ArchINSTALLBUILDCHECKBUILD BIN
ggtreeExtra 1.11.0  (landing page)
Shuangbin Xu
git_last_commit: 9a0a23c
git_last_commit_date: 2023-04-25 11:21:23 -0400
nebbiolo2Linux (Ubuntu 22.04.2 LTS) / x86_64  OK    OK    OK  UNNEEDED, same version is already published
palomino4Windows Server 2022 Datacenter / x64  OK    OK    OK    OK  UNNEEDED, same version is already published
lconwaymacOS 12.6.5 Monterey / x86_64  OK    OK    OK    OK  UNNEEDED, same version is already published
Package 7/19HostnameOS / ArchINSTALLBUILDCHECKBUILD BIN
LinTInd 1.5.0  (landing page)
Luyue Wang
git_last_commit: 690db40
git_last_commit_date: 2023-04-25 11:35:50 -0400
nebbiolo2Linux (Ubuntu 22.04.2 LTS) / x86_64  OK    OK    OK  UNNEEDED, same version is already published
palomino4Windows Server 2022 Datacenter / x64  OK    OK    OK    OK  UNNEEDED, same version is already published
lconwaymacOS 12.6.5 Monterey / x86_64  OK    OK    OK    OK  UNNEEDED, same version is already published
Package 8/19HostnameOS / ArchINSTALLBUILDCHECKBUILD BIN
LymphoSeq 1.29.0  (landing page)
David Coffey
git_last_commit: bf68fd6
git_last_commit_date: 2023-04-25 10:46:30 -0400
nebbiolo2Linux (Ubuntu 22.04.2 LTS) / x86_64  OK    OK    OK  UNNEEDED, same version is already published
palomino4Windows Server 2022 Datacenter / x64  OK    OK    OK    OK  UNNEEDED, same version is already published
lconwaymacOS 12.6.5 Monterey / x86_64  OK    OK    OK    OK  UNNEEDED, same version is already published
Package 9/19HostnameOS / ArchINSTALLBUILDCHECKBUILD BIN
miaViz 1.9.0  (landing page)
Tuomas Borman
git_last_commit: f8ea3b8
git_last_commit_date: 2023-04-25 11:28:01 -0400
nebbiolo2Linux (Ubuntu 22.04.2 LTS) / x86_64  OK    OK    OK  UNNEEDED, same version is already published
palomino4Windows Server 2022 Datacenter / x64  OK    OK    OK    OK  NO, package depends on 'mia' which is not available
lconwaymacOS 12.6.5 Monterey / x86_64  OK    OK    OK    OK  UNNEEDED, same version is already published
Package 10/19HostnameOS / ArchINSTALLBUILDCHECKBUILD BIN
microbiomeMarker 1.7.0  (landing page)
Yang Cao
git_last_commit: 687b160
git_last_commit_date: 2023-04-25 11:33:28 -0400
nebbiolo2Linux (Ubuntu 22.04.2 LTS) / x86_64  OK    OK    OK  UNNEEDED, same version is already published
palomino4Windows Server 2022 Datacenter / x64  OK    OK    OK    OK  NO, package depends on 'ANCOMBC' which is not available
lconwaymacOS 12.6.5 Monterey / x86_64  OK    OK    OK    OK  NO, package depends on 'metagenomeSeq' which is not available
Package 11/19HostnameOS / ArchINSTALLBUILDCHECKBUILD BIN
MicrobiotaProcess 1.13.1  (landing page)
Shuangbin Xu
git_last_commit: dc7add5
git_last_commit_date: 2023-05-03 22:02:50 -0400
nebbiolo2Linux (Ubuntu 22.04.2 LTS) / x86_64  OK    OK    ERROR  
palomino4Windows Server 2022 Datacenter / x64  OK    OK    ERROR    OK  
lconwaymacOS 12.6.5 Monterey / x86_64  OK    OK    ERROR    OK  
Package 12/19HostnameOS / ArchINSTALLBUILDCHECKBUILD BIN
orthogene 1.7.0  (landing page)
Brian Schilder
git_last_commit: 4591283
git_last_commit_date: 2023-04-25 11:32:46 -0400
nebbiolo2Linux (Ubuntu 22.04.2 LTS) / x86_64  OK    OK    OK  UNNEEDED, same version is already published
palomino4Windows Server 2022 Datacenter / x64  OK    OK    OK    OK  UNNEEDED, same version is already published
lconwaymacOS 12.6.5 Monterey / x86_64  OK    OK    OK    OK  UNNEEDED, same version is already published
Package 13/19HostnameOS / ArchINSTALLBUILDCHECKBUILD BIN
philr 1.27.0  (landing page)
Justin Silverman
git_last_commit: bd100cf
git_last_commit_date: 2023-04-25 10:49:19 -0400
nebbiolo2Linux (Ubuntu 22.04.2 LTS) / x86_64  OK    OK    OK  UNNEEDED, same version is already published
palomino4Windows Server 2022 Datacenter / x64  OK    OK    OK    OK  UNNEEDED, same version is already published
lconwaymacOS 12.6.5 Monterey / x86_64  OK    OK    OK    OK  UNNEEDED, same version is already published
Package 14/19HostnameOS / ArchINSTALLBUILDCHECKBUILD BIN
scBubbletree 1.3.0  (landing page)
Simo Kitanovski
git_last_commit: 76f2e07
git_last_commit_date: 2023-04-25 11:40:26 -0400
nebbiolo2Linux (Ubuntu 22.04.2 LTS) / x86_64  OK    OK    OK  UNNEEDED, same version is already published
palomino4Windows Server 2022 Datacenter / x64  OK    OK    OK    OK  UNNEEDED, same version is already published
lconwaymacOS 12.6.5 Monterey / x86_64  OK    OK    OK    OK  UNNEEDED, same version is already published
Package 15/19HostnameOS / ArchINSTALLBUILDCHECKBUILD BIN
singleCellTK 2.11.0  (landing page)
Yichen Wang
git_last_commit: bce567d2
git_last_commit_date: 2023-04-25 11:01:21 -0400
nebbiolo2Linux (Ubuntu 22.04.2 LTS) / x86_64  OK    OK    OK  UNNEEDED, same version is already published
palomino4Windows Server 2022 Datacenter / x64  OK    OK    OK    OK  NO, package depends on 'scater' which is not available
lconwaymacOS 12.6.5 Monterey / x86_64  OK    OK    OK    OK  UNNEEDED, same version is already published
Package 16/19HostnameOS / ArchINSTALLBUILDCHECKBUILD BIN
sitePath 1.17.0  (landing page)
Chengyang Ji
git_last_commit: aa898ed
git_last_commit_date: 2023-04-25 11:09:09 -0400
nebbiolo2Linux (Ubuntu 22.04.2 LTS) / x86_64  OK    OK    OK  UNNEEDED, same version is already published
palomino4Windows Server 2022 Datacenter / x64  OK    OK    OK    OK  UNNEEDED, same version is already published
lconwaymacOS 12.6.5 Monterey / x86_64  OK    OK    OK    OK  UNNEEDED, same version is already published
Package 17/19HostnameOS / ArchINSTALLBUILDCHECKBUILD BIN
systemPipeTools 1.9.0  (landing page)
Daniela Cassol
git_last_commit: e9fb61f
git_last_commit_date: 2023-04-25 11:30:32 -0400
nebbiolo2Linux (Ubuntu 22.04.2 LTS) / x86_64  OK    OK    WARNINGS  UNNEEDED, same version is already published
palomino4Windows Server 2022 Datacenter / x64  OK    OK    WARNINGS    OK  UNNEEDED, same version is already published
lconwaymacOS 12.6.5 Monterey / x86_64  OK    OK    WARNINGS    OK  UNNEEDED, same version is already published
Package 18/19HostnameOS / ArchINSTALLBUILDCHECKBUILD BIN
tanggle 1.7.0  (landing page)
Klaus Schliep
git_last_commit: 6f1a23f
git_last_commit_date: 2023-04-25 11:32:20 -0400
nebbiolo2Linux (Ubuntu 22.04.2 LTS) / x86_64  OK    OK    OK  UNNEEDED, same version is already published
palomino4Windows Server 2022 Datacenter / x64  OK    OK    OK    OK  UNNEEDED, same version is already published
lconwaymacOS 12.6.5 Monterey / x86_64  OK    OK    OK    OK  UNNEEDED, same version is already published
Package 19/19HostnameOS / ArchINSTALLBUILDCHECKBUILD BIN
treekoR 1.9.0  (landing page)
Adam Chan
git_last_commit: 5fcf7d1
git_last_commit_date: 2023-04-25 11:28:47 -0400
nebbiolo2Linux (Ubuntu 22.04.2 LTS) / x86_64  OK    OK    OK  UNNEEDED, same version is already published
palomino4Windows Server 2022 Datacenter / x64  OK    OK    OK    OK  UNNEEDED, same version is already published
lconwaymacOS 12.6.5 Monterey / x86_64  OK    OK    OK    OK  UNNEEDED, same version is already published