Back to Build/check report for BioC 3.15
ABCDEFGHIJKLMNOPQRS[T]UVWXYZ

This page was generated on 2021-12-02 12:32:15 -0500 (Thu, 02 Dec 2021).

All results for package timecourse

To the developers/maintainers of the timecourse package:
- Please allow up to 24 hours (and sometimes 48 hours) for your latest push to git@git.bioconductor.org:packages/timecourse.git to
reflect on this report. See How and When does the builder pull? When will my changes propagate? here for more information.
- Make sure to use the following settings in order to reproduce any error or warning you see on this page.

raw results

Package 1941/2068HostnameOS / ArchINSTALLBUILDCHECKBUILD BIN
timecourse 1.67.0  (landing page)
Yu Chuan Tai
Snapshot Date: 2021-12-01 15:06:11 -0500 (Wed, 01 Dec 2021)
git_url: https://git.bioconductor.org/packages/timecourse
git_branch: master
git_last_commit: 8fa5dbd
git_last_commit_date: 2021-10-26 11:48:31 -0500 (Tue, 26 Oct 2021)
nebbiolo1Linux (Ubuntu 20.04.3 LTS) / x86_64  OK    OK    OK  UNNEEDED, same version is already published