Back to Multiple platform build/check report for BioC 3.20:   simplified   long
ABCDEFGHIJKLMNOPQR[S]TUVWXYZ

This page was generated on 2024-06-19 12:11 -0400 (Wed, 19 Jun 2024).

HostnameOSArch (*)R versionInstalled pkgs
nebbiolo2Linux (Ubuntu 22.04.3 LTS)x86_644.4.0 RC (2024-04-16 r86468) -- "Puppy Cup" 4687
lconwaymacOS 12.7.1 Montereyx86_644.4.1 RC (2024-06-06 r86719) -- "Race for Your Life" 4402
kjohnson3macOS 13.6.5 Venturaarm644.4.1 RC (2024-06-06 r86719) -- "Race for Your Life" 4351
Click on any hostname to see more info about the system (e.g. compilers)      (*) as reported by 'uname -p', except on Windows and Mac OS X

Package 2024/2242HostnameOS / ArchINSTALLBUILDCHECKBUILD BIN
standR 1.9.0  (landing page)
Ning Liu
Snapshot Date: 2024-06-18 14:00 -0400 (Tue, 18 Jun 2024)
git_url: https://git.bioconductor.org/packages/standR
git_branch: devel
git_last_commit: 62c1f0d
git_last_commit_date: 2024-04-30 11:41:38 -0400 (Tue, 30 Apr 2024)
nebbiolo2Linux (Ubuntu 22.04.3 LTS) / x86_64  OK    OK    OK  UNNEEDED, same version is already published
lconwaymacOS 12.7.1 Monterey / x86_64  OK    OK    OK    OK  UNNEEDED, same version is already published
kjohnson3macOS 13.6.5 Ventura / arm64  OK    OK    OK    OK  UNNEEDED, same version is already published


BUILD results for standR on lconway

To the developers/maintainers of the standR package:
- Allow up to 24 hours (and sometimes 48 hours) for your latest push to git@git.bioconductor.org:packages/standR.git to reflect on this report. See Troubleshooting Build Report for more information.
- Use the following Renviron settings to reproduce errors and warnings.
- If 'R CMD check' started to fail recently on the Linux builder(s) over a missing dependency, add the missing dependency to 'Suggests:' in your DESCRIPTION file. See Renviron.bioc for more information.

raw results


Summary

Package: standR
Version: 1.9.0
Command: /Library/Frameworks/R.framework/Resources/bin/R CMD build --keep-empty-dirs --no-resave-data standR
StartedAt: 2024-06-18 18:15:52 -0400 (Tue, 18 Jun 2024)
EndedAt: 2024-06-18 18:17:36 -0400 (Tue, 18 Jun 2024)
EllapsedTime: 104.0 seconds
RetCode: 0
Status:   OK  
PackageFile: standR_1.9.0.tar.gz
PackageFileSize: 2.981 MiB

Command output

##############################################################################
##############################################################################
###
### Running command:
###
###   /Library/Frameworks/R.framework/Resources/bin/R CMD build --keep-empty-dirs --no-resave-data standR
###
##############################################################################
##############################################################################


* checking for file ‘standR/DESCRIPTION’ ... OK
* preparing ‘standR’:
* checking DESCRIPTION meta-information ... OK
* installing the package to build vignettes
* creating vignettes ... OK
* checking for LF line-endings in source and make files and shell scripts
* checking for empty or unneeded directories
* looking to see if a ‘data/datalist’ file should be added
* building ‘standR_1.9.0.tar.gz’