Back to Multiple platform build/check report for BioC 3.18:   simplified   long
ABCDEFGHIJKLMNO[P]QRSTUVWXYZ

This page was generated on 2023-06-05 11:04:48 -0400 (Mon, 05 Jun 2023).

HostnameOSArch (*)R versionInstalled pkgs
nebbiolo2Linux (Ubuntu 22.04.2 LTS)x86_644.3.0 RC (2023-04-18 r84287) -- "Already Tomorrow" 4593
palomino4Windows Server 2022 Datacenterx644.3.0 RC (2023-04-18 r84287 ucrt) -- "Already Tomorrow" 4342
lconwaymacOS 12.6.5 Montereyx86_644.3.0 RC (2023-04-13 r84266) -- "Already Tomorrow" 4343
Click on any hostname to see more info about the system (e.g. compilers)      (*) as reported by 'uname -p', except on Windows and Mac OS X

All results for package preprocessCore


To the developers/maintainers of the preprocessCore package:
- Allow up to 24 hours (and sometimes 48 hours) for your latest push to git@git.bioconductor.org:packages/preprocessCore.git to reflect on this report. See Troubleshooting Build Report for more information.

- Use the following Renviron settings to reproduce errors and warnings.

Note: If "R CMD check" recently failed on the Linux builder over a missing dependency, add the missing dependency to "Suggests" in your DESCRIPTION file. See the Renviron.bioc for details.

raw results

Package 1530/2199HostnameOS / ArchINSTALLBUILDCHECKBUILD BIN
preprocessCore 1.63.1  (landing page)
Ben Bolstad
Snapshot Date: 2023-06-04 14:00:06 -0400 (Sun, 04 Jun 2023)
git_url: https://git.bioconductor.org/packages/preprocessCore
git_branch: devel
git_last_commit: 5b4cf4d
git_last_commit_date: 2023-05-02 09:47:52 -0400 (Tue, 02 May 2023)
nebbiolo2Linux (Ubuntu 22.04.2 LTS) / x86_64  OK    OK    WARNINGS  UNNEEDED, same version is already published
palomino4Windows Server 2022 Datacenter / x64  OK    OK    WARNINGS    OK  UNNEEDED, same version is already published
lconwaymacOS 12.6.5 Monterey / x86_64  OK    OK    WARNINGS    OK  UNNEEDED, same version is already published

Results for Bioconductor software packages that depend directly on package preprocessCore

QUICK STATSOS / ArchINSTALLBUILDCHECKBUILD BIN
nebbiolo2Linux (Ubuntu 22.04.2 LTS) / x86_64
0043
0241
04928
palomino4Windows Server 2022 Datacenter / x64
0043
0340
001129
0040
lconwaymacOS 12.6.5 Monterey / x86_64
0043
0241
001031
0041
Package 1/43HostnameOS / ArchINSTALLBUILDCHECKBUILD BIN
affy 1.79.0  (landing page)
Rafael A. Irizarry
git_last_commit: 5c8b5d3
git_last_commit_date: 2023-04-25 09:38:42 -0400
nebbiolo2Linux (Ubuntu 22.04.2 LTS) / x86_64  OK    OK    ERROR  
palomino4Windows Server 2022 Datacenter / x64  OK    OK    WARNINGS    OK  UNNEEDED, same version is already published
lconwaymacOS 12.6.5 Monterey / x86_64  OK    OK    WARNINGS    OK  UNNEEDED, same version is already published
Package 2/43HostnameOS / ArchINSTALLBUILDCHECKBUILD BIN
affyPLM 1.77.1  (landing page)
Ben Bolstad
git_last_commit: 39df6bd
git_last_commit_date: 2023-05-02 09:47:24 -0400
nebbiolo2Linux (Ubuntu 22.04.2 LTS) / x86_64  OK    OK    ERROR  
palomino4Windows Server 2022 Datacenter / x64  OK    OK    WARNINGS    OK  UNNEEDED, same version is already published
lconwaymacOS 12.6.5 Monterey / x86_64  OK    OK    OK    OK  UNNEEDED, same version is already published
Package 3/43HostnameOS / ArchINSTALLBUILDCHECKBUILD BIN
AgiMicroRna 2.51.0  (landing page)
Pedro Lopez-Romero
git_last_commit: 7034f25
git_last_commit_date: 2023-04-25 09:49:25 -0400
nebbiolo2Linux (Ubuntu 22.04.2 LTS) / x86_64  OK    OK    WARNINGS  NO, package depends on 'affy' which is not available
palomino4Windows Server 2022 Datacenter / x64  OK    OK    WARNINGS    OK  NO, package depends on 'affycoretools' which is not available
lconwaymacOS 12.6.5 Monterey / x86_64  OK    OK    WARNINGS    OK  NO, package depends on 'affycoretools' which is not available
Package 4/43HostnameOS / ArchINSTALLBUILDCHECKBUILD BIN
BloodGen3Module 1.9.0  (landing page)
Darawan Rinchai
git_last_commit: 7d7a408
git_last_commit_date: 2023-04-25 11:29:58 -0400
nebbiolo2Linux (Ubuntu 22.04.2 LTS) / x86_64  OK    OK    WARNINGS  UNNEEDED, same version is already published
palomino4Windows Server 2022 Datacenter / x64  OK    OK    WARNINGS    OK  UNNEEDED, same version is already published
lconwaymacOS 12.6.5 Monterey / x86_64  OK    OK    WARNINGS    OK  UNNEEDED, same version is already published
Package 5/43HostnameOS / ArchINSTALLBUILDCHECKBUILD BIN
bnbc 1.23.0  (landing page)
Kipper Fletez-Brant
git_last_commit: d4ea9a9
git_last_commit_date: 2023-04-25 10:57:18 -0400
nebbiolo2Linux (Ubuntu 22.04.2 LTS) / x86_64  OK    OK    WARNINGS  UNNEEDED, same version is already published
palomino4Windows Server 2022 Datacenter / x64  OK    OK    WARNINGS    OK  UNNEEDED, same version is already published
lconwaymacOS 12.6.5 Monterey / x86_64  OK    OK    WARNINGS    OK  UNNEEDED, same version is already published
Package 6/43HostnameOS / ArchINSTALLBUILDCHECKBUILD BIN
ChAMP 2.31.0  (landing page)
Yuan Tian
git_last_commit: b9f4dfc
git_last_commit_date: 2023-04-25 10:29:24 -0400
nebbiolo2Linux (Ubuntu 22.04.2 LTS) / x86_64  OK    OK    WARNINGS  NO, package depends on 'DMRcate' which is not available
palomino4Windows Server 2022 Datacenter / x64  OK    OK    WARNINGS    OK  UNNEEDED, same version is already published
lconwaymacOS 12.6.5 Monterey / x86_64  OK    OK    WARNINGS    OK  UNNEEDED, same version is already published
Package 7/43HostnameOS / ArchINSTALLBUILDCHECKBUILD BIN
cn.farms 1.49.0  (landing page)
Andreas Mitterecker
git_last_commit: eeb89ad
git_last_commit_date: 2023-04-25 10:19:13 -0400
nebbiolo2Linux (Ubuntu 22.04.2 LTS) / x86_64  OK    OK    OK  UNNEEDED, same version is already published
palomino4Windows Server 2022 Datacenter / x64  OK    OK    OK    OK  UNNEEDED, same version is already published
lconwaymacOS 12.6.5 Monterey / x86_64  OK    OK    OK    OK  UNNEEDED, same version is already published
Package 8/43HostnameOS / ArchINSTALLBUILDCHECKBUILD BIN
cqn 1.47.0  (landing page)
Kasper Daniel Hansen
git_last_commit: c40192e
git_last_commit_date: 2023-04-25 10:20:08 -0400
nebbiolo2Linux (Ubuntu 22.04.2 LTS) / x86_64  OK    OK    OK  UNNEEDED, same version is already published
palomino4Windows Server 2022 Datacenter / x64  OK    OK    OK    OK  UNNEEDED, same version is already published
lconwaymacOS 12.6.5 Monterey / x86_64  OK    OK    OK    OK  UNNEEDED, same version is already published
Package 9/43HostnameOS / ArchINSTALLBUILDCHECKBUILD BIN
crlmm 1.59.0  (landing page)
Benilton S Carvalho
git_last_commit: b4a59d2
git_last_commit_date: 2023-04-25 09:48:29 -0400
nebbiolo2Linux (Ubuntu 22.04.2 LTS) / x86_64  OK    OK    WARNINGS  UNNEEDED, same version is already published
palomino4Windows Server 2022 Datacenter / x64  OK    OK    WARNINGS    OK  UNNEEDED, same version is already published
lconwaymacOS 12.6.5 Monterey / x86_64  OK    OK    WARNINGS    OK  UNNEEDED, same version is already published
Package 10/43HostnameOS / ArchINSTALLBUILDCHECKBUILD BIN
EMDomics 2.31.0  (landing page)
Sadhika Malladi and Daniel Schmolze
git_last_commit: 99758d4
git_last_commit_date: 2023-04-25 10:39:44 -0400
nebbiolo2Linux (Ubuntu 22.04.2 LTS) / x86_64  OK    OK    OK  UNNEEDED, same version is already published
palomino4Windows Server 2022 Datacenter / x64  OK    OK    OK    OK  UNNEEDED, same version is already published
lconwaymacOS 12.6.5 Monterey / x86_64  OK    OK    OK    OK  UNNEEDED, same version is already published
Package 11/43HostnameOS / ArchINSTALLBUILDCHECKBUILD BIN
ENmix 1.37.01  (landing page)
Zongli Xu
git_last_commit: b70c975
git_last_commit_date: 2023-05-15 14:30:02 -0400
nebbiolo2Linux (Ubuntu 22.04.2 LTS) / x86_64  OK    OK    OK  UNNEEDED, same version is already published
palomino4Windows Server 2022 Datacenter / x64  OK    OK    OK    OK  UNNEEDED, same version is already published
lconwaymacOS 12.6.5 Monterey / x86_64  OK    OK    OK    OK  UNNEEDED, same version is already published
Package 12/43HostnameOS / ArchINSTALLBUILDCHECKBUILD BIN
ExiMiR 2.43.0  (landing page)
Sylvain Gubian
git_last_commit: 8180cd1
git_last_commit_date: 2023-04-25 10:18:44 -0400
nebbiolo2Linux (Ubuntu 22.04.2 LTS) / x86_64  OK    OK    OK  NO, package depends on 'affy' which is not available
palomino4Windows Server 2022 Datacenter / x64  OK    OK    OK    OK  UNNEEDED, same version is already published
lconwaymacOS 12.6.5 Monterey / x86_64  OK    OK    OK    OK  UNNEEDED, same version is already published
Package 13/43HostnameOS / ArchINSTALLBUILDCHECKBUILD BIN
fastLiquidAssociation 1.37.0  (landing page)
Tina Gunderson
git_last_commit: a9ce857
git_last_commit_date: 2023-04-25 10:32:04 -0400
nebbiolo2Linux (Ubuntu 22.04.2 LTS) / x86_64  OK    OK    WARNINGS  UNNEEDED, same version is already published
palomino4Windows Server 2022 Datacenter / x64  OK    OK    WARNINGS    OK  UNNEEDED, same version is already published
lconwaymacOS 12.6.5 Monterey / x86_64  OK    OK    WARNINGS    OK  UNNEEDED, same version is already published
Package 14/43HostnameOS / ArchINSTALLBUILDCHECKBUILD BIN
frma 1.53.0  (landing page)
Matthew N. McCall
git_last_commit: d127acf
git_last_commit_date: 2023-04-25 09:50:01 -0400
nebbiolo2Linux (Ubuntu 22.04.2 LTS) / x86_64  OK    OK    OK  NO, package depends on 'affy' which is not available
palomino4Windows Server 2022 Datacenter / x64  OK    OK    OK    OK  UNNEEDED, same version is already published
lconwaymacOS 12.6.5 Monterey / x86_64  OK    OK    OK    OK  UNNEEDED, same version is already published
Package 15/43HostnameOS / ArchINSTALLBUILDCHECKBUILD BIN
frmaTools 1.53.0  (landing page)
Matthew N. McCall
git_last_commit: 281c62f
git_last_commit_date: 2023-04-25 09:50:04 -0400
nebbiolo2Linux (Ubuntu 22.04.2 LTS) / x86_64  OK    OK    OK  NO, package depends on 'affy' which is not available
palomino4Windows Server 2022 Datacenter / x64  OK    OK    OK    OK  UNNEEDED, same version is already published
lconwaymacOS 12.6.5 Monterey / x86_64  OK    OK    OK    OK  UNNEEDED, same version is already published
Package 16/43HostnameOS / ArchINSTALLBUILDCHECKBUILD BIN
hipathia 3.1.0  (landing page)
Marta R. Hidalgo
git_last_commit: 176216f
git_last_commit_date: 2023-04-25 11:01:14 -0400
nebbiolo2Linux (Ubuntu 22.04.2 LTS) / x86_64  OK    ERROR  skipped
palomino4Windows Server 2022 Datacenter / x64  OK    ERROR  skippedskipped
lconwaymacOS 12.6.5 Monterey / x86_64  OK    ERROR  skippedskipped
Package 17/43HostnameOS / ArchINSTALLBUILDCHECKBUILD BIN
iCheck 1.31.0  (landing page)
Weiliang Qiu
git_last_commit: cf8766d
git_last_commit_date: 2023-04-25 10:41:52 -0400
nebbiolo2Linux (Ubuntu 22.04.2 LTS) / x86_64  OK    OK    OK  NO, package depends on 'lumi' which is not available
palomino4Windows Server 2022 Datacenter / x64  OK    OK    OK    OK  UNNEEDED, same version is already published
lconwaymacOS 12.6.5 Monterey / x86_64  OK    OK    OK    OK  UNNEEDED, same version is already published
Package 18/43HostnameOS / ArchINSTALLBUILDCHECKBUILD BIN
ImmuneSpaceR 1.29.0  (landing page)
ImmuneSpace Package Maintainer
git_last_commit: c5da00b
git_last_commit_date: 2023-04-25 10:46:58 -0400
nebbiolo2Linux (Ubuntu 22.04.2 LTS) / x86_64  OK    OK    OK  UNNEEDED, same version is already published
palomino4Windows Server 2022 Datacenter / x64  OK    OK    OK    OK  UNNEEDED, same version is already published
lconwaymacOS 12.6.5 Monterey / x86_64  OK    OK    OK    OK  UNNEEDED, same version is already published
Package 19/43HostnameOS / ArchINSTALLBUILDCHECKBUILD BIN
InPAS 2.9.0  (landing page)
Jianhong Ou
git_last_commit: 49ba2ad
git_last_commit_date: 2023-04-25 10:38:23 -0400
nebbiolo2Linux (Ubuntu 22.04.2 LTS) / x86_64  OK    OK    OK  UNNEEDED, same version is already published
palomino4Windows Server 2022 Datacenter / x64  OK    OK    OK    OK  UNNEEDED, same version is already published
lconwaymacOS 12.6.5 Monterey / x86_64  OK    OK    OK    OK  UNNEEDED, same version is already published
Package 20/43HostnameOS / ArchINSTALLBUILDCHECKBUILD BIN
lumi 2.53.0  (landing page)
Lei Huang
git_last_commit: 7b4455c
git_last_commit_date: 2023-04-25 09:44:43 -0400
nebbiolo2Linux (Ubuntu 22.04.2 LTS) / x86_64  OK    OK    WARNINGS  NO, package depends on 'affy' which is not available
palomino4Windows Server 2022 Datacenter / x64  OK    OK    WARNINGS    OK  UNNEEDED, same version is already published
lconwaymacOS 12.6.5 Monterey / x86_64  OK    OK    WARNINGS    OK  UNNEEDED, same version is already published
Package 21/43HostnameOS / ArchINSTALLBUILDCHECKBUILD BIN
MADSEQ 1.27.0  (landing page)
Yu Kong
git_last_commit: 1c19e33
git_last_commit_date: 2023-04-25 10:47:27 -0400
nebbiolo2Linux (Ubuntu 22.04.2 LTS) / x86_64  OK    OK    OK  UNNEEDED, same version is already published
palomino4Windows Server 2022 Datacenter / x64  OK    OK    OK    OK  UNNEEDED, same version is already published
lconwaymacOS 12.6.5 Monterey / x86_64  OK    OK    OK    OK  UNNEEDED, same version is already published
Package 22/43HostnameOS / ArchINSTALLBUILDCHECKBUILD BIN
MBCB 1.55.0  (landing page)
Jeff Allen
git_last_commit: f0c6e41
git_last_commit_date: 2023-04-25 09:51:19 -0400
nebbiolo2Linux (Ubuntu 22.04.2 LTS) / x86_64  OK    OK    OK  UNNEEDED, same version is already published
palomino4Windows Server 2022 Datacenter / x64  OK    OK    OK    OK  UNNEEDED, same version is already published
lconwaymacOS 12.6.5 Monterey / x86_64  OK    OK    OK    OK  UNNEEDED, same version is already published
Package 23/43HostnameOS / ArchINSTALLBUILDCHECKBUILD BIN
MBQN 2.13.0  (landing page)
Eva Brombacher
git_last_commit: aa61836
git_last_commit_date: 2023-04-25 11:13:30 -0400
nebbiolo2Linux (Ubuntu 22.04.2 LTS) / x86_64  OK    OK    OK  UNNEEDED, same version is already published
palomino4Windows Server 2022 Datacenter / x64  OK    OK    OK    OK  UNNEEDED, same version is already published
lconwaymacOS 12.6.5 Monterey / x86_64  OK    OK    OK    OK  UNNEEDED, same version is already published
Package 24/43HostnameOS / ArchINSTALLBUILDCHECKBUILD BIN
MEDIPS 1.53.0  (landing page)
Lukas Chavez
git_last_commit: 6d0469c
git_last_commit_date: 2023-04-25 10:18:20 -0400
nebbiolo2Linux (Ubuntu 22.04.2 LTS) / x86_64  OK    OK    OK  UNNEEDED, same version is already published
palomino4Windows Server 2022 Datacenter / x64  OK    OK    OK    OK  UNNEEDED, same version is already published
lconwaymacOS 12.6.5 Monterey / x86_64  OK    OK    OK    OK  UNNEEDED, same version is already published
Package 25/43HostnameOS / ArchINSTALLBUILDCHECKBUILD BIN
methylclock 1.7.0  (landing page)
Dolors Pelegri-Siso
git_last_commit: f96f93b
git_last_commit_date: 2023-04-25 11:31:03 -0400
nebbiolo2Linux (Ubuntu 22.04.2 LTS) / x86_64  OK    OK    OK  NO, package depends on 'methylclockData' which is not available
palomino4Windows Server 2022 Datacenter / x64  OK    OK    OK    OK  NO, package depends on 'methylclockData' which is not available
lconwaymacOS 12.6.5 Monterey / x86_64  OK    OK    OK    OK  NO, package depends on 'methylclockData' which is not available
Package 26/43HostnameOS / ArchINSTALLBUILDCHECKBUILD BIN
mimager 1.25.0  (landing page)
Aaron Wolen
git_last_commit: 555065c
git_last_commit_date: 2023-04-25 10:51:53 -0400
nebbiolo2Linux (Ubuntu 22.04.2 LTS) / x86_64  OK    OK    OK  NO, package depends on 'affy' which is not available
palomino4Windows Server 2022 Datacenter / x64  OK    OK    OK    OK  UNNEEDED, same version is already published
lconwaymacOS 12.6.5 Monterey / x86_64  OK    OK    OK    OK  UNNEEDED, same version is already published
Package 27/43HostnameOS / ArchINSTALLBUILDCHECKBUILD BIN
minfi 1.47.0  (landing page)
Kasper Daniel Hansen
git_last_commit: d85638f
git_last_commit_date: 2023-04-25 10:21:20 -0400
nebbiolo2Linux (Ubuntu 22.04.2 LTS) / x86_64  OK    OK    OK  UNNEEDED, same version is already published
palomino4Windows Server 2022 Datacenter / x64  OK    OK    OK    OK  UNNEEDED, same version is already published
lconwaymacOS 12.6.5 Monterey / x86_64  OK    OK    OK    OK  UNNEEDED, same version is already published
Package 28/43HostnameOS / ArchINSTALLBUILDCHECKBUILD BIN
MSPrep 1.11.0  (landing page)
Max McGrath
git_last_commit: 205f940
git_last_commit_date: 2023-04-25 11:23:17 -0400
nebbiolo2Linux (Ubuntu 22.04.2 LTS) / x86_64  OK    OK    OK  UNNEEDED, same version is already published
palomino4Windows Server 2022 Datacenter / x64  OK    OK    OK    OK  UNNEEDED, same version is already published
lconwaymacOS 12.6.5 Monterey / x86_64  OK    OK    OK    OK  UNNEEDED, same version is already published
Package 29/43HostnameOS / ArchINSTALLBUILDCHECKBUILD BIN
MSstats 4.9.1  (landing page)
Meena Choi
git_last_commit: 032f6e4
git_last_commit_date: 2023-05-02 09:47:12 -0400
nebbiolo2Linux (Ubuntu 22.04.2 LTS) / x86_64  OK    OK    OK  UNNEEDED, same version is already published
palomino4Windows Server 2022 Datacenter / x64  OK    OK    OK    OK  UNNEEDED, same version is already published
lconwaymacOS 12.6.5 Monterey / x86_64  OK    OK    OK    OK  UNNEEDED, same version is already published
Package 30/43HostnameOS / ArchINSTALLBUILDCHECKBUILD BIN
NormalyzerDE 1.19.0  (landing page)
Jakob Willforss
git_last_commit: 010b25e
git_last_commit_date: 2023-04-25 11:04:15 -0400
nebbiolo2Linux (Ubuntu 22.04.2 LTS) / x86_64  OK    OK    OK  NO, package depends on 'vsn' which is not available
palomino4Windows Server 2022 Datacenter / x64  OK    ERROR  skippedskipped
lconwaymacOS 12.6.5 Monterey / x86_64  OK    OK    OK    OK  UNNEEDED, same version is already published
Package 31/43HostnameOS / ArchINSTALLBUILDCHECKBUILD BIN
oligo 1.65.0  (landing page)
Benilton Carvalho
git_last_commit: 261cd56
git_last_commit_date: 2023-04-25 09:42:11 -0400
nebbiolo2Linux (Ubuntu 22.04.2 LTS) / x86_64  OK    OK    WARNINGS  UNNEEDED, same version is already published
palomino4Windows Server 2022 Datacenter / x64  OK    OK    WARNINGS    OK  UNNEEDED, same version is already published
lconwaymacOS 12.6.5 Monterey / x86_64  OK    OK    WARNINGS    OK  UNNEEDED, same version is already published
Package 32/43HostnameOS / ArchINSTALLBUILDCHECKBUILD BIN
PanomiR 1.5.0  (landing page)
Pourya Naderi
git_last_commit: 13f29c7
git_last_commit_date: 2023-04-25 11:35:47 -0400
nebbiolo2Linux (Ubuntu 22.04.2 LTS) / x86_64  OK    OK    OK  UNNEEDED, same version is already published
palomino4Windows Server 2022 Datacenter / x64  OK    OK    OK    OK  UNNEEDED, same version is already published
lconwaymacOS 12.6.5 Monterey / x86_64  OK    OK    OK    OK  UNNEEDED, same version is already published
Package 33/43HostnameOS / ArchINSTALLBUILDCHECKBUILD BIN
PECA 1.37.0  (landing page)
Tomi Suomi
git_last_commit: c7ed554
git_last_commit_date: 2023-04-25 10:29:41 -0400
nebbiolo2Linux (Ubuntu 22.04.2 LTS) / x86_64  OK    OK    OK  NO, package depends on 'affy' which is not available
palomino4Windows Server 2022 Datacenter / x64  OK    OK    OK    OK  UNNEEDED, same version is already published
lconwaymacOS 12.6.5 Monterey / x86_64  OK    OK    OK    OK  UNNEEDED, same version is already published
Package 34/43HostnameOS / ArchINSTALLBUILDCHECKBUILD BIN
PhosR 1.11.0  (landing page)
Taiyun Kim
git_last_commit: cdc7cc4
git_last_commit_date: 2023-04-25 11:22:59 -0400
nebbiolo2Linux (Ubuntu 22.04.2 LTS) / x86_64  OK    OK    OK  UNNEEDED, same version is already published
palomino4Windows Server 2022 Datacenter / x64  OK    OK    OK    OK  UNNEEDED, same version is already published
lconwaymacOS 12.6.5 Monterey / x86_64  OK    OK    OK    OK  UNNEEDED, same version is already published
Package 35/43HostnameOS / ArchINSTALLBUILDCHECKBUILD BIN
Pigengene 1.27.14  (landing page)
Habil Zare
git_last_commit: 8842e9f
git_last_commit_date: 2023-05-24 17:17:13 -0400
nebbiolo2Linux (Ubuntu 22.04.2 LTS) / x86_64  OK    OK    OK  UNNEEDED, same version is already published
palomino4Windows Server 2022 Datacenter / x64  OK    OK    OK    OK  NO, package depends on 'BiocStyle' which is not available
lconwaymacOS 12.6.5 Monterey / x86_64  OK    OK    OK    OK  UNNEEDED, same version is already published
Package 36/43HostnameOS / ArchINSTALLBUILDCHECKBUILD BIN
qPLEXanalyzer 1.19.0  (landing page)
Ashley Sawle
git_last_commit: d05784d
git_last_commit_date: 2023-04-25 11:02:47 -0400
nebbiolo2Linux (Ubuntu 22.04.2 LTS) / x86_64  OK    OK    OK  NO, package depends on 'MSnbase' which is not available
palomino4Windows Server 2022 Datacenter / x64  OK    OK    OK    OK  UNNEEDED, same version is already published
lconwaymacOS 12.6.5 Monterey / x86_64  OK    OK    OK    OK  UNNEEDED, same version is already published
Package 37/43HostnameOS / ArchINSTALLBUILDCHECKBUILD BIN
quantiseqr 1.9.0  (landing page)
Federico Marini
git_last_commit: e0889f3
git_last_commit_date: 2023-04-25 11:29:09 -0400
nebbiolo2Linux (Ubuntu 22.04.2 LTS) / x86_64  OK    OK    OK  UNNEEDED, same version is already published
palomino4Windows Server 2022 Datacenter / x64  OK    OK    OK    OK  UNNEEDED, same version is already published
lconwaymacOS 12.6.5 Monterey / x86_64  OK    OK    OK    OK  UNNEEDED, same version is already published
Package 38/43HostnameOS / ArchINSTALLBUILDCHECKBUILD BIN
RefPlus 1.71.0  (landing page)
Kai-Ming Chang
git_last_commit: 0ca226b
git_last_commit_date: 2023-04-25 09:44:38 -0400
nebbiolo2Linux (Ubuntu 22.04.2 LTS) / x86_64  OK    OK    ERROR  
palomino4Windows Server 2022 Datacenter / x64  OK    OK    OK    OK  UNNEEDED, same version is already published
lconwaymacOS 12.6.5 Monterey / x86_64  OK    OK    OK    OK  UNNEEDED, same version is already published
Package 39/43HostnameOS / ArchINSTALLBUILDCHECKBUILD BIN
SCATE 1.11.0  (landing page)
Wenpin Hou
git_last_commit: a5d9003
git_last_commit_date: 2023-04-25 11:22:07 -0400
nebbiolo2Linux (Ubuntu 22.04.2 LTS) / x86_64  OK    OK    ERROR  
palomino4Windows Server 2022 Datacenter / x64  OK    OK    OK    OK  NO, package depends on 'SCATEData' which is not available
lconwaymacOS 12.6.5 Monterey / x86_64  OK    OK    OK    OK  NO, package depends on 'SCATEData' which is not available
Package 40/43HostnameOS / ArchINSTALLBUILDCHECKBUILD BIN
sesame 1.19.4  (landing page)
Wanding Zhou
git_last_commit: 939b6c8
git_last_commit_date: 2023-05-21 23:26:00 -0400
nebbiolo2Linux (Ubuntu 22.04.2 LTS) / x86_64  OK    ERROR  skipped
palomino4Windows Server 2022 Datacenter / x64  OK    ERROR  skippedskipped
lconwaymacOS 12.6.5 Monterey / x86_64  OK    ERROR  skippedskipped
Package 41/43HostnameOS / ArchINSTALLBUILDCHECKBUILD BIN
soGGi 1.33.0  (landing page)
Tom Carroll
git_last_commit: 60ebec2
git_last_commit_date: 2023-04-25 10:39:19 -0400
nebbiolo2Linux (Ubuntu 22.04.2 LTS) / x86_64  OK    OK    OK  UNNEEDED, same version is already published
palomino4Windows Server 2022 Datacenter / x64  OK    OK    OK    OK  UNNEEDED, same version is already published
lconwaymacOS 12.6.5 Monterey / x86_64  OK    OK    OK    OK  UNNEEDED, same version is already published
Package 42/43HostnameOS / ArchINSTALLBUILDCHECKBUILD BIN
tidybulk 1.13.0  (landing page)
Stefano Mangiola
git_last_commit: 726fc15
git_last_commit_date: 2023-04-25 11:16:05 -0400
nebbiolo2Linux (Ubuntu 22.04.2 LTS) / x86_64  OK    OK    WARNINGS  UNNEEDED, same version is already published
palomino4Windows Server 2022 Datacenter / x64  OK    OK    WARNINGS    OK  UNNEEDED, same version is already published
lconwaymacOS 12.6.5 Monterey / x86_64  OK    OK    WARNINGS    OK  UNNEEDED, same version is already published
Package 43/43HostnameOS / ArchINSTALLBUILDCHECKBUILD BIN
yarn 1.27.0  (landing page)
Joseph N Paulson
git_last_commit: be4cd76
git_last_commit_date: 2023-04-25 10:51:02 -0400
nebbiolo2Linux (Ubuntu 22.04.2 LTS) / x86_64  OK    OK    OK  UNNEEDED, same version is already published
palomino4Windows Server 2022 Datacenter / x64  OK    OK    OK    OK  UNNEEDED, same version is already published
lconwaymacOS 12.6.5 Monterey / x86_64  OK    OK    OK    OK  UNNEEDED, same version is already published