Back to Build/check report for BioC 3.15
[A]BCDEFGHIJKLMNOPQRSTUVWXYZ

This page was generated on 2021-10-27 12:44:01 -0400 (Wed, 27 Oct 2021).

All results for package ArrayExpress

To the developers/maintainers of the ArrayExpress package:
- Please allow up to 24 hours (and sometimes 48 hours) for your latest push to git@git.bioconductor.org:packages/ArrayExpress.git to
reflect on this report. See How and When does the builder pull? When will my changes propagate? here for more information.
- Make sure to use the following settings in order to reproduce any error or warning you see on this page.

raw results

Package 75/2060HostnameOS / ArchINSTALLBUILDCHECKBUILD BIN
ArrayExpress 1.55.0  (landing page)
Suhaib Mohammed
Snapshot Date: 2021-10-26 14:50:02 -0400 (Tue, 26 Oct 2021)
git_url: https://git.bioconductor.org/packages/ArrayExpress
git_branch: master
git_last_commit: c87a145
git_last_commit_date: 2021-10-26 11:52:59 -0400 (Tue, 26 Oct 2021)
nebbiolo1Linux (Ubuntu 20.04.2 LTS) / x86_64  OK    ERROR  skipped

Results for Bioconductor software packages that depend directly on package ArrayExpress

QUICK STATSOS / ArchINSTALLBUILDCHECKBUILD BIN
nebbiolo1Linux (Ubuntu 20.04.2 LTS) / x86_64
001
001
0001
Package 1/1HostnameOS / ArchINSTALLBUILDCHECKBUILD BIN
DrugVsDisease 2.37.0  (landing page)
j. Saez-Rodriguez
git_last_commit: 0de3be5
git_last_commit_date: 2021-10-26 12:06:31 -0400
nebbiolo1Linux (Ubuntu 20.04.2 LTS) / x86_64  OK    OK    OK  NO, package depends on 'ArrayExpress' which is not available