Back to Multiple platform build/check report for BioC 3.18:   simplified   long
ABCDEFGH[I]JKLMNOPQRSTUVWXYZ

This page was generated on 2023-09-23 11:38:55 -0400 (Sat, 23 Sep 2023).

HostnameOSArch (*)R versionInstalled pkgs
nebbiolo2Linux (Ubuntu 22.04.2 LTS)x86_644.3.1 (2023-06-16) -- "Beagle Scouts" 4659
palomino4Windows Server 2022 Datacenterx644.3.1 (2023-06-16 ucrt) -- "Beagle Scouts" 4394
lconwaymacOS 12.6.5 Montereyx86_644.3.1 Patched (2023-06-17 r84564) -- "Beagle Scouts" 4408
kunpeng2Linux (openEuler 22.03 LTS-SP1)aarch644.3.1 (2023-06-16) -- "Beagle Scouts" 4397
Click on any hostname to see more info about the system (e.g. compilers)      (*) as reported by 'uname -p', except on Windows and Mac OS X

Package 1044/2233HostnameOS / ArchINSTALLBUILDCHECKBUILD BIN
IsoCorrectoR 1.19.0  (landing page)
Christian Kohler
Snapshot Date: 2023-09-22 14:05:07 -0400 (Fri, 22 Sep 2023)
git_url: https://git.bioconductor.org/packages/IsoCorrectoR
git_branch: devel
git_last_commit: 6e5c078
git_last_commit_date: 2023-04-25 11:04:41 -0400 (Tue, 25 Apr 2023)
nebbiolo2Linux (Ubuntu 22.04.2 LTS) / x86_64  OK    OK    OK  UNNEEDED, same version is already published
palomino4Windows Server 2022 Datacenter / x64  OK    OK    OK    OK  UNNEEDED, same version is already published
lconwaymacOS 12.6.5 Monterey / x86_64  OK    OK    OK    OK  UNNEEDED, same version is already published
kunpeng2Linux (openEuler 22.03 LTS-SP1) / aarch64  OK    OK    OK  

BUILD BIN results for IsoCorrectoR on lconway


To the developers/maintainers of the IsoCorrectoR package:
- Allow up to 24 hours (and sometimes 48 hours) for your latest push to git@git.bioconductor.org:packages/IsoCorrectoR.git to reflect on this report. See Troubleshooting Build Report for more information.
- Use the following Renviron settings to reproduce errors and warnings.
- If 'R CMD check' started to fail recently on the Linux builder(s) over a missing dependency, add the missing dependency to 'Suggests:' in your DESCRIPTION file. See Renviron.bioc for more information.

raw results


Summary

Package: IsoCorrectoR
Version: 1.19.0
Command: rm -rf IsoCorrectoR.buildbin-libdir && mkdir IsoCorrectoR.buildbin-libdir && /Users/biocbuild/BBS/utils/build-universal.sh IsoCorrectoR_1.19.0.tar.gz /Library/Frameworks/R.framework/Resources/bin/R IsoCorrectoR.buildbin-libdir
StartedAt: 2023-09-23 00:29:14 -0400 (Sat, 23 Sep 2023)
EndedAt: 2023-09-23 00:29:27 -0400 (Sat, 23 Sep 2023)
EllapsedTime: 13.1 seconds
RetCode: 0
Status:   OK  
PackageFile: IsoCorrectoR_1.19.0.tgz
PackageFileSize: 1.745 MiB

Command output

##############################################################################
##############################################################################
###
### Running command:
###
###   rm -rf IsoCorrectoR.buildbin-libdir && mkdir IsoCorrectoR.buildbin-libdir && /Users/biocbuild/BBS/utils/build-universal.sh IsoCorrectoR_1.19.0.tar.gz /Library/Frameworks/R.framework/Resources/bin/R IsoCorrectoR.buildbin-libdir
###
##############################################################################
##############################################################################


>>>>>>> 
>>>>>>> INSTALLATION WITH 'R CMD INSTALL --preclean --no-multiarch --library=IsoCorrectoR.buildbin-libdir IsoCorrectoR_1.19.0.tar.gz'
>>>>>>> 

* installing *source* package ‘IsoCorrectoR’ ...
** using staged installation
** R
** data
*** moving datasets to lazyload DB
** inst
** byte-compile and prepare package for lazy loading
** help
*** installing help indices
** building package indices
** installing vignettes
** testing if installed package can be loaded from temporary location
** testing if installed package can be loaded from final location
** testing if installed package keeps a record of temporary installation path
* DONE (IsoCorrectoR)