Back to Multiple platform build/check report for BioC 3.13
ABCDEFGHIJKL[M]NOPQRSTUVWXYZ

Multiple platform build/check report for BioC 3.13

Results for made4

This page was generated on 2020-11-23 12:15:43 -0500 (Mon, 23 Nov 2020).

Package 957/1907HostnameOS / ArchINSTALLBUILDCHECKBUILD BIN
made4 1.65.0
Aedin Culhane
Snapshot Date: 2020-11-22 14:40:22 -0500 (Sun, 22 Nov 2020)
URL: https://git.bioconductor.org/packages/made4
Branch: master
Last Commit: f4597fb
Last Changed Date: 2020-10-27 10:25:28 -0500 (Tue, 27 Oct 2020)
malbec2 Linux (Ubuntu 20.04.1 LTS) / x86_64  OK  OK  OK UNNEEDED, same version exists in internal repository
tokay2 Windows Server 2012 R2 Standard / x64  OK  OK  OK  OK UNNEEDED, same version exists in internal repository
riesling1 Windows Server 2019 Standard / x64  OK  OK  OK  OK 
machv2 macOS 10.14.6 Mojave / x86_64  OK  OK  OK  OK UNNEEDED, same version exists in internal repository