Back to Build/check report for BioC 3.13
ABCDEFGHIJKLMNOPQR[S]TUVWXYZ

Build/check report for BioC 3.13

Results for SCnorm

This page was generated on 2020-10-29 10:59:28 -0400 (Thu, 29 Oct 2020).

Package 1591/1906HostnameOS / ArchINSTALLBUILDCHECKBUILD BIN
SCnorm 1.13.0
Rhonda Bacher
Snapshot Date: 2020-10-28 14:40:04 -0400 (Wed, 28 Oct 2020)
URL: https://git.bioconductor.org/packages/SCnorm
Branch: master
Last Commit: a0c3ff9
Last Changed Date: 2020-10-27 11:26:06 -0400 (Tue, 27 Oct 2020)
malbec2 Linux (Ubuntu 18.04.4 LTS) / x86_64  OK  OK  OK UNNEEDED, same version exists in internal repository