Back to Multiple platform build/check report for BioC 3.18:   simplified   long
ABCDEFGHIJKLMNOPQR[S]TUVWXYZ

This page was generated on 2023-06-02 11:05:08 -0400 (Fri, 02 Jun 2023).

HostnameOSArch (*)R versionInstalled pkgs
nebbiolo2Linux (Ubuntu 22.04.2 LTS)x86_644.3.0 RC (2023-04-18 r84287) -- "Already Tomorrow" 4588
palomino4Windows Server 2022 Datacenterx644.3.0 RC (2023-04-18 r84287 ucrt) -- "Already Tomorrow" 4337
lconwaymacOS 12.6.5 Montereyx86_644.3.0 RC (2023-04-13 r84266) -- "Already Tomorrow" 4338
Click on any hostname to see more info about the system (e.g. compilers)      (*) as reported by 'uname -p', except on Windows and Mac OS X

All results for package SummarizedExperiment


To the developers/maintainers of the SummarizedExperiment package:
- Allow up to 24 hours (and sometimes 48 hours) for your latest push to git@git.bioconductor.org:packages/SummarizedExperiment.git to reflect on this report. See Troubleshooting Build Report for more information.

- Use the following Renviron settings to reproduce errors and warnings.

Note: If "R CMD check" recently failed on the Linux builder over a missing dependency, add the missing dependency to "Suggests" in your DESCRIPTION file. See the Renviron.bioc for details.

raw results

Package 2009/2197HostnameOS / ArchINSTALLBUILDCHECKBUILD BIN
SummarizedExperiment 1.31.1  (landing page)
Hervé Pagès
Snapshot Date: 2023-06-01 14:00:07 -0400 (Thu, 01 Jun 2023)
git_url: https://git.bioconductor.org/packages/SummarizedExperiment
git_branch: devel
git_last_commit: c4a8bd8
git_last_commit_date: 2023-04-30 20:54:53 -0400 (Sun, 30 Apr 2023)
nebbiolo2Linux (Ubuntu 22.04.2 LTS) / x86_64  OK    OK    OK  UNNEEDED, same version is already published
palomino4Windows Server 2022 Datacenter / x64  OK    OK    OK    OK  UNNEEDED, same version is already published
lconwaymacOS 12.6.5 Monterey / x86_64  OK    OK    OK    OK  UNNEEDED, same version is already published

Results for Bioconductor software packages that depend directly on package SummarizedExperiment

QUICK STATSOS / ArchINSTALLBUILDCHECKBUILD BIN
nebbiolo2Linux (Ubuntu 22.04.2 LTS) / x86_64
01503
08496
03677383
palomino4Windows Server 2022 Datacenter / x64
02496
020478
01071397
00478
lconwaymacOS 12.6.5 Monterey / x86_64
05497
016486
01476396
00486
Package 1/504HostnameOS / ArchINSTALLBUILDCHECKBUILD BIN
ADAM 1.17.0  (landing page)
Jose Luiz Rybarczyk Filho
git_last_commit: 825cb4a
git_last_commit_date: 2023-04-25 11:06:22 -0400
nebbiolo2Linux (Ubuntu 22.04.2 LTS) / x86_64  OK    OK    OK  UNNEEDED, same version is already published
palomino4Windows Server 2022 Datacenter / x64  OK    OK    OK    OK  UNNEEDED, same version is already published
lconwaymacOS 12.6.5 Monterey / x86_64  OK    OK    OK    OK  UNNEEDED, same version is already published
Package 2/504HostnameOS / ArchINSTALLBUILDCHECKBUILD BIN
ADImpute 1.11.0  (landing page)
Ana Carolina Leote
git_last_commit: b020395
git_last_commit_date: 2023-04-25 11:24:24 -0400
nebbiolo2Linux (Ubuntu 22.04.2 LTS) / x86_64  OK    OK    WARNINGS  UNNEEDED, same version is already published
palomino4Windows Server 2022 Datacenter / x64  OK    OK    WARNINGS    OK  UNNEEDED, same version is already published
lconwaymacOS 12.6.5 Monterey / x86_64  OK    OK    WARNINGS    OK  UNNEEDED, same version is already published
Package 3/504HostnameOS / ArchINSTALLBUILDCHECKBUILD BIN
AffiXcan 1.19.0  (landing page)
Alessandro Lussana
git_last_commit: efbb042
git_last_commit_date: 2023-04-25 11:04:58 -0400
nebbiolo2Linux (Ubuntu 22.04.2 LTS) / x86_64  OK    OK    OK  UNNEEDED, same version is already published
palomino4Windows Server 2022 Datacenter / x64  OK    OK    OK    OK  UNNEEDED, same version is already published
lconwaymacOS 12.6.5 Monterey / x86_64  OK    OK    OK    OK  UNNEEDED, same version is already published
Package 4/504HostnameOS / ArchINSTALLBUILDCHECKBUILD BIN
aggregateBioVar 1.11.0  (landing page)
Jason Ratcliff
git_last_commit: efce52d
git_last_commit_date: 2023-04-25 11:23:10 -0400
nebbiolo2Linux (Ubuntu 22.04.2 LTS) / x86_64  OK    OK    OK  UNNEEDED, same version is already published
palomino4Windows Server 2022 Datacenter / x64  OK    OK    OK    OK  UNNEEDED, same version is already published
lconwaymacOS 12.6.5 Monterey / x86_64  OK    OK    OK    OK  UNNEEDED, same version is already published
Package 5/504HostnameOS / ArchINSTALLBUILDCHECKBUILD BIN
airpart 1.9.0  (landing page)
Wancen Mu
git_last_commit: 79e45b5
git_last_commit_date: 2023-04-25 11:28:04 -0400
nebbiolo2Linux (Ubuntu 22.04.2 LTS) / x86_64  OK    OK    OK  UNNEEDED, same version is already published
palomino4Windows Server 2022 Datacenter / x64  OK    OK    OK    OK  NO, package depends on 'scater' which is not available
lconwaymacOS 12.6.5 Monterey / x86_64  OK    OK    OK    OK  UNNEEDED, same version is already published
Package 6/504HostnameOS / ArchINSTALLBUILDCHECKBUILD BIN
alabaster.se 1.1.0  (landing page)
Aaron Lun
git_last_commit: 024a9cb
git_last_commit_date: 2023-04-25 11:42:52 -0400
nebbiolo2Linux (Ubuntu 22.04.2 LTS) / x86_64  OK    OK    OK  UNNEEDED, same version is already published
palomino4Windows Server 2022 Datacenter / x64  OK    OK    OK    OK  UNNEEDED, same version is already published
lconwaymacOS 12.6.5 Monterey / x86_64  OK    OK    OK    OK  UNNEEDED, same version is already published
Package 7/504HostnameOS / ArchINSTALLBUILDCHECKBUILD BIN
alabaster.spatial 1.1.0  (landing page)
Aaron Lun
git_last_commit: ebaf837
git_last_commit_date: 2023-04-25 11:42:58 -0400
nebbiolo2Linux (Ubuntu 22.04.2 LTS) / x86_64  OK    OK    OK  UNNEEDED, same version is already published
palomino4Windows Server 2022 Datacenter / x64  OK    OK    OK    OK  UNNEEDED, same version is already published
lconwaymacOS 12.6.5 Monterey / x86_64  OK    OK    OK    OK  UNNEEDED, same version is already published
Package 8/504HostnameOS / ArchINSTALLBUILDCHECKBUILD BIN
ALDEx2 1.33.0  (landing page)
Greg Gloor
git_last_commit: b8756f5
git_last_commit_date: 2023-04-25 10:34:57 -0400
nebbiolo2Linux (Ubuntu 22.04.2 LTS) / x86_64  OK    OK    WARNINGS  UNNEEDED, same version is already published
palomino4Windows Server 2022 Datacenter / x64  OK    OK    WARNINGS    OK  UNNEEDED, same version is already published
lconwaymacOS 12.6.5 Monterey / x86_64  OK    OK    WARNINGS    OK  UNNEEDED, same version is already published
Package 9/504HostnameOS / ArchINSTALLBUILDCHECKBUILD BIN
AllelicImbalance 1.39.0  (landing page)
Jesper R Gadin
git_last_commit: 27fbf7d
git_last_commit_date: 2023-04-25 10:28:56 -0400
nebbiolo2Linux (Ubuntu 22.04.2 LTS) / x86_64  OK    OK    OK  UNNEEDED, same version is already published
palomino4Windows Server 2022 Datacenter / x64  OK    ERROR  skippedskipped
lconwaymacOS 12.6.5 Monterey / x86_64  OK    OK    OK    OK  UNNEEDED, same version is already published
Package 10/504HostnameOS / ArchINSTALLBUILDCHECKBUILD BIN
ANCOMBC 2.3.0  (landing page)
Huang Lin
git_last_commit: 2c0d3dc
git_last_commit_date: 2023-04-25 11:22:30 -0400
nebbiolo2Linux (Ubuntu 22.04.2 LTS) / x86_64  OK    OK    OK  UNNEEDED, same version is already published
palomino4Windows Server 2022 Datacenter / x64  OK    OK    OK    OK  NO, package depends on 'mia' which is not available
lconwaymacOS 12.6.5 Monterey / x86_64  OK    OK    OK    OK  UNNEEDED, same version is already published
Package 11/504HostnameOS / ArchINSTALLBUILDCHECKBUILD BIN
animalcules 1.17.0  (landing page)
Yue Zhao
git_last_commit: 0656edd
git_last_commit_date: 2023-04-25 11:10:12 -0400
nebbiolo2Linux (Ubuntu 22.04.2 LTS) / x86_64  OK    OK    ERROR  
palomino4Windows Server 2022 Datacenter / x64  OK    OK    WARNINGS    OK  UNNEEDED, same version is already published
lconwaymacOS 12.6.5 Monterey / x86_64  OK    OK    WARNINGS    OK  UNNEEDED, same version is already published
Package 12/504HostnameOS / ArchINSTALLBUILDCHECKBUILD BIN
anota2seq 1.23.0  (landing page)
Christian Oertlin , Julie Lorent
git_last_commit: 131d9bc
git_last_commit_date: 2023-04-25 10:57:11 -0400
nebbiolo2Linux (Ubuntu 22.04.2 LTS) / x86_64  OK    OK    WARNINGS  UNNEEDED, same version is already published
palomino4Windows Server 2022 Datacenter / x64  OK    OK    OK    OK  UNNEEDED, same version is already published
lconwaymacOS 12.6.5 Monterey / x86_64  OK    OK    OK    OK  UNNEEDED, same version is already published
Package 13/504HostnameOS / ArchINSTALLBUILDCHECKBUILD BIN
APAlyzer 1.15.0  (landing page)
Ruijia Wang
git_last_commit: 2a27d1e
git_last_commit_date: 2023-04-25 11:11:42 -0400
nebbiolo2Linux (Ubuntu 22.04.2 LTS) / x86_64  OK    OK    WARNINGS  UNNEEDED, same version is already published
palomino4Windows Server 2022 Datacenter / x64  OK    OK    WARNINGS    OK  UNNEEDED, same version is already published
lconwaymacOS 12.6.5 Monterey / x86_64  OK    OK    WARNINGS    OK  UNNEEDED, same version is already published
Package 14/504HostnameOS / ArchINSTALLBUILDCHECKBUILD BIN
apeglm 1.23.1  (landing page)
Anqi Zhu
git_last_commit: fefb66e
git_last_commit_date: 2023-05-12 15:44:49 -0400
nebbiolo2Linux (Ubuntu 22.04.2 LTS) / x86_64  OK    OK    OK  UNNEEDED, same version is already published
palomino4Windows Server 2022 Datacenter / x64  OK    OK    OK    OK  UNNEEDED, same version is already published
lconwaymacOS 12.6.5 Monterey / x86_64  OK    OK    OK    OK  UNNEEDED, same version is already published
Package 15/504HostnameOS / ArchINSTALLBUILDCHECKBUILD BIN
APL 1.5.0  (landing page)
Elzbieta Gralinska
git_last_commit: def621d
git_last_commit_date: 2023-04-25 11:38:17 -0400
nebbiolo2Linux (Ubuntu 22.04.2 LTS) / x86_64  OK    OK    OK  UNNEEDED, same version is already published
palomino4Windows Server 2022 Datacenter / x64  OK    OK    OK    OK  UNNEEDED, same version is already published
lconwaymacOS 12.6.5 Monterey / x86_64  OK    OK    OK    OK  UNNEEDED, same version is already published
Package 16/504HostnameOS / ArchINSTALLBUILDCHECKBUILD BIN
appreci8R 1.19.0  (landing page)
Sarah Sandmann
git_last_commit: 1e15c58
git_last_commit_date: 2023-04-25 11:02:58 -0400
nebbiolo2Linux (Ubuntu 22.04.2 LTS) / x86_64  OK    OK    WARNINGS  UNNEEDED, same version is already published
palomino4Windows Server 2022 Datacenter / x64  OK    OK    WARNINGS    OK  UNNEEDED, same version is already published
lconwaymacOS 12.6.5 Monterey / x86_64  OK    OK    WARNINGS    OK  UNNEEDED, same version is already published
Package 17/504HostnameOS / ArchINSTALLBUILDCHECKBUILD BIN
ASICS 2.17.0  (landing page)
Gaëlle Lefort
git_last_commit: 1b49038
git_last_commit_date: 2023-04-25 11:00:30 -0400
nebbiolo2Linux (Ubuntu 22.04.2 LTS) / x86_64  OK    OK    OK  UNNEEDED, same version is already published
palomino4Windows Server 2022 Datacenter / x64  OK    OK    OK    OK  UNNEEDED, same version is already published
lconwaymacOS 12.6.5 Monterey / x86_64  OK    OK    OK    OK  UNNEEDED, same version is already published
Package 18/504HostnameOS / ArchINSTALLBUILDCHECKBUILD BIN
ASURAT 1.5.0  (landing page)
Keita Iida
git_last_commit: 50e722a
git_last_commit_date: 2023-04-25 11:36:55 -0400
nebbiolo2Linux (Ubuntu 22.04.2 LTS) / x86_64  OK    OK    OK  UNNEEDED, same version is already published
palomino4Windows Server 2022 Datacenter / x64  OK    OK    OK    OK  UNNEEDED, same version is already published
lconwaymacOS 12.6.5 Monterey / x86_64  OK    OK    OK    OK  UNNEEDED, same version is already published
Package 19/504HostnameOS / ArchINSTALLBUILDCHECKBUILD BIN
ATACseqTFEA 1.3.0  (landing page)
Jianhong Ou
git_last_commit: 6267490
git_last_commit_date: 2023-04-25 11:39:37 -0400
nebbiolo2Linux (Ubuntu 22.04.2 LTS) / x86_64  OK    OK    OK  UNNEEDED, same version is already published
palomino4Windows Server 2022 Datacenter / x64  OK    OK    OK    OK  UNNEEDED, same version is already published
lconwaymacOS 12.6.5 Monterey / x86_64  OK    OK    OK    OK  UNNEEDED, same version is already published
Package 20/504HostnameOS / ArchINSTALLBUILDCHECKBUILD BIN
atena 1.7.0  (landing page)
Beatriz Calvo-Serra
git_last_commit: f67c375
git_last_commit_date: 2023-04-25 11:32:49 -0400
nebbiolo2Linux (Ubuntu 22.04.2 LTS) / x86_64  OK    OK    OK  UNNEEDED, same version is already published
palomino4Windows Server 2022 Datacenter / x64  OK    OK    OK    OK  UNNEEDED, same version is already published
lconwaymacOS 12.6.5 Monterey / x86_64  OK    OK    OK    OK  UNNEEDED, same version is already published
Package 21/504HostnameOS / ArchINSTALLBUILDCHECKBUILD BIN
AUCell 1.23.0  (landing page)
Sara Aibar
git_last_commit: a9e4426
git_last_commit_date: 2023-04-25 10:56:34 -0400
nebbiolo2Linux (Ubuntu 22.04.2 LTS) / x86_64  OK    OK    OK  UNNEEDED, same version is already published
palomino4Windows Server 2022 Datacenter / x64  OK    OK    OK    OK  UNNEEDED, same version is already published
lconwaymacOS 12.6.5 Monterey / x86_64  OK    OK    OK    OK  UNNEEDED, same version is already published
Package 22/504HostnameOS / ArchINSTALLBUILDCHECKBUILD BIN
autonomics 1.9.0  (landing page)
Aditya Bhagwat
git_last_commit: b7118ef
git_last_commit_date: 2023-04-25 11:27:21 -0400
nebbiolo2Linux (Ubuntu 22.04.2 LTS) / x86_64  OK    OK    WARNINGS  UNNEEDED, same version is already published
palomino4Windows Server 2022 Datacenter / x64  OK    OK    WARNINGS    OK  UNNEEDED, same version is already published
lconwaymacOS 12.6.5 Monterey / x86_64  OK    OK    WARNINGS    OK  UNNEEDED, same version is already published
Package 23/504HostnameOS / ArchINSTALLBUILDCHECKBUILD BIN
awst 1.9.0  (landing page)
Davide Risso
git_last_commit: 44e117f
git_last_commit_date: 2023-04-25 11:29:11 -0400
nebbiolo2Linux (Ubuntu 22.04.2 LTS) / x86_64  OK    OK    OK  UNNEEDED, same version is already published
palomino4Windows Server 2022 Datacenter / x64  OK    OK    OK    OK  UNNEEDED, same version is already published
lconwaymacOS 12.6.5 Monterey / x86_64  OK    OK    OK    OK  UNNEEDED, same version is already published
Package 24/504HostnameOS / ArchINSTALLBUILDCHECKBUILD BIN
bambu 3.3.2  (landing page)
Ying Chen
git_last_commit: b2f57d3
git_last_commit_date: 2023-05-18 02:02:27 -0400
nebbiolo2Linux (Ubuntu 22.04.2 LTS) / x86_64  OK    OK    OK  UNNEEDED, same version is already published
palomino4Windows Server 2022 Datacenter / x64  OK    OK    OK    OK  UNNEEDED, same version is already published
lconwaymacOS 12.6.5 Monterey / x86_64  OK    OK    OK    OK  UNNEEDED, same version is already published
Package 25/504HostnameOS / ArchINSTALLBUILDCHECKBUILD BIN
barcodetrackR 1.9.0  (landing page)
Diego Alexander Espinoza
git_last_commit: 4cea9fd
git_last_commit_date: 2023-04-25 11:28:09 -0400
nebbiolo2Linux (Ubuntu 22.04.2 LTS) / x86_64  OK    OK    OK  UNNEEDED, same version is already published
palomino4Windows Server 2022 Datacenter / x64  OK    OK    OK    OK  UNNEEDED, same version is already published
lconwaymacOS 12.6.5 Monterey / x86_64  OK    OK    OK    OK  UNNEEDED, same version is already published
Package 26/504HostnameOS / ArchINSTALLBUILDCHECKBUILD BIN
BASiCS 2.13.0  (landing page)
Catalina Vallejos
git_last_commit: 66cc677
git_last_commit_date: 2023-04-25 10:56:51 -0400
nebbiolo2Linux (Ubuntu 22.04.2 LTS) / x86_64  OK    OK    OK  UNNEEDED, same version is already published
palomino4Windows Server 2022 Datacenter / x64  OK    OK    OK    OK  UNNEEDED, same version is already published
lconwaymacOS 12.6.5 Monterey / x86_64  OK    OK    OK    OK  UNNEEDED, same version is already published
Package 27/504HostnameOS / ArchINSTALLBUILDCHECKBUILD BIN
BASiCStan 1.3.0  (landing page)
Alan O'Callaghan
git_last_commit: b317a0d
git_last_commit_date: 2023-04-25 11:39:42 -0400
nebbiolo2Linux (Ubuntu 22.04.2 LTS) / x86_64  OK    OK    OK  UNNEEDED, same version is already published
palomino4Windows Server 2022 Datacenter / x64  OK    OK    OK    OK  NO, package depends on 'glmGamPoi' which is not available
lconwaymacOS 12.6.5 Monterey / x86_64  OK    OK    OK    OK  NO, package depends on 'glmGamPoi' which is not available
Package 28/504HostnameOS / ArchINSTALLBUILDCHECKBUILD BIN
batchelor 1.17.0  (landing page)
Aaron Lun
git_last_commit: 4675c3a
git_last_commit_date: 2023-04-25 11:09:01 -0400
nebbiolo2Linux (Ubuntu 22.04.2 LTS) / x86_64  OK    OK    OK  UNNEEDED, same version is already published
palomino4Windows Server 2022 Datacenter / x64  OK    OK    OK    OK  UNNEEDED, same version is already published
lconwaymacOS 12.6.5 Monterey / x86_64  OK    OK    OK    OK  UNNEEDED, same version is already published
Package 29/504HostnameOS / ArchINSTALLBUILDCHECKBUILD BIN
BayesSpace 1.11.0  (landing page)
Matt Stone
git_last_commit: 628a1b8
git_last_commit_date: 2023-04-25 11:23:28 -0400
nebbiolo2Linux (Ubuntu 22.04.2 LTS) / x86_64  OK    OK    OK  UNNEEDED, same version is already published
palomino4Windows Server 2022 Datacenter / x64  OK    OK    OK    OK  NO, package depends on 'scater' which is not available
lconwaymacOS 12.6.5 Monterey / x86_64  OK    OK    OK    OK  UNNEEDED, same version is already published
Package 30/504HostnameOS / ArchINSTALLBUILDCHECKBUILD BIN
bayNorm 1.19.0  (landing page)
Wenhao Tang
git_last_commit: ff6e945
git_last_commit_date: 2023-04-25 11:05:18 -0400
nebbiolo2Linux (Ubuntu 22.04.2 LTS) / x86_64  OK    OK    OK  UNNEEDED, same version is already published
palomino4Windows Server 2022 Datacenter / x64  OK    OK    OK    OK  UNNEEDED, same version is already published
lconwaymacOS 12.6.5 Monterey / x86_64  OK    OK    OK    OK  UNNEEDED, same version is already published
Package 31/504HostnameOS / ArchINSTALLBUILDCHECKBUILD BIN
BBCAnalyzer 1.31.0  (landing page)
Sarah Sandmann
git_last_commit: 21a0f03
git_last_commit_date: 2023-04-25 10:41:00 -0400
nebbiolo2Linux (Ubuntu 22.04.2 LTS) / x86_64  OK    OK    OK  UNNEEDED, same version is already published
palomino4Windows Server 2022 Datacenter / x64  OK    OK    WARNINGS    OK  UNNEEDED, same version is already published
lconwaymacOS 12.6.5 Monterey / x86_64  OK    OK    OK    OK  UNNEEDED, same version is already published
Package 32/504HostnameOS / ArchINSTALLBUILDCHECKBUILD BIN
BDMMAcorrect 1.19.0  (landing page)
ZHENWEI DAI
git_last_commit: 0660ae6
git_last_commit_date: 2023-04-25 11:06:15 -0400
nebbiolo2Linux (Ubuntu 22.04.2 LTS) / x86_64  OK    OK    ERROR  
palomino4Windows Server 2022 Datacenter / x64  OK    OK    OK    OK  UNNEEDED, same version is already published
lconwaymacOS 12.6.5 Monterey / x86_64  OK    OK    OK    OK  UNNEEDED, same version is already published
Package 33/504HostnameOS / ArchINSTALLBUILDCHECKBUILD BIN
beer 1.5.0  (landing page)
Athena Chen
git_last_commit: 6d878f0
git_last_commit_date: 2023-04-25 11:35:55 -0400
nebbiolo2Linux (Ubuntu 22.04.2 LTS) / x86_64  OK    OK    OK  UNNEEDED, same version is already published
palomino4Windows Server 2022 Datacenter / x64  OK    OK    ERROR    OK  
lconwaymacOS 12.6.5 Monterey / x86_64  OK    OK    OK    OK  UNNEEDED, same version is already published
Package 34/504HostnameOS / ArchINSTALLBUILDCHECKBUILD BIN
benchdamic 1.7.0  (landing page)
Matteo Calgaro
git_last_commit: 61c6e20
git_last_commit_date: 2023-04-25 11:33:59 -0400
nebbiolo2Linux (Ubuntu 22.04.2 LTS) / x86_64  OK    OK    OK  UNNEEDED, same version is already published
palomino4Windows Server 2022 Datacenter / x64  OK    OK    OK    OK  NO, package depends on 'ANCOMBC' which is not available
lconwaymacOS 12.6.5 Monterey / x86_64  OK    OK    OK    OK  NO, package depends on 'metagenomeSeq' which is not available
Package 35/504HostnameOS / ArchINSTALLBUILDCHECKBUILD BIN
bigPint 1.17.0  (landing page)
Lindsay Rutter
git_last_commit: 4ef789a
git_last_commit_date: 2023-04-25 11:07:21 -0400
nebbiolo2Linux (Ubuntu 22.04.2 LTS) / x86_64  OK    OK    ERROR  
palomino4Windows Server 2022 Datacenter / x64  OK    OK    ERROR    OK  
lconwaymacOS 12.6.5 Monterey / x86_64  OK    OK    ERROR    OK  
Package 36/504HostnameOS / ArchINSTALLBUILDCHECKBUILD BIN
BiocOncoTK 1.21.0  (landing page)
VJ Carey
git_last_commit: 3077064
git_last_commit_date: 2023-04-25 11:01:44 -0400
nebbiolo2Linux (Ubuntu 22.04.2 LTS) / x86_64  OK    OK    OK  UNNEEDED, same version is already published
palomino4Windows Server 2022 Datacenter / x64  OK    OK    OK    OK  UNNEEDED, same version is already published
lconwaymacOS 12.6.5 Monterey / x86_64  OK    OK    OK    OK  UNNEEDED, same version is already published
Package 37/504HostnameOS / ArchINSTALLBUILDCHECKBUILD BIN
BiocSklearn 1.23.0  (landing page)
Vince Carey
git_last_commit: 4ca8b0e
git_last_commit_date: 2023-04-25 10:55:36 -0400
nebbiolo2Linux (Ubuntu 22.04.2 LTS) / x86_64  OK    OK    OK  UNNEEDED, same version is already published
palomino4Windows Server 2022 Datacenter / x64  OK    OK    OK    OK  NO, package depends on 'basilisk' which is not available
lconwaymacOS 12.6.5 Monterey / x86_64  OK    OK    OK    OK  UNNEEDED, same version is already published
Package 38/504HostnameOS / ArchINSTALLBUILDCHECKBUILD BIN
BioNERO 1.9.2  (landing page)
Fabricio Almeida-Silva
git_last_commit: 6f0c087
git_last_commit_date: 2023-06-01 12:59:06 -0400
nebbiolo2Linux (Ubuntu 22.04.2 LTS) / x86_64  OK    OK    OK  NO, package depends on 'GENIE3' which is not available
palomino4Windows Server 2022 Datacenter / x64  OK    OK    OK    OK  YES
lconwaymacOS 12.6.5 Monterey / x86_64  OK    OK    OK    OK  YES
Package 39/504HostnameOS / ArchINSTALLBUILDCHECKBUILD BIN
biosigner 1.29.2  (landing page)
Etienne A. Thevenot
git_last_commit: e48dac8
git_last_commit_date: 2023-05-28 17:30:56 -0400
nebbiolo2Linux (Ubuntu 22.04.2 LTS) / x86_64  OK    OK    OK  UNNEEDED, same version is already published
palomino4Windows Server 2022 Datacenter / x64  OK    OK    OK    OK  UNNEEDED, same version is already published
lconwaymacOS 12.6.5 Monterey / x86_64  OK    OK    OK    OK  UNNEEDED, same version is already published
Package 40/504HostnameOS / ArchINSTALLBUILDCHECKBUILD BIN
biotmle 1.25.0  (landing page)
Nima Hejazi
git_last_commit: 33133ac
git_last_commit_date: 2023-04-25 10:53:53 -0400
nebbiolo2Linux (Ubuntu 22.04.2 LTS) / x86_64  OK    OK    OK  UNNEEDED, same version is already published
palomino4Windows Server 2022 Datacenter / x64  OK    OK    OK    OK  UNNEEDED, same version is already published
lconwaymacOS 12.6.5 Monterey / x86_64  OK    OK    OK    OK  UNNEEDED, same version is already published
Package 41/504HostnameOS / ArchINSTALLBUILDCHECKBUILD BIN
biovizBase 1.49.0  (landing page)
Michael Lawrence
git_last_commit: dd93783
git_last_commit_date: 2023-04-25 10:21:06 -0400
nebbiolo2Linux (Ubuntu 22.04.2 LTS) / x86_64  OK    OK    WARNINGS  UNNEEDED, same version is already published
palomino4Windows Server 2022 Datacenter / x64  OK    OK    WARNINGS    OK  UNNEEDED, same version is already published
lconwaymacOS 12.6.5 Monterey / x86_64  OK    OK    WARNINGS    OK  UNNEEDED, same version is already published
Package 42/504HostnameOS / ArchINSTALLBUILDCHECKBUILD BIN
biscuiteer 1.15.0  (landing page)
Jacob Morrison
git_last_commit: 420ac1c
git_last_commit_date: 2023-04-25 11:13:36 -0400
nebbiolo2Linux (Ubuntu 22.04.2 LTS) / x86_64  OK    OK    WARNINGS  NO, package depends on 'biscuiteerData' which is not available
palomino4Windows Server 2022 Datacenter / x64  OK    OK    WARNINGS    OK  NO, package depends on 'biscuiteerData' which is not available
lconwaymacOS 12.6.5 Monterey / x86_64  OK    OK    WARNINGS    OK  NO, package depends on 'biscuiteerData' which is not available
Package 43/504HostnameOS / ArchINSTALLBUILDCHECKBUILD BIN
BiSeq 1.41.0  (landing page)
Katja Hebestreit
git_last_commit: 7386b4e
git_last_commit_date: 2023-04-25 10:26:59 -0400
nebbiolo2Linux (Ubuntu 22.04.2 LTS) / x86_64  OK    OK    OK  UNNEEDED, same version is already published
palomino4Windows Server 2022 Datacenter / x64  OK    OK    OK    OK  UNNEEDED, same version is already published
lconwaymacOS 12.6.5 Monterey / x86_64  OK    OK    OK    OK  UNNEEDED, same version is already published
Package 44/504HostnameOS / ArchINSTALLBUILDCHECKBUILD BIN
blacksheepr 1.15.0  (landing page)
RugglesLab
git_last_commit: eee9b60
git_last_commit_date: 2023-04-25 11:13:09 -0400
nebbiolo2Linux (Ubuntu 22.04.2 LTS) / x86_64  OK    OK    OK  NO, package depends on 'pasilla' which is not available
palomino4Windows Server 2022 Datacenter / x64  OK    OK    OK    OK  NO, package depends on 'pasilla' which is not available
lconwaymacOS 12.6.5 Monterey / x86_64  OK    OK    OK    OK  NO, package depends on 'pasilla' which is not available
Package 45/504HostnameOS / ArchINSTALLBUILDCHECKBUILD BIN
BloodGen3Module 1.9.0  (landing page)
Darawan Rinchai
git_last_commit: 7d7a408
git_last_commit_date: 2023-04-25 11:29:58 -0400
nebbiolo2Linux (Ubuntu 22.04.2 LTS) / x86_64  OK    OK    WARNINGS  UNNEEDED, same version is already published
palomino4Windows Server 2022 Datacenter / x64  OK    OK    WARNINGS    OK  UNNEEDED, same version is already published
lconwaymacOS 12.6.5 Monterey / x86_64  OK    OK    WARNINGS    OK  UNNEEDED, same version is already published
Package 46/504HostnameOS / ArchINSTALLBUILDCHECKBUILD BIN
bnbc 1.23.0  (landing page)
Kipper Fletez-Brant
git_last_commit: d4ea9a9
git_last_commit_date: 2023-04-25 10:57:18 -0400
nebbiolo2Linux (Ubuntu 22.04.2 LTS) / x86_64  OK    OK    WARNINGS  UNNEEDED, same version is already published
palomino4Windows Server 2022 Datacenter / x64  OK    OK    WARNINGS    OK  UNNEEDED, same version is already published
lconwaymacOS 12.6.5 Monterey / x86_64  OK    OK    WARNINGS    OK  UNNEEDED, same version is already published
Package 47/504HostnameOS / ArchINSTALLBUILDCHECKBUILD BIN
BRGenomics 1.13.0  (landing page)
Mike DeBerardine
git_last_commit: 2ffe71e
git_last_commit_date: 2023-04-25 13:10:01 -0400
nebbiolo2Linux (Ubuntu 22.04.2 LTS) / x86_64  OK    OK    OK  UNNEEDED, same version is already published
palomino4Windows Server 2022 Datacenter / x64  OK    OK    OK    OK  UNNEEDED, same version is already published
lconwaymacOS 12.6.5 Monterey / x86_64  OK    OK    OK    OK  UNNEEDED, same version is already published
Package 48/504HostnameOS / ArchINSTALLBUILDCHECKBUILD BIN
bsseq 1.37.0  (landing page)
Kasper Daniel Hansen
git_last_commit: c70d385
git_last_commit_date: 2023-04-25 10:23:31 -0400
nebbiolo2Linux (Ubuntu 22.04.2 LTS) / x86_64  OK    OK    OK  UNNEEDED, same version is already published
palomino4Windows Server 2022 Datacenter / x64  OK    OK    OK    OK  UNNEEDED, same version is already published
lconwaymacOS 12.6.5 Monterey / x86_64  OK    OK    OK    OK  UNNEEDED, same version is already published
Package 49/504HostnameOS / ArchINSTALLBUILDCHECKBUILD BIN
BUMHMM 1.25.0  (landing page)
Alina Selega
git_last_commit: 184fdbe
git_last_commit_date: 2023-04-25 10:51:26 -0400
nebbiolo2Linux (Ubuntu 22.04.2 LTS) / x86_64  OK    OK    OK  UNNEEDED, same version is already published
palomino4Windows Server 2022 Datacenter / x64  OK    OK    OK    OK  UNNEEDED, same version is already published
lconwaymacOS 12.6.5 Monterey / x86_64  OK    OK    OK    OK  UNNEEDED, same version is already published
Package 50/504HostnameOS / ArchINSTALLBUILDCHECKBUILD BIN
BUScorrect 1.19.0  (landing page)
Xiangyu Luo
git_last_commit: 6ee6fc4
git_last_commit_date: 2023-04-25 11:03:46 -0400
nebbiolo2Linux (Ubuntu 22.04.2 LTS) / x86_64  OK    OK    OK  UNNEEDED, same version is already published
palomino4Windows Server 2022 Datacenter / x64  OK    OK    OK    OK  UNNEEDED, same version is already published
lconwaymacOS 12.6.5 Monterey / x86_64  OK    OK    OK    OK  UNNEEDED, same version is already published
Package 51/504HostnameOS / ArchINSTALLBUILDCHECKBUILD BIN
BUSseq 1.7.0  (landing page)
Fangda Song
git_last_commit: c3f87b4
git_last_commit_date: 2023-04-25 11:30:53 -0400
nebbiolo2Linux (Ubuntu 22.04.2 LTS) / x86_64  OK    OK    OK  UNNEEDED, same version is already published
palomino4Windows Server 2022 Datacenter / x64  OK    OK    OK    OK  UNNEEDED, same version is already published
lconwaymacOS 12.6.5 Monterey / x86_64  OK    OK    OK    OK  UNNEEDED, same version is already published
Package 52/504HostnameOS / ArchINSTALLBUILDCHECKBUILD BIN
CAEN 1.9.0  (landing page)
Zhou Yan
git_last_commit: ad31f65
git_last_commit_date: 2023-04-25 11:25:44 -0400
nebbiolo2Linux (Ubuntu 22.04.2 LTS) / x86_64  OK    OK    OK  UNNEEDED, same version is already published
palomino4Windows Server 2022 Datacenter / x64  OK    OK    OK    OK  UNNEEDED, same version is already published
lconwaymacOS 12.6.5 Monterey / x86_64  OK    OK    OK    OK  UNNEEDED, same version is already published
Package 53/504HostnameOS / ArchINSTALLBUILDCHECKBUILD BIN
CAGEfightR 1.21.0  (landing page)
Malte Thodberg
git_last_commit: e5f05fa
git_last_commit_date: 2023-04-25 11:01:52 -0400
nebbiolo2Linux (Ubuntu 22.04.2 LTS) / x86_64  OK    OK    OK  UNNEEDED, same version is already published
palomino4Windows Server 2022 Datacenter / x64  OK    OK    OK    OK  UNNEEDED, same version is already published
lconwaymacOS 12.6.5 Monterey / x86_64  OK    OK    OK    OK  UNNEEDED, same version is already published
Package 54/504HostnameOS / ArchINSTALLBUILDCHECKBUILD BIN
CAGEr 2.7.0  (landing page)
Charles Plessy
git_last_commit: 9c5b657
git_last_commit_date: 2023-04-25 10:25:53 -0400
nebbiolo2Linux (Ubuntu 22.04.2 LTS) / x86_64  OK    OK    OK  UNNEEDED, same version is already published
palomino4Windows Server 2022 Datacenter / x64  OK    OK    OK    OK  UNNEEDED, same version is already published
lconwaymacOS 12.6.5 Monterey / x86_64  OK    OK    OK    OK  UNNEEDED, same version is already published
Package 55/504HostnameOS / ArchINSTALLBUILDCHECKBUILD BIN
CATALYST 1.25.0  (landing page)
Helena L. Crowell
git_last_commit: 97565b7
git_last_commit_date: 2023-04-25 10:53:40 -0400
nebbiolo2Linux (Ubuntu 22.04.2 LTS) / x86_64  OK    OK    OK  UNNEEDED, same version is already published
palomino4Windows Server 2022 Datacenter / x64  OK    OK    OK    OK  NO, package depends on 'scater' which is not available
lconwaymacOS 12.6.5 Monterey / x86_64  OK    OK    OK    OK  UNNEEDED, same version is already published
Package 56/504HostnameOS / ArchINSTALLBUILDCHECKBUILD BIN
CBEA 1.1.0  (landing page)
Quang Nguyen
git_last_commit: ac293c8
git_last_commit_date: 2023-04-25 11:36:38 -0400
nebbiolo2Linux (Ubuntu 22.04.2 LTS) / x86_64  OK    OK    OK  UNNEEDED, same version is already published
palomino4Windows Server 2022 Datacenter / x64  OK    OK    OK    OK  UNNEEDED, same version is already published
lconwaymacOS 12.6.5 Monterey / x86_64  OK    OK    OK    OK  UNNEEDED, same version is already published
Package 57/504HostnameOS / ArchINSTALLBUILDCHECKBUILD BIN
cBioPortalData 2.13.0  (landing page)
Marcel Ramos
git_last_commit: 51bb61d
git_last_commit_date: 2023-04-25 11:18:25 -0400
nebbiolo2Linux (Ubuntu 22.04.2 LTS) / x86_64  OK    OK    OK  UNNEEDED, same version is already published
palomino4Windows Server 2022 Datacenter / x64  OK    OK    OK    OK  UNNEEDED, same version is already published
lconwaymacOS 12.6.5 Monterey / x86_64  OK    OK    OK    OK  UNNEEDED, same version is already published
Package 58/504HostnameOS / ArchINSTALLBUILDCHECKBUILD BIN
ccfindR 1.21.0  (landing page)
Jun Woo
git_last_commit: 9107879
git_last_commit_date: 2023-04-25 11:01:32 -0400
nebbiolo2Linux (Ubuntu 22.04.2 LTS) / x86_64  OK    OK    OK  UNNEEDED, same version is already published
palomino4Windows Server 2022 Datacenter / x64  OK    OK    OK    OK  UNNEEDED, same version is already published
lconwaymacOS 12.6.5 Monterey / x86_64  ERROR    ERROR  skippedskipped
Package 59/504HostnameOS / ArchINSTALLBUILDCHECKBUILD BIN
celaref 1.19.0  (landing page)
Sarah Williams
git_last_commit: 7c68791
git_last_commit_date: 2023-04-25 11:03:35 -0400
nebbiolo2Linux (Ubuntu 22.04.2 LTS) / x86_64  OK    OK    OK  UNNEEDED, same version is already published
palomino4Windows Server 2022 Datacenter / x64  OK    OK    OK    OK  UNNEEDED, same version is already published
lconwaymacOS 12.6.5 Monterey / x86_64  OK    OK    OK    OK  UNNEEDED, same version is already published
Package 60/504HostnameOS / ArchINSTALLBUILDCHECKBUILD BIN
celda 1.17.0  (landing page)
Joshua Campbell
git_last_commit: bbc2cb83
git_last_commit_date: 2023-04-25 11:10:21 -0400
nebbiolo2Linux (Ubuntu 22.04.2 LTS) / x86_64  OK    OK    OK  UNNEEDED, same version is already published
palomino4Windows Server 2022 Datacenter / x64  OK    OK    OK    OK  NO, package depends on 'scater' which is not available
lconwaymacOS 12.6.5 Monterey / x86_64  OK    OK    OK    OK  UNNEEDED, same version is already published
Package 61/504HostnameOS / ArchINSTALLBUILDCHECKBUILD BIN
CelliD 1.9.0  (landing page)
Akira Cortal
git_last_commit: d3df3de
git_last_commit_date: 2023-04-25 11:27:39 -0400
nebbiolo2Linux (Ubuntu 22.04.2 LTS) / x86_64  OK    OK    WARNINGS  UNNEEDED, same version is already published
palomino4Windows Server 2022 Datacenter / x64  OK    OK    WARNINGS    OK  NO, package depends on 'scater' which is not available
lconwaymacOS 12.6.5 Monterey / x86_64  OK    OK    WARNINGS    OK  UNNEEDED, same version is already published
Package 62/504HostnameOS / ArchINSTALLBUILDCHECKBUILD BIN
CellMixS 1.17.0  (landing page)
Almut Lütge
git_last_commit: 880a46d
git_last_commit_date: 2023-04-25 11:09:11 -0400
nebbiolo2Linux (Ubuntu 22.04.2 LTS) / x86_64  OK    OK    OK  UNNEEDED, same version is already published
palomino4Windows Server 2022 Datacenter / x64  OK    OK    OK    OK  NO, package depends on 'scater' which is not available
lconwaymacOS 12.6.5 Monterey / x86_64  OK    OK    OK    OK  UNNEEDED, same version is already published
Package 63/504HostnameOS / ArchINSTALLBUILDCHECKBUILD BIN
CellTrails 1.19.0  (landing page)
Daniel Ellwanger
git_last_commit: 81fd73b
git_last_commit_date: 2023-04-25 11:02:41 -0400
nebbiolo2Linux (Ubuntu 22.04.2 LTS) / x86_64  OK    OK    OK  UNNEEDED, same version is already published
palomino4Windows Server 2022 Datacenter / x64  OK    OK    OK    OK  UNNEEDED, same version is already published
lconwaymacOS 12.6.5 Monterey / x86_64  OK    OK    OK    OK  UNNEEDED, same version is already published
Package 64/504HostnameOS / ArchINSTALLBUILDCHECKBUILD BIN
censcyt 1.9.0  (landing page)
Reto Gerber
git_last_commit: 655729f
git_last_commit_date: 2023-04-25 11:25:31 -0400
nebbiolo2Linux (Ubuntu 22.04.2 LTS) / x86_64  OK    OK    OK  UNNEEDED, same version is already published
palomino4Windows Server 2022 Datacenter / x64  OK    OK    OK    OK  UNNEEDED, same version is already published
lconwaymacOS 12.6.5 Monterey / x86_64  OK    OK    OK    OK  UNNEEDED, same version is already published
Package 65/504HostnameOS / ArchINSTALLBUILDCHECKBUILD BIN
Cepo 1.7.0  (landing page)
Hani Jieun Kim
git_last_commit: 70619dc
git_last_commit_date: 2023-04-25 11:34:10 -0400
nebbiolo2Linux (Ubuntu 22.04.2 LTS) / x86_64  OK    OK    WARNINGS  UNNEEDED, same version is already published
palomino4Windows Server 2022 Datacenter / x64  OK    OK    WARNINGS    OK  UNNEEDED, same version is already published
lconwaymacOS 12.6.5 Monterey / x86_64  OK    OK    WARNINGS    OK  UNNEEDED, same version is already published
Package 66/504HostnameOS / ArchINSTALLBUILDCHECKBUILD BIN
CeTF 1.13.0  (landing page)
Carlos Alberto Oliveira de Biagi Junior
git_last_commit: 6de60fa
git_last_commit_date: 2023-04-25 11:14:38 -0400
nebbiolo2Linux (Ubuntu 22.04.2 LTS) / x86_64  OK    OK    OK  UNNEEDED, same version is already published
palomino4Windows Server 2022 Datacenter / x64  OK    OK    OK    OK  UNNEEDED, same version is already published
lconwaymacOS 12.6.5 Monterey / x86_64  OK    OK    OK    OK  UNNEEDED, same version is already published
Package 67/504HostnameOS / ArchINSTALLBUILDCHECKBUILD BIN
CHETAH 1.17.0  (landing page)
Jurrian de Kanter
git_last_commit: c756e5d
git_last_commit_date: 2023-04-25 11:39:10 -0400
nebbiolo2Linux (Ubuntu 22.04.2 LTS) / x86_64  OK    OK    OK  UNNEEDED, same version is already published
palomino4Windows Server 2022 Datacenter / x64  OK    OK    OK    OK  UNNEEDED, same version is already published
lconwaymacOS 12.6.5 Monterey / x86_64  OK    OK    OK    OK  UNNEEDED, same version is already published
Package 68/504HostnameOS / ArchINSTALLBUILDCHECKBUILD BIN
ChIPpeakAnno 3.35.1  (landing page)
Jianhong Ou
git_last_commit: 71289ee
git_last_commit_date: 2023-04-26 18:35:48 -0400
nebbiolo2Linux (Ubuntu 22.04.2 LTS) / x86_64  OK    OK    OK  UNNEEDED, same version is already published
palomino4Windows Server 2022 Datacenter / x64  OK    OK    OK    OK  UNNEEDED, same version is already published
lconwaymacOS 12.6.5 Monterey / x86_64  OK    OK    OK    OK  UNNEEDED, same version is already published
Package 69/504HostnameOS / ArchINSTALLBUILDCHECKBUILD BIN
ChromSCape 1.11.0  (landing page)
Pacome Prompsy
git_last_commit: a7fb1ae
git_last_commit_date: 2023-04-25 11:23:20 -0400
nebbiolo2Linux (Ubuntu 22.04.2 LTS) / x86_64  OK    OK    WARNINGS  UNNEEDED, same version is already published
palomino4Windows Server 2022 Datacenter / x64  OK    OK    WARNINGS    OK  NO, package depends on 'scater' which is not available
lconwaymacOS 12.6.5 Monterey / x86_64  OK    OK    WARNINGS    OK  UNNEEDED, same version is already published
Package 70/504HostnameOS / ArchINSTALLBUILDCHECKBUILD BIN
chromVAR 1.23.0  (landing page)
Alicia Schep
git_last_commit: de4dcab
git_last_commit_date: 2023-04-25 10:57:03 -0400
nebbiolo2Linux (Ubuntu 22.04.2 LTS) / x86_64  OK    OK    OK  UNNEEDED, same version is already published
palomino4Windows Server 2022 Datacenter / x64  OK    OK    OK    OK  UNNEEDED, same version is already published
lconwaymacOS 12.6.5 Monterey / x86_64  OK    OK    OK    OK  UNNEEDED, same version is already published
Package 71/504HostnameOS / ArchINSTALLBUILDCHECKBUILD BIN
CiteFuse 1.13.0  (landing page)
Yingxin Lin
git_last_commit: 0aece63
git_last_commit_date: 2023-04-25 11:17:18 -0400
nebbiolo2Linux (Ubuntu 22.04.2 LTS) / x86_64  OK    OK    OK  UNNEEDED, same version is already published
palomino4Windows Server 2022 Datacenter / x64  OK    OK    OK    OK  UNNEEDED, same version is already published
lconwaymacOS 12.6.5 Monterey / x86_64  OK    OK    OK    OK  UNNEEDED, same version is already published
Package 72/504HostnameOS / ArchINSTALLBUILDCHECKBUILD BIN
clusterExperiment 2.21.0  (landing page)
Elizabeth Purdom
git_last_commit: f53a8fd
git_last_commit_date: 2023-04-25 10:48:04 -0400
nebbiolo2Linux (Ubuntu 22.04.2 LTS) / x86_64  OK    OK    WARNINGS  UNNEEDED, same version is already published
palomino4Windows Server 2022 Datacenter / x64  OK    OK    WARNINGS    OK  UNNEEDED, same version is already published
lconwaymacOS 12.6.5 Monterey / x86_64  OK    OK    WARNINGS    OK  UNNEEDED, same version is already published
Package 73/504HostnameOS / ArchINSTALLBUILDCHECKBUILD BIN
clustifyr 1.13.0  (landing page)
Kent Riemondy
git_last_commit: 3d09053
git_last_commit_date: 2023-04-25 11:15:27 -0400
nebbiolo2Linux (Ubuntu 22.04.2 LTS) / x86_64  OK    OK    OK  UNNEEDED, same version is already published
palomino4Windows Server 2022 Datacenter / x64  OK    OK    OK    OK  UNNEEDED, same version is already published
lconwaymacOS 12.6.5 Monterey / x86_64  OK    OK    OK    OK  UNNEEDED, same version is already published
Package 74/504HostnameOS / ArchINSTALLBUILDCHECKBUILD BIN
cmapR 1.13.0  (landing page)
Ted Natoli
git_last_commit: 828fc9c
git_last_commit_date: 2023-04-25 11:16:20 -0400
nebbiolo2Linux (Ubuntu 22.04.2 LTS) / x86_64  OK    OK    OK  UNNEEDED, same version is already published
palomino4Windows Server 2022 Datacenter / x64  OK    OK    OK    OK  UNNEEDED, same version is already published
lconwaymacOS 12.6.5 Monterey / x86_64  OK    OK    OK    OK  UNNEEDED, same version is already published
Package 75/504HostnameOS / ArchINSTALLBUILDCHECKBUILD BIN
CNVfilteR 1.15.1  (landing page)
Jose Marcos Moreno-Cabrera
git_last_commit: 697df29
git_last_commit_date: 2023-05-15 08:37:37 -0400
nebbiolo2Linux (Ubuntu 22.04.2 LTS) / x86_64  OK    OK    OK  UNNEEDED, same version is already published
palomino4Windows Server 2022 Datacenter / x64  OK    OK    OK    OK  UNNEEDED, same version is already published
lconwaymacOS 12.6.5 Monterey / x86_64  OK    OK    OK    OK  UNNEEDED, same version is already published
Package 76/504HostnameOS / ArchINSTALLBUILDCHECKBUILD BIN
CNVRanger 1.17.3  (landing page)
Ludwig Geistlinger
git_last_commit: f85d494
git_last_commit_date: 2023-05-22 14:20:17 -0400
nebbiolo2Linux (Ubuntu 22.04.2 LTS) / x86_64  OK    OK    OK  UNNEEDED, same version is already published
palomino4Windows Server 2022 Datacenter / x64  OK    OK    OK    OK  UNNEEDED, same version is already published
lconwaymacOS 12.6.5 Monterey / x86_64  OK    OK    ERROR    OK  
Package 77/504HostnameOS / ArchINSTALLBUILDCHECKBUILD BIN
comapr 1.5.0  (landing page)
Ruqian Lyu
git_last_commit: abf83b6
git_last_commit_date: 2023-04-25 11:35:25 -0400
nebbiolo2Linux (Ubuntu 22.04.2 LTS) / x86_64  OK    OK    OK  UNNEEDED, same version is already published
palomino4Windows Server 2022 Datacenter / x64  OK    OK    OK    OK  UNNEEDED, same version is already published
lconwaymacOS 12.6.5 Monterey / x86_64  OK    OK    OK    OK  UNNEEDED, same version is already published
Package 78/504HostnameOS / ArchINSTALLBUILDCHECKBUILD BIN
combi 1.13.0  (landing page)
Stijn Hawinkel
git_last_commit: 4b6d108
git_last_commit_date: 2023-04-25 11:16:25 -0400
nebbiolo2Linux (Ubuntu 22.04.2 LTS) / x86_64  OK    OK    OK  UNNEEDED, same version is already published
palomino4Windows Server 2022 Datacenter / x64  OK    OK    OK    OK  UNNEEDED, same version is already published
lconwaymacOS 12.6.5 Monterey / x86_64  OK    OK    OK    OK  UNNEEDED, same version is already published
Package 79/504HostnameOS / ArchINSTALLBUILDCHECKBUILD BIN
compartmap 1.19.0  (landing page)
Benjamin Johnson
git_last_commit: f12ce1b
git_last_commit_date: 2023-04-25 11:06:13 -0400
nebbiolo2Linux (Ubuntu 22.04.2 LTS) / x86_64  OK    OK    ERROR  
palomino4Windows Server 2022 Datacenter / x64  OK    OK    OK    OK  UNNEEDED, same version is already published
lconwaymacOS 12.6.5 Monterey / x86_64  OK    OK    OK    OK  UNNEEDED, same version is already published
Package 80/504HostnameOS / ArchINSTALLBUILDCHECKBUILD BIN
condiments 1.9.0  (landing page)
Hector Roux de Bezieux
git_last_commit: 0ed5470
git_last_commit_date: 2023-04-25 11:28:06 -0400
nebbiolo2Linux (Ubuntu 22.04.2 LTS) / x86_64  OK    OK    OK  UNNEEDED, same version is already published
palomino4Windows Server 2022 Datacenter / x64  OK    OK    OK    OK  NO, package depends on 'distinct' which is not available
lconwaymacOS 12.6.5 Monterey / x86_64  OK    OK    OK    OK  UNNEEDED, same version is already published
Package 81/504HostnameOS / ArchINSTALLBUILDCHECKBUILD BIN
consensusDE 1.19.0  (landing page)
Ashley J. Waardenberg
git_last_commit: 53e3824
git_last_commit_date: 2023-04-25 11:05:52 -0400
nebbiolo2Linux (Ubuntu 22.04.2 LTS) / x86_64  OK    OK    OK  UNNEEDED, same version is already published
palomino4Windows Server 2022 Datacenter / x64  OK    OK    OK    OK  UNNEEDED, same version is already published
lconwaymacOS 12.6.5 Monterey / x86_64  OK    OK    OK    OK  UNNEEDED, same version is already published
Package 82/504HostnameOS / ArchINSTALLBUILDCHECKBUILD BIN
consICA 1.3.0  (landing page)
Petr V. Nazarov
git_last_commit: d4b4296
git_last_commit_date: 2023-04-25 11:40:02 -0400
nebbiolo2Linux (Ubuntu 22.04.2 LTS) / x86_64  OK    OK    OK  UNNEEDED, same version is already published
palomino4Windows Server 2022 Datacenter / x64  OK    OK    OK    OK  UNNEEDED, same version is already published
lconwaymacOS 12.6.5 Monterey / x86_64  OK    OK    OK    OK  UNNEEDED, same version is already published
Package 83/504HostnameOS / ArchINSTALLBUILDCHECKBUILD BIN
CopyNumberPlots 1.17.0  (landing page)
Bernat Gel
git_last_commit: 95e0446
git_last_commit_date: 2023-04-25 11:09:48 -0400
nebbiolo2Linux (Ubuntu 22.04.2 LTS) / x86_64  OK    OK    OK  UNNEEDED, same version is already published
palomino4Windows Server 2022 Datacenter / x64  OK    OK    OK    OK  UNNEEDED, same version is already published
lconwaymacOS 12.6.5 Monterey / x86_64  OK    OK    OK    OK  UNNEEDED, same version is already published
Package 84/504HostnameOS / ArchINSTALLBUILDCHECKBUILD BIN
CoreGx 2.5.0  (landing page)
Benjamin Haibe-Kains
git_last_commit: 1b5d4a8
git_last_commit_date: 2023-04-25 11:18:08 -0400
nebbiolo2Linux (Ubuntu 22.04.2 LTS) / x86_64  OK    OK    OK  UNNEEDED, same version is already published
palomino4Windows Server 2022 Datacenter / x64  OK    OK    OK    OK  UNNEEDED, same version is already published
lconwaymacOS 12.6.5 Monterey / x86_64  OK    OK    OK    OK  UNNEEDED, same version is already published
Package 85/504HostnameOS / ArchINSTALLBUILDCHECKBUILD BIN
corral 1.11.0  (landing page)
Lauren Hsu
git_last_commit: 0b476c8
git_last_commit_date: 2023-04-25 11:18:58 -0400
nebbiolo2Linux (Ubuntu 22.04.2 LTS) / x86_64  OK    OK    OK  UNNEEDED, same version is already published
palomino4Windows Server 2022 Datacenter / x64  OK    OK    OK    OK  UNNEEDED, same version is already published
lconwaymacOS 12.6.5 Monterey / x86_64  OK    OK    OK    OK  UNNEEDED, same version is already published
Package 86/504HostnameOS / ArchINSTALLBUILDCHECKBUILD BIN
coseq 1.25.0  (landing page)
Andrea Rau
git_last_commit: 359e720
git_last_commit_date: 2023-04-25 10:51:51 -0400
nebbiolo2Linux (Ubuntu 22.04.2 LTS) / x86_64  OK    OK    OK  UNNEEDED, same version is already published
palomino4Windows Server 2022 Datacenter / x64  OK    OK    OK    OK  UNNEEDED, same version is already published
lconwaymacOS 12.6.5 Monterey / x86_64  OK    OK    OK    OK  UNNEEDED, same version is already published
Package 87/504HostnameOS / ArchINSTALLBUILDCHECKBUILD BIN
countsimQC 1.19.0  (landing page)
Charlotte Soneson
git_last_commit: 99abadc
git_last_commit_date: 2023-04-25 11:04:51 -0400
nebbiolo2Linux (Ubuntu 22.04.2 LTS) / x86_64  OK    OK    OK  UNNEEDED, same version is already published
palomino4Windows Server 2022 Datacenter / x64  OK    OK    OK    OK  UNNEEDED, same version is already published
lconwaymacOS 12.6.5 Monterey / x86_64  OK    OK    OK    OK  UNNEEDED, same version is already published
Package 88/504HostnameOS / ArchINSTALLBUILDCHECKBUILD BIN
csaw 1.35.0  (landing page)
Aaron Lun
git_last_commit: 1583298
git_last_commit_date: 2023-04-25 10:35:43 -0400
nebbiolo2Linux (Ubuntu 22.04.2 LTS) / x86_64  OK    OK    WARNINGS  UNNEEDED, same version is already published
palomino4Windows Server 2022 Datacenter / x64  OK    OK    WARNINGS    OK  UNNEEDED, same version is already published
lconwaymacOS 12.6.5 Monterey / x86_64  OK    OK    WARNINGS    OK  UNNEEDED, same version is already published
Package 89/504HostnameOS / ArchINSTALLBUILDCHECKBUILD BIN
CSSQ 1.13.0  (landing page)
Fan Lab at Georgia Institute of Technology
git_last_commit: 9230b33
git_last_commit_date: 2023-04-25 11:14:33 -0400
nebbiolo2Linux (Ubuntu 22.04.2 LTS) / x86_64  OK    OK    OK  UNNEEDED, same version is already published
palomino4Windows Server 2022 Datacenter / x64  OK    OK    OK    OK  UNNEEDED, same version is already published
lconwaymacOS 12.6.5 Monterey / x86_64  OK    OK    OK    OK  UNNEEDED, same version is already published
Package 90/504HostnameOS / ArchINSTALLBUILDCHECKBUILD BIN
CTSV 1.3.0  (landing page)
Jinge Yu Developer
git_last_commit: 13950bf
git_last_commit_date: 2023-04-25 11:38:47 -0400
nebbiolo2Linux (Ubuntu 22.04.2 LTS) / x86_64  OK    OK    OK  UNNEEDED, same version is already published
palomino4Windows Server 2022 Datacenter / x64  OK    OK    OK    OK  UNNEEDED, same version is already published
lconwaymacOS 12.6.5 Monterey / x86_64  OK    OK    OK    OK  UNNEEDED, same version is already published
Package 91/504HostnameOS / ArchINSTALLBUILDCHECKBUILD BIN
cydar 1.25.0  (landing page)
Aaron Lun
git_last_commit: 78708f0
git_last_commit_date: 2023-04-25 10:53:10 -0400
nebbiolo2Linux (Ubuntu 22.04.2 LTS) / x86_64  OK    OK    ERROR  
palomino4Windows Server 2022 Datacenter / x64  OK    OK    OK    OK  UNNEEDED, same version is already published
lconwaymacOS 12.6.5 Monterey / x86_64  OK    OK    OK    OK  UNNEEDED, same version is already published
Package 92/504HostnameOS / ArchINSTALLBUILDCHECKBUILD BIN
CyTOFpower 1.7.0  (landing page)
Anne-Maud Ferreira
git_last_commit: 32c0676
git_last_commit_date: 2023-04-25 11:33:50 -0400
nebbiolo2Linux (Ubuntu 22.04.2 LTS) / x86_64  OK    OK    ERROR  
palomino4Windows Server 2022 Datacenter / x64  OK    OK    OK    OK  UNNEEDED, same version is already published
lconwaymacOS 12.6.5 Monterey / x86_64  OK    OK    OK    OK  UNNEEDED, same version is already published
Package 93/504HostnameOS / ArchINSTALLBUILDCHECKBUILD BIN
cytofQC 1.1.0  (landing page)
Jill Lundell
git_last_commit: 97c1742
git_last_commit_date: 2023-04-25 11:43:32 -0400
nebbiolo2Linux (Ubuntu 22.04.2 LTS) / x86_64  OK    OK    OK  UNNEEDED, same version is already published
palomino4Windows Server 2022 Datacenter / x64  OK    OK    OK    OK  NO, package depends on 'CATALYST' which is not available
lconwaymacOS 12.6.5 Monterey / x86_64  OK    OK    OK    OK  UNNEEDED, same version is already published
Package 94/504HostnameOS / ArchINSTALLBUILDCHECKBUILD BIN
cytoKernel 1.7.0  (landing page)
Tusharkanti Ghosh
git_last_commit: 0a8187d
git_last_commit_date: 2023-04-25 11:32:54 -0400
nebbiolo2Linux (Ubuntu 22.04.2 LTS) / x86_64  OK    OK    OK  UNNEEDED, same version is already published
palomino4Windows Server 2022 Datacenter / x64  OK    OK    OK    OK  UNNEEDED, same version is already published
lconwaymacOS 12.6.5 Monterey / x86_64  OK    OK    OK    OK  UNNEEDED, same version is already published
Package 95/504HostnameOS / ArchINSTALLBUILDCHECKBUILD BIN
cytomapper 1.13.0  (landing page)
Nils Eling
git_last_commit: c565e2d
git_last_commit_date: 2023-04-25 11:16:41 -0400
nebbiolo2Linux (Ubuntu 22.04.2 LTS) / x86_64  OK    OK    OK  UNNEEDED, same version is already published
palomino4Windows Server 2022 Datacenter / x64  OK    OK    OK    OK  UNNEEDED, same version is already published
lconwaymacOS 12.6.5 Monterey / x86_64  OK    OK    OK    OK  UNNEEDED, same version is already published
Package 96/504HostnameOS / ArchINSTALLBUILDCHECKBUILD BIN
cytoviewer 1.1.0  (landing page)
Lasse Meyer
git_last_commit: 3f3e72a
git_last_commit_date: 2023-04-25 11:43:48 -0400
nebbiolo2Linux (Ubuntu 22.04.2 LTS) / x86_64  OK    OK    OK  UNNEEDED, same version is already published
palomino4Windows Server 2022 Datacenter / x64  OK    OK    OK    OK  UNNEEDED, same version is already published
lconwaymacOS 12.6.5 Monterey / x86_64  OK    OK    OK    OK  UNNEEDED, same version is already published
Package 97/504HostnameOS / ArchINSTALLBUILDCHECKBUILD BIN
DAMEfinder 1.13.0  (landing page)
Stephany Orjuela
git_last_commit: 37c88e1
git_last_commit_date: 2023-04-25 11:15:03 -0400
nebbiolo2Linux (Ubuntu 22.04.2 LTS) / x86_64  OK    OK    OK  UNNEEDED, same version is already published
palomino4Windows Server 2022 Datacenter / x64  OK    OK    OK    OK  UNNEEDED, same version is already published
lconwaymacOS 12.6.5 Monterey / x86_64  OK    OK    OK    OK  UNNEEDED, same version is already published
Package 98/504HostnameOS / ArchINSTALLBUILDCHECKBUILD BIN
DaMiRseq 2.13.0  (landing page)
Mattia Chiesa
git_last_commit: 242ee9c
git_last_commit_date: 2023-04-25 10:53:00 -0400
nebbiolo2Linux (Ubuntu 22.04.2 LTS) / x86_64  OK    OK    OK  UNNEEDED, same version is already published
palomino4Windows Server 2022 Datacenter / x64  OK    ERROR  skippedskipped
lconwaymacOS 12.6.5 Monterey / x86_64  OK    OK    OK    OK  UNNEEDED, same version is already published
Package 99/504HostnameOS / ArchINSTALLBUILDCHECKBUILD BIN
debCAM 1.19.0  (landing page)
Lulu Chen
git_last_commit: 8dc6b28
git_last_commit_date: 2023-04-25 11:12:23 -0400
nebbiolo2Linux (Ubuntu 22.04.2 LTS) / x86_64  OK    OK    ERROR  
palomino4Windows Server 2022 Datacenter / x64  OK    OK    OK    OK  UNNEEDED, same version is already published
lconwaymacOS 12.6.5 Monterey / x86_64  OK    OK    OK    OK  UNNEEDED, same version is already published
Package 100/504HostnameOS / ArchINSTALLBUILDCHECKBUILD BIN
debrowser 1.29.2  (landing page)
Alper Kucukural
git_last_commit: 030ad6c
git_last_commit_date: 2023-06-01 11:34:07 -0400
nebbiolo2Linux (Ubuntu 22.04.2 LTS) / x86_64  OK    OK    OK  YES
palomino4Windows Server 2022 Datacenter / x64  OK    OK    OK    OK  YES
lconwaymacOS 12.6.5 Monterey / x86_64  OK    OK    OK    OK  YES
Package 101/504HostnameOS / ArchINSTALLBUILDCHECKBUILD BIN
deco 1.17.0  (landing page)
Francisco Jose Campos Laborie
git_last_commit: 3247ddf
git_last_commit_date: 2023-04-25 11:06:50 -0400
nebbiolo2Linux (Ubuntu 22.04.2 LTS) / x86_64  OK    ERROR  skipped
palomino4Windows Server 2022 Datacenter / x64  OK    ERROR  skippedskipped
lconwaymacOS 12.6.5 Monterey / x86_64  OK    ERROR  skippedskipped
Package 102/504HostnameOS / ArchINSTALLBUILDCHECKBUILD BIN
decompTumor2Sig 2.17.0  (landing page)
Rosario M. Piro
git_last_commit: d939bf9
git_last_commit_date: 2023-04-25 11:06:30 -0400
nebbiolo2Linux (Ubuntu 22.04.2 LTS) / x86_64  OK    OK    OK  UNNEEDED, same version is already published
palomino4Windows Server 2022 Datacenter / x64  OK    OK    OK    OK  UNNEEDED, same version is already published
lconwaymacOS 12.6.5 Monterey / x86_64  OK    OK    OK    OK  UNNEEDED, same version is already published
Package 103/504HostnameOS / ArchINSTALLBUILDCHECKBUILD BIN
deepSNV 1.47.0  (landing page)
Moritz Gerstung
git_last_commit: b335f32
git_last_commit_date: 2023-04-25 10:22:16 -0400
nebbiolo2Linux (Ubuntu 22.04.2 LTS) / x86_64  OK    OK    WARNINGS  UNNEEDED, same version is already published
palomino4Windows Server 2022 Datacenter / x64  OK    OK    OK    OK  UNNEEDED, same version is already published
lconwaymacOS 12.6.5 Monterey / x86_64  OK    OK    WARNINGS    OK  UNNEEDED, same version is already published
Package 104/504HostnameOS / ArchINSTALLBUILDCHECKBUILD BIN
DEFormats 1.29.0  (landing page)
Andrzej Oleś
git_last_commit: f6a62bc
git_last_commit_date: 2023-04-25 10:45:38 -0400
nebbiolo2Linux (Ubuntu 22.04.2 LTS) / x86_64  OK    OK    OK  UNNEEDED, same version is already published
palomino4Windows Server 2022 Datacenter / x64  OK    OK    OK    OK  UNNEEDED, same version is already published
lconwaymacOS 12.6.5 Monterey / x86_64  OK    OK    OK    OK  UNNEEDED, same version is already published
Package 105/504HostnameOS / ArchINSTALLBUILDCHECKBUILD BIN
DEGreport 1.37.0  (landing page)
Lorena Pantano
git_last_commit: 27d2319
git_last_commit_date: 2023-04-25 10:32:39 -0400
nebbiolo2Linux (Ubuntu 22.04.2 LTS) / x86_64  OK    OK    WARNINGS  UNNEEDED, same version is already published
palomino4Windows Server 2022 Datacenter / x64  OK    OK    WARNINGS    OK  UNNEEDED, same version is already published
lconwaymacOS 12.6.5 Monterey / x86_64  OK    OK    WARNINGS    OK  UNNEEDED, same version is already published
Package 106/504HostnameOS / ArchINSTALLBUILDCHECKBUILD BIN
DELocal 1.1.1  (landing page)
Rishi Das Roy
git_last_commit: 403eff2
git_last_commit_date: 2023-05-24 05:07:51 -0400
nebbiolo2Linux (Ubuntu 22.04.2 LTS) / x86_64  OK    OK    OK  UNNEEDED, same version is already published
palomino4Windows Server 2022 Datacenter / x64  OK    OK    OK    OK  UNNEEDED, same version is already published
lconwaymacOS 12.6.5 Monterey / x86_64  OK    OK    OK    OK  UNNEEDED, same version is already published
Package 107/504HostnameOS / ArchINSTALLBUILDCHECKBUILD BIN
deltaCaptureC 1.15.0  (landing page)
Michael Shapiro
git_last_commit: 3475fa4
git_last_commit_date: 2023-04-25 11:12:09 -0400
nebbiolo2Linux (Ubuntu 22.04.2 LTS) / x86_64  OK    OK    OK  UNNEEDED, same version is already published
palomino4Windows Server 2022 Datacenter / x64  OK    OK    OK    OK  UNNEEDED, same version is already published
lconwaymacOS 12.6.5 Monterey / x86_64  OK    OK    OK    OK  UNNEEDED, same version is already published
Package 108/504HostnameOS / ArchINSTALLBUILDCHECKBUILD BIN
DeMixT 1.17.0  (landing page)
Shuai Guo
git_last_commit: c897bc6
git_last_commit_date: 2023-04-25 11:08:56 -0400
nebbiolo2Linux (Ubuntu 22.04.2 LTS) / x86_64  OK    OK    WARNINGS  NO, package depends on 'DSS' which is not available
palomino4Windows Server 2022 Datacenter / x64  OK    OK    WARNINGS    OK  UNNEEDED, same version is already published
lconwaymacOS 12.6.5 Monterey / x86_64  OK    OK    WARNINGS    OK  UNNEEDED, same version is already published
Package 109/504HostnameOS / ArchINSTALLBUILDCHECKBUILD BIN
demuxSNP 0.99.15  (landing page)
Michael Lynch
git_last_commit: d76fd26
git_last_commit_date: 2023-05-04 06:16:08 -0400
nebbiolo2Linux (Ubuntu 22.04.2 LTS) / x86_64  OK    OK    OK  UNNEEDED, same version is already published
palomino4Windows Server 2022 Datacenter / x64  OK    OK    OK    OK  UNNEEDED, same version is already published
lconwaymacOS 12.6.5 Monterey / x86_64  OK    OK    OK    OK  UNNEEDED, same version is already published
Package 110/504HostnameOS / ArchINSTALLBUILDCHECKBUILD BIN
DEP 1.23.0  (landing page)
Arne Smits
git_last_commit: 5f49d82
git_last_commit_date: 2023-04-25 10:55:45 -0400
nebbiolo2Linux (Ubuntu 22.04.2 LTS) / x86_64  OK    OK    WARNINGS  NO, package depends on 'MSnbase' which is not available
palomino4Windows Server 2022 Datacenter / x64  OK    OK    WARNINGS    OK  UNNEEDED, same version is already published
lconwaymacOS 12.6.5 Monterey / x86_64  OK    OK    WARNINGS    OK  UNNEEDED, same version is already published
Package 111/504HostnameOS / ArchINSTALLBUILDCHECKBUILD BIN
DEScan2 1.21.0  (landing page)
Dario Righelli
git_last_commit: 86bd671
git_last_commit_date: 2023-04-25 10:59:54 -0400
nebbiolo2Linux (Ubuntu 22.04.2 LTS) / x86_64  OK    OK    WARNINGS  UNNEEDED, same version is already published
palomino4Windows Server 2022 Datacenter / x64  OK    OK    WARNINGS    OK  UNNEEDED, same version is already published
lconwaymacOS 12.6.5 Monterey / x86_64  OK    OK    WARNINGS    OK  UNNEEDED, same version is already published
Package 112/504HostnameOS / ArchINSTALLBUILDCHECKBUILD BIN
DESeq2 1.41.1  (landing page)
Michael Love
git_last_commit: 2c3c14c
git_last_commit_date: 2023-05-11 21:01:22 -0400
nebbiolo2Linux (Ubuntu 22.04.2 LTS) / x86_64  OK    OK    OK  UNNEEDED, same version is already published
palomino4Windows Server 2022 Datacenter / x64  OK    OK    OK    OK  UNNEEDED, same version is already published
lconwaymacOS 12.6.5 Monterey / x86_64  OK    OK    OK    OK  UNNEEDED, same version is already published
Package 113/504HostnameOS / ArchINSTALLBUILDCHECKBUILD BIN
DESpace 1.1.0  (landing page)
Peiying Cai
git_last_commit: 2be740f
git_last_commit_date: 2023-04-25 11:43:38 -0400
nebbiolo2Linux (Ubuntu 22.04.2 LTS) / x86_64  OK    OK    OK  UNNEEDED, same version is already published
palomino4Windows Server 2022 Datacenter / x64  OK    OK    OK    OK  UNNEEDED, same version is already published
lconwaymacOS 12.6.5 Monterey / x86_64  OK    OK    OK    OK  UNNEEDED, same version is already published
Package 114/504HostnameOS / ArchINSTALLBUILDCHECKBUILD BIN
destiny 3.15.0  (landing page)
Philipp Angerer
git_last_commit: aa9bb6f
git_last_commit_date: 2023-04-25 11:35:39 -0400
nebbiolo2Linux (Ubuntu 22.04.2 LTS) / x86_64  OK    OK    WARNINGS  UNNEEDED, same version is already published
palomino4Windows Server 2022 Datacenter / x64  OK    OK    WARNINGS    OK  UNNEEDED, same version is already published
lconwaymacOS 12.6.5 Monterey / x86_64  OK    OK    WARNINGS    OK  UNNEEDED, same version is already published
Package 115/504HostnameOS / ArchINSTALLBUILDCHECKBUILD BIN
DEWSeq 1.15.0  (landing page)
bioinformatics team Hentze
git_last_commit: d467437
git_last_commit_date: 2023-04-25 11:13:39 -0400
nebbiolo2Linux (Ubuntu 22.04.2 LTS) / x86_64  OK    OK    ERROR  
palomino4Windows Server 2022 Datacenter / x64  OK    OK    OK    OK  UNNEEDED, same version is already published
lconwaymacOS 12.6.5 Monterey / x86_64  OK    ERROR  skippedskipped
Package 116/504HostnameOS / ArchINSTALLBUILDCHECKBUILD BIN
DEXSeq 1.47.0  (landing page)
Alejandro Reyes
git_last_commit: 5398518
git_last_commit_date: 2023-04-25 10:20:02 -0400
nebbiolo2Linux (Ubuntu 22.04.2 LTS) / x86_64  OK    OK    ERROR  
palomino4Windows Server 2022 Datacenter / x64  OK    OK    OK    OK  UNNEEDED, same version is already published
lconwaymacOS 12.6.5 Monterey / x86_64  OK    OK    OK    OK  UNNEEDED, same version is already published
Package 117/504HostnameOS / ArchINSTALLBUILDCHECKBUILD BIN
DiffBind 3.11.0  (landing page)
Rory Stark
git_last_commit: a7e1f1b
git_last_commit_date: 2023-04-25 10:21:02 -0400
nebbiolo2Linux (Ubuntu 22.04.2 LTS) / x86_64  OK    OK    WARNINGS  UNNEEDED, same version is already published
palomino4Windows Server 2022 Datacenter / x64  OK    OK    OK    OK  UNNEEDED, same version is already published
lconwaymacOS 12.6.5 Monterey / x86_64  OK    OK    WARNINGS    OK  UNNEEDED, same version is already published
Package 118/504HostnameOS / ArchINSTALLBUILDCHECKBUILD BIN
diffcoexp 1.21.0  (landing page)
Wenbin Wei
git_last_commit: 530e9e1
git_last_commit_date: 2023-04-25 10:59:56 -0400
nebbiolo2Linux (Ubuntu 22.04.2 LTS) / x86_64  OK    OK    ERROR  
palomino4Windows Server 2022 Datacenter / x64  OK    OK    OK    OK  UNNEEDED, same version is already published
lconwaymacOS 12.6.5 Monterey / x86_64  OK    OK    OK    OK  UNNEEDED, same version is already published
Package 119/504HostnameOS / ArchINSTALLBUILDCHECKBUILD BIN
diffcyt 1.21.0  (landing page)
Lukas M. Weber
git_last_commit: 39348fd
git_last_commit_date: 2023-04-25 11:00:44 -0400
nebbiolo2Linux (Ubuntu 22.04.2 LTS) / x86_64  OK    OK    OK  UNNEEDED, same version is already published
palomino4Windows Server 2022 Datacenter / x64  OK    OK    OK    OK  UNNEEDED, same version is already published
lconwaymacOS 12.6.5 Monterey / x86_64  OK    OK    OK    OK  UNNEEDED, same version is already published
Package 120/504HostnameOS / ArchINSTALLBUILDCHECKBUILD BIN
DifferentialRegulation 1.99.0  (landing page)
Simone Tiberi
git_last_commit: 49db3b1
git_last_commit_date: 2023-05-30 04:17:28 -0400
nebbiolo2Linux (Ubuntu 22.04.2 LTS) / x86_64  OK    OK    OK  UNNEEDED, same version is already published
palomino4Windows Server 2022 Datacenter / x64  OK    OK    OK    OK  YES
lconwaymacOS 12.6.5 Monterey / x86_64  OK    OK    OK    OK  YES
Package 121/504HostnameOS / ArchINSTALLBUILDCHECKBUILD BIN
diffHic 1.33.0  (landing page)
Aaron Lun
git_last_commit: 8da9340
git_last_commit_date: 2023-04-25 10:39:29 -0400
nebbiolo2Linux (Ubuntu 22.04.2 LTS) / x86_64  OK    OK    WARNINGS  UNNEEDED, same version is already published
palomino4Windows Server 2022 Datacenter / x64  OK    OK    WARNINGS    OK  UNNEEDED, same version is already published
lconwaymacOS 12.6.5 Monterey / x86_64  OK    OK    WARNINGS    OK  UNNEEDED, same version is already published
Package 122/504HostnameOS / ArchINSTALLBUILDCHECKBUILD BIN
diffUTR 1.9.0  (landing page)
Pierre-Luc Germain
git_last_commit: bef6bc7
git_last_commit_date: 2023-04-25 11:29:40 -0400
nebbiolo2Linux (Ubuntu 22.04.2 LTS) / x86_64  OK    OK    OK  NO, package depends on 'DEXSeq' which is not available
palomino4Windows Server 2022 Datacenter / x64  OK    OK    OK    OK  UNNEEDED, same version is already published
lconwaymacOS 12.6.5 Monterey / x86_64  OK    OK    OK    OK  UNNEEDED, same version is already published
Package 123/504HostnameOS / ArchINSTALLBUILDCHECKBUILD BIN
Dino 1.7.0  (landing page)
Jared Brown
git_last_commit: 10625d5
git_last_commit_date: 2023-04-25 11:31:12 -0400
nebbiolo2Linux (Ubuntu 22.04.2 LTS) / x86_64  OK    OK    OK  UNNEEDED, same version is already published
palomino4Windows Server 2022 Datacenter / x64  OK    OK    OK    OK  UNNEEDED, same version is already published
lconwaymacOS 12.6.5 Monterey / x86_64  OK    OK    OK    OK  UNNEEDED, same version is already published
Package 124/504HostnameOS / ArchINSTALLBUILDCHECKBUILD BIN
DiscoRhythm 1.17.0  (landing page)
Matthew Carlucci
git_last_commit: 6dad50c
git_last_commit_date: 2023-04-25 11:09:19 -0400
nebbiolo2Linux (Ubuntu 22.04.2 LTS) / x86_64  OK    OK    OK  UNNEEDED, same version is already published
palomino4Windows Server 2022 Datacenter / x64  OK    OK    OK    OK  NO, package depends on 'BiocStyle' which is not available
lconwaymacOS 12.6.5 Monterey / x86_64  OK    OK    OK    OK  UNNEEDED, same version is already published
Package 125/504HostnameOS / ArchINSTALLBUILDCHECKBUILD BIN
distinct 1.13.1  (landing page)
Simone Tiberi
git_last_commit: 11b6ff5
git_last_commit_date: 2023-05-15 05:21:50 -0400
nebbiolo2Linux (Ubuntu 22.04.2 LTS) / x86_64  OK    OK    OK  UNNEEDED, same version is already published
palomino4Windows Server 2022 Datacenter / x64  OK    OK    OK    OK  NO, package depends on 'scater' which is not available
lconwaymacOS 12.6.5 Monterey / x86_64  OK    OK    OK    OK  UNNEEDED, same version is already published
Package 126/504HostnameOS / ArchINSTALLBUILDCHECKBUILD BIN
dittoSeq 1.13.1  (landing page)
Daniel Bunis
git_last_commit: b2edebd
git_last_commit_date: 2023-05-12 11:06:24 -0400
nebbiolo2Linux (Ubuntu 22.04.2 LTS) / x86_64  OK    OK    OK  UNNEEDED, same version is already published
palomino4Windows Server 2022 Datacenter / x64  OK    OK    OK    OK  UNNEEDED, same version is already published
lconwaymacOS 12.6.5 Monterey / x86_64  OK    OK    OK    OK  UNNEEDED, same version is already published
Package 127/504HostnameOS / ArchINSTALLBUILDCHECKBUILD BIN
divergence 1.17.0  (landing page)
Wikum Dinalankara , Luigi Marchionni
git_last_commit: 2241a29
git_last_commit_date: 2023-04-25 11:07:42 -0400
nebbiolo2Linux (Ubuntu 22.04.2 LTS) / x86_64  OK    OK    OK  UNNEEDED, same version is already published
palomino4Windows Server 2022 Datacenter / x64  OK    OK    OK    OK  UNNEEDED, same version is already published
lconwaymacOS 12.6.5 Monterey / x86_64  OK    OK    OK    OK  UNNEEDED, same version is already published
Package 128/504HostnameOS / ArchINSTALLBUILDCHECKBUILD BIN
DMCFB 1.15.0  (landing page)
Farhad Shokoohi
git_last_commit: 9021acf
git_last_commit_date: 2023-04-25 11:12:51 -0400
nebbiolo2Linux (Ubuntu 22.04.2 LTS) / x86_64  OK    OK    ERROR  
palomino4Windows Server 2022 Datacenter / x64  OK    OK    OK    OK  UNNEEDED, same version is already published
lconwaymacOS 12.6.5 Monterey / x86_64  OK    OK    OK    OK  UNNEEDED, same version is already published
Package 129/504HostnameOS / ArchINSTALLBUILDCHECKBUILD BIN
DMCHMM 1.23.0  (landing page)
Farhad Shokoohi
git_last_commit: a1a73d5
git_last_commit_date: 2023-04-25 10:56:06 -0400
nebbiolo2Linux (Ubuntu 22.04.2 LTS) / x86_64  OK    OK    OK  UNNEEDED, same version is already published
palomino4Windows Server 2022 Datacenter / x64  OK    OK    WARNINGS    OK  UNNEEDED, same version is already published
lconwaymacOS 12.6.5 Monterey / x86_64  OK    OK    OK    OK  UNNEEDED, same version is already published
Package 130/504HostnameOS / ArchINSTALLBUILDCHECKBUILD BIN
DMRcate 2.15.0  (landing page)
Tim Peters
git_last_commit: 1b3de72
git_last_commit_date: 2023-04-25 10:30:37 -0400
nebbiolo2Linux (Ubuntu 22.04.2 LTS) / x86_64  OK    OK    OK  NO, package depends on 'DSS' which is not available
palomino4Windows Server 2022 Datacenter / x64  OK    OK    OK    OK  UNNEEDED, same version is already published
lconwaymacOS 12.6.5 Monterey / x86_64  OK    OK    ERROR    OK  
Package 131/504HostnameOS / ArchINSTALLBUILDCHECKBUILD BIN
DominoEffect 1.21.0  (landing page)
Marija Buljan
git_last_commit: 20e6fed
git_last_commit_date: 2023-04-25 10:59:32 -0400
nebbiolo2Linux (Ubuntu 22.04.2 LTS) / x86_64  OK    OK    OK  UNNEEDED, same version is already published
palomino4Windows Server 2022 Datacenter / x64  OK    OK    OK    OK  UNNEEDED, same version is already published
lconwaymacOS 12.6.5 Monterey / x86_64  OK    OK    OK    OK  UNNEEDED, same version is already published
Package 132/504HostnameOS / ArchINSTALLBUILDCHECKBUILD BIN
doppelgangR 1.29.0  (landing page)
Levi Waldron
git_last_commit: b0ad517
git_last_commit_date: 2023-04-25 10:45:03 -0400
nebbiolo2Linux (Ubuntu 22.04.2 LTS) / x86_64  OK    OK    ERROR  
palomino4Windows Server 2022 Datacenter / x64  OK    OK    ERROR    OK  
lconwaymacOS 12.6.5 Monterey / x86_64  OK    OK    ERROR    OK  
Package 133/504HostnameOS / ArchINSTALLBUILDCHECKBUILD BIN
doseR 1.17.0  (landing page)
ake.vastermark
git_last_commit: edb56b8
git_last_commit_date: 2023-04-25 11:08:12 -0400
nebbiolo2Linux (Ubuntu 22.04.2 LTS) / x86_64  OK    OK    OK  UNNEEDED, same version is already published
palomino4Windows Server 2022 Datacenter / x64  OK    OK    OK    OK  UNNEEDED, same version is already published
lconwaymacOS 12.6.5 Monterey / x86_64  OK    OK    OK    OK  UNNEEDED, same version is already published
Package 134/504HostnameOS / ArchINSTALLBUILDCHECKBUILD BIN
DropletUtils 1.21.0  (landing page)
Jonathan Griffiths
git_last_commit: 015252e
git_last_commit_date: 2023-04-25 10:58:49 -0400
nebbiolo2Linux (Ubuntu 22.04.2 LTS) / x86_64  OK    OK    WARNINGS  UNNEEDED, same version is already published
palomino4Windows Server 2022 Datacenter / x64  OK    OK    OK    OK  UNNEEDED, same version is already published
lconwaymacOS 12.6.5 Monterey / x86_64  OK    OK    WARNINGS    OK  UNNEEDED, same version is already published
Package 135/504HostnameOS / ArchINSTALLBUILDCHECKBUILD BIN
Dune 1.13.0  (landing page)
Hector Roux de Bezieux
git_last_commit: 1ba578c
git_last_commit_date: 2023-04-25 11:16:23 -0400
nebbiolo2Linux (Ubuntu 22.04.2 LTS) / x86_64  OK    OK    OK  UNNEEDED, same version is already published
palomino4Windows Server 2022 Datacenter / x64  OK    OK    OK    OK  UNNEEDED, same version is already published
lconwaymacOS 12.6.5 Monterey / x86_64  OK    OK    OK    OK  UNNEEDED, same version is already published
Package 136/504HostnameOS / ArchINSTALLBUILDCHECKBUILD BIN
easyRNASeq 2.37.0  (landing page)
Nicolas Delhomme
git_last_commit: 5bbee74
git_last_commit_date: 2023-04-25 10:22:04 -0400
nebbiolo2Linux (Ubuntu 22.04.2 LTS) / x86_64  OK    OK    OK  UNNEEDED, same version is already published
palomino4Windows Server 2022 Datacenter / x64  OK    OK    OK    OK  UNNEEDED, same version is already published
lconwaymacOS 12.6.5 Monterey / x86_64  OK    OK    OK    OK  UNNEEDED, same version is already published
Package 137/504HostnameOS / ArchINSTALLBUILDCHECKBUILD BIN
eisaR 1.13.0  (landing page)
Michael Stadler
git_last_commit: 8fb40e1
git_last_commit_date: 2023-04-25 11:16:12 -0400
nebbiolo2Linux (Ubuntu 22.04.2 LTS) / x86_64  OK    OK    OK  UNNEEDED, same version is already published
palomino4Windows Server 2022 Datacenter / x64  OK    OK    OK    OK  UNNEEDED, same version is already published
lconwaymacOS 12.6.5 Monterey / x86_64  OK    OK    OK    OK  UNNEEDED, same version is already published
Package 138/504HostnameOS / ArchINSTALLBUILDCHECKBUILD BIN
ELMER 2.25.1  (landing page)
Tiago Chedraoui Silva
git_last_commit: 88291fe
git_last_commit_date: 2023-05-10 09:52:43 -0400
nebbiolo2Linux (Ubuntu 22.04.2 LTS) / x86_64  OK    OK    WARNINGS  UNNEEDED, same version is already published
palomino4Windows Server 2022 Datacenter / x64  OK    OK    WARNINGS    OK  UNNEEDED, same version is already published
lconwaymacOS 12.6.5 Monterey / x86_64  OK    OK    WARNINGS    OK  UNNEEDED, same version is already published
Package 139/504HostnameOS / ArchINSTALLBUILDCHECKBUILD BIN
ENmix 1.37.01  (landing page)
Zongli Xu
git_last_commit: b70c975
git_last_commit_date: 2023-05-15 14:30:02 -0400
nebbiolo2Linux (Ubuntu 22.04.2 LTS) / x86_64  OK    OK    OK  UNNEEDED, same version is already published
palomino4Windows Server 2022 Datacenter / x64  OK    OK    OK    OK  UNNEEDED, same version is already published
lconwaymacOS 12.6.5 Monterey / x86_64  OK    OK    OK    OK  UNNEEDED, same version is already published
Package 140/504HostnameOS / ArchINSTALLBUILDCHECKBUILD BIN
EnrichmentBrowser 2.31.1  (landing page)
Ludwig Geistlinger
git_last_commit: 4f332d3
git_last_commit_date: 2023-05-13 14:27:30 -0400
nebbiolo2Linux (Ubuntu 22.04.2 LTS) / x86_64  OK    OK    OK  UNNEEDED, same version is already published
palomino4Windows Server 2022 Datacenter / x64  OK    OK    OK    OK  UNNEEDED, same version is already published
lconwaymacOS 12.6.5 Monterey / x86_64  OK    OK    OK    OK  UNNEEDED, same version is already published
Package 141/504HostnameOS / ArchINSTALLBUILDCHECKBUILD BIN
ensemblVEP 1.43.0  (landing page)
Bioconductor Package Maintainer
git_last_commit: 994134e
git_last_commit_date: 2023-04-25 10:25:01 -0400
nebbiolo2Linux (Ubuntu 22.04.2 LTS) / x86_64  OK    ERROR  skipped
palomino4Windows Server 2022 Datacenter / x64... NOT SUPPORTED ...
lconwaymacOS 12.6.5 Monterey / x86_64  OK    ERROR  skippedskipped
Package 142/504HostnameOS / ArchINSTALLBUILDCHECKBUILD BIN
epialleleR 1.9.0  (landing page)
Oleksii Nikolaienko
git_last_commit: 30d5849
git_last_commit_date: 2023-04-25 11:29:47 -0400
nebbiolo2Linux (Ubuntu 22.04.2 LTS) / x86_64  OK    OK    WARNINGS  UNNEEDED, same version is already published
palomino4Windows Server 2022 Datacenter / x64  OK    OK    OK    OK  UNNEEDED, same version is already published
lconwaymacOS 12.6.5 Monterey / x86_64  OK    OK    WARNINGS    OK  UNNEEDED, same version is already published
Package 143/504HostnameOS / ArchINSTALLBUILDCHECKBUILD BIN
epigenomix 1.41.0  (landing page)
Hans-Ulrich Klein
git_last_commit: 9159aff
git_last_commit_date: 2023-04-25 10:26:05 -0400
nebbiolo2Linux (Ubuntu 22.04.2 LTS) / x86_64  OK    OK    OK  UNNEEDED, same version is already published
palomino4Windows Server 2022 Datacenter / x64  OK    OK    OK    OK  UNNEEDED, same version is already published
lconwaymacOS 12.6.5 Monterey / x86_64  OK    OK    OK    OK  UNNEEDED, same version is already published
Package 144/504HostnameOS / ArchINSTALLBUILDCHECKBUILD BIN
epigraHMM 1.9.1  (landing page)
Pedro Baldoni
git_last_commit: dccc60a
git_last_commit_date: 2023-05-18 02:12:15 -0400
nebbiolo2Linux (Ubuntu 22.04.2 LTS) / x86_64  OK    OK    WARNINGS  UNNEEDED, same version is already published
palomino4Windows Server 2022 Datacenter / x64  OK    OK    OK    OK  UNNEEDED, same version is already published
lconwaymacOS 12.6.5 Monterey / x86_64  OK    OK    ERROR    OK  
Package 145/504HostnameOS / ArchINSTALLBUILDCHECKBUILD BIN
EpiMix 1.3.0  (landing page)
Yuanning Zheng
git_last_commit: 8a49eb8
git_last_commit_date: 2023-04-25 11:39:07 -0400
nebbiolo2Linux (Ubuntu 22.04.2 LTS) / x86_64  OK    ERROR  skipped
palomino4Windows Server 2022 Datacenter / x64  OK    ERROR  skippedskipped
lconwaymacOS 12.6.5 Monterey / x86_64  OK    ERROR  skippedskipped
Package 146/504HostnameOS / ArchINSTALLBUILDCHECKBUILD BIN
epimutacions 1.5.3  (landing page)
Dolors Pelegri-Siso
git_last_commit: 7ac9459
git_last_commit_date: 2023-05-30 04:05:27 -0400
nebbiolo2Linux (Ubuntu 22.04.2 LTS) / x86_64  OK    OK    OK  UNNEEDED, same version is already published
palomino4Windows Server 2022 Datacenter / x64  OK    ERROR  skippedskipped
lconwaymacOS 12.6.5 Monterey / x86_64  OK    OK    OK    OK  YES
Package 147/504HostnameOS / ArchINSTALLBUILDCHECKBUILD BIN
epistack 1.7.0  (landing page)
DEVAILLY Guillaume
git_last_commit: d0bda09
git_last_commit_date: 2023-04-25 11:33:47 -0400
nebbiolo2Linux (Ubuntu 22.04.2 LTS) / x86_64  OK    OK    OK  UNNEEDED, same version is already published
palomino4Windows Server 2022 Datacenter / x64  OK    OK    OK    OK  UNNEEDED, same version is already published
lconwaymacOS 12.6.5 Monterey / x86_64  OK    OK    OK    OK  UNNEEDED, same version is already published
Package 148/504HostnameOS / ArchINSTALLBUILDCHECKBUILD BIN
epivizrData 1.29.0  (landing page)
Hector Corrada Bravo
git_last_commit: f19a3c3
git_last_commit_date: 2023-04-25 10:46:48 -0400
nebbiolo2Linux (Ubuntu 22.04.2 LTS) / x86_64  OK    OK    OK  UNNEEDED, same version is already published
palomino4Windows Server 2022 Datacenter / x64  OK    OK    OK    OK  UNNEEDED, same version is already published
lconwaymacOS 12.6.5 Monterey / x86_64  OK    OK    OK    OK  UNNEEDED, same version is already published
Package 149/504HostnameOS / ArchINSTALLBUILDCHECKBUILD BIN
erma 1.17.0  (landing page)
VJ Carey
git_last_commit: 2184769
git_last_commit_date: 2023-04-25 10:40:09 -0400
nebbiolo2Linux (Ubuntu 22.04.2 LTS) / x86_64  OK    OK    OK  UNNEEDED, same version is already published
palomino4Windows Server 2022 Datacenter / x64  OK    OK    OK    OK  UNNEEDED, same version is already published
lconwaymacOS 12.6.5 Monterey / x86_64  OK    OK    OK    OK  UNNEEDED, same version is already published
Package 150/504HostnameOS / ArchINSTALLBUILDCHECKBUILD BIN
escape 1.11.0  (landing page)
Nick Borcherding
git_last_commit: 30e8bc0
git_last_commit_date: 2023-04-25 11:20:44 -0400
nebbiolo2Linux (Ubuntu 22.04.2 LTS) / x86_64  OK    OK    OK  UNNEEDED, same version is already published
palomino4Windows Server 2022 Datacenter / x64  OK    OK    OK    OK  UNNEEDED, same version is already published
lconwaymacOS 12.6.5 Monterey / x86_64  OK    OK    OK    OK  UNNEEDED, same version is already published
Package 151/504HostnameOS / ArchINSTALLBUILDCHECKBUILD BIN
escheR 1.1.1  (landing page)
Boyi Guo
git_last_commit: 3b687d8
git_last_commit_date: 2023-05-10 11:01:47 -0400
nebbiolo2Linux (Ubuntu 22.04.2 LTS) / x86_64  OK    OK    OK  UNNEEDED, same version is already published
palomino4Windows Server 2022 Datacenter / x64  OK    OK    OK    OK  UNNEEDED, same version is already published
lconwaymacOS 12.6.5 Monterey / x86_64  OK    OK    OK    OK  UNNEEDED, same version is already published
Package 152/504HostnameOS / ArchINSTALLBUILDCHECKBUILD BIN
evaluomeR 1.17.0  (landing page)
José Antonio Bernabé-Díaz
git_last_commit: 61ff43d
git_last_commit_date: 2023-04-25 11:08:54 -0400
nebbiolo2Linux (Ubuntu 22.04.2 LTS) / x86_64  OK    OK    OK  UNNEEDED, same version is already published
palomino4Windows Server 2022 Datacenter / x64  OK    OK    OK    OK  UNNEEDED, same version is already published
lconwaymacOS 12.6.5 Monterey / x86_64  OK    OK    OK    OK  UNNEEDED, same version is already published
Package 153/504HostnameOS / ArchINSTALLBUILDCHECKBUILD BIN
EventPointer 3.9.0  (landing page)
Juan A. Ferrer-Bonsoms
git_last_commit: 1c1a467
git_last_commit_date: 2023-04-25 10:52:37 -0400
nebbiolo2Linux (Ubuntu 22.04.2 LTS) / x86_64  OK    OK    OK  UNNEEDED, same version is already published
palomino4Windows Server 2022 Datacenter / x64  OK    OK    OK    OK  UNNEEDED, same version is already published
lconwaymacOS 12.6.5 Monterey / x86_64  OK    OK    OK    OK  UNNEEDED, same version is already published
Package 154/504HostnameOS / ArchINSTALLBUILDCHECKBUILD BIN
EWCE 1.9.2  (landing page)
Alan Murphy
git_last_commit: 23859d4
git_last_commit_date: 2023-05-22 12:07:44 -0400
nebbiolo2Linux (Ubuntu 22.04.2 LTS) / x86_64  OK    OK    OK  UNNEEDED, same version is already published
palomino4Windows Server 2022 Datacenter / x64  OK    OK    OK    OK  UNNEEDED, same version is already published
lconwaymacOS 12.6.5 Monterey / x86_64  OK    OK    OK    OK  UNNEEDED, same version is already published
Package 155/504HostnameOS / ArchINSTALLBUILDCHECKBUILD BIN
exomePeak2 1.13.0  (landing page)
Zhen Wei
git_last_commit: 3900f23
git_last_commit_date: 2023-04-25 11:15:50 -0400
nebbiolo2Linux (Ubuntu 22.04.2 LTS) / x86_64  OK    OK    ERROR  
palomino4Windows Server 2022 Datacenter / x64  OK    OK    OK    OK  UNNEEDED, same version is already published
lconwaymacOS 12.6.5 Monterey / x86_64  OK    OK    OK    OK  UNNEEDED, same version is already published
Package 156/504HostnameOS / ArchINSTALLBUILDCHECKBUILD BIN
ExperimentSubset 1.11.0  (landing page)
Irzam Sarfraz
git_last_commit: 4f7270d
git_last_commit_date: 2023-04-25 11:23:50 -0400
nebbiolo2Linux (Ubuntu 22.04.2 LTS) / x86_64  OK    OK    OK  UNNEEDED, same version is already published
palomino4Windows Server 2022 Datacenter / x64  OK    OK    OK    OK  UNNEEDED, same version is already published
lconwaymacOS 12.6.5 Monterey / x86_64  OK    OK    OK    OK  UNNEEDED, same version is already published
Package 157/504HostnameOS / ArchINSTALLBUILDCHECKBUILD BIN
ExpressionAtlas 1.29.0  (landing page)
Pedro Madrigal
git_last_commit: 9427be0
git_last_commit_date: 2023-04-25 10:44:24 -0400
nebbiolo2Linux (Ubuntu 22.04.2 LTS) / x86_64  OK    OK    OK  UNNEEDED, same version is already published
palomino4Windows Server 2022 Datacenter / x64  OK    OK    OK    OK  NO, package depends on 'BiocStyle' which is not available
lconwaymacOS 12.6.5 Monterey / x86_64  OK    OK    OK    OK  UNNEEDED, same version is already published
Package 158/504HostnameOS / ArchINSTALLBUILDCHECKBUILD BIN
extraChIPs 1.5.1  (landing page)
Stephen Pederson
git_last_commit: 963718e
git_last_commit_date: 2023-05-28 12:09:06 -0400
nebbiolo2Linux (Ubuntu 22.04.2 LTS) / x86_64  OK    OK    OK  UNNEEDED, same version is already published
palomino4Windows Server 2022 Datacenter / x64  OK    OK    OK    OK  UNNEEDED, same version is already published
lconwaymacOS 12.6.5 Monterey / x86_64  OK    OK    OK    OK  UNNEEDED, same version is already published
Package 159/504HostnameOS / ArchINSTALLBUILDCHECKBUILD BIN
FCBF 2.9.0  (landing page)
Tiago Lubiana
git_last_commit: 27895e8
git_last_commit_date: 2023-04-25 11:05:07 -0400
nebbiolo2Linux (Ubuntu 22.04.2 LTS) / x86_64  OK    OK    ERROR  
palomino4Windows Server 2022 Datacenter / x64  OK    OK    OK    OK  UNNEEDED, same version is already published
lconwaymacOS 12.6.5 Monterey / x86_64  OK    OK    OK    OK  UNNEEDED, same version is already published
Package 160/504HostnameOS / ArchINSTALLBUILDCHECKBUILD BIN
fcScan 1.15.0  (landing page)
Pierre Khoueiry Abdullah El-Kurdi
git_last_commit: 30ef4df
git_last_commit_date: 2023-04-25 11:11:45 -0400
nebbiolo2Linux (Ubuntu 22.04.2 LTS) / x86_64  OK    OK    OK  UNNEEDED, same version is already published
palomino4Windows Server 2022 Datacenter / x64  OK    OK    OK    OK  UNNEEDED, same version is already published
lconwaymacOS 12.6.5 Monterey / x86_64  OK    OK    OK    OK  UNNEEDED, same version is already published
Package 161/504HostnameOS / ArchINSTALLBUILDCHECKBUILD BIN
FEAST 1.9.0  (landing page)
Kenong Su
git_last_commit: 60fcc2e
git_last_commit_date: 2023-04-25 11:29:02 -0400
nebbiolo2Linux (Ubuntu 22.04.2 LTS) / x86_64  OK    OK    OK  UNNEEDED, same version is already published
palomino4Windows Server 2022 Datacenter / x64  OK    OK    OK    OK  UNNEEDED, same version is already published
lconwaymacOS 12.6.5 Monterey / x86_64  OK    OK    OK    OK  UNNEEDED, same version is already published
Package 162/504HostnameOS / ArchINSTALLBUILDCHECKBUILD BIN
FeatSeekR 1.1.0  (landing page)
Tuemay Capraz
git_last_commit: 2461790
git_last_commit_date: 2023-04-25 11:44:36 -0400
nebbiolo2Linux (Ubuntu 22.04.2 LTS) / x86_64  OK    OK    OK  UNNEEDED, same version is already published
palomino4Windows Server 2022 Datacenter / x64  OK    OK    OK    OK  UNNEEDED, same version is already published
lconwaymacOS 12.6.5 Monterey / x86_64  OK    OK    OK    OK  UNNEEDED, same version is already published
Package 163/504HostnameOS / ArchINSTALLBUILDCHECKBUILD BIN
FindIT2 1.7.0  (landing page)
Guandong Shang
git_last_commit: 59594d0
git_last_commit_date: 2023-04-25 11:31:01 -0400
nebbiolo2Linux (Ubuntu 22.04.2 LTS) / x86_64  OK    OK    OK  UNNEEDED, same version is already published
palomino4Windows Server 2022 Datacenter / x64  OK    OK    OK    OK  UNNEEDED, same version is already published
lconwaymacOS 12.6.5 Monterey / x86_64  OK    OK    OK    OK  UNNEEDED, same version is already published
Package 164/504HostnameOS / ArchINSTALLBUILDCHECKBUILD BIN
fishpond 2.7.0  (landing page)
Michael Love
git_last_commit: d3f7fb4
git_last_commit_date: 2023-04-25 11:08:06 -0400
nebbiolo2Linux (Ubuntu 22.04.2 LTS) / x86_64  OK    OK    OK  UNNEEDED, same version is already published
palomino4Windows Server 2022 Datacenter / x64  OK    OK    OK    OK  UNNEEDED, same version is already published
lconwaymacOS 12.6.5 Monterey / x86_64  OK    OK    OK    OK  UNNEEDED, same version is already published
Package 165/504HostnameOS / ArchINSTALLBUILDCHECKBUILD BIN
FLAMES 1.7.0  (landing page)
Oliver Voogd
git_last_commit: 0830160
git_last_commit_date: 2023-04-25 11:31:20 -0400
nebbiolo2Linux (Ubuntu 22.04.2 LTS) / x86_64  OK    OK    WARNINGS  UNNEEDED, same version is already published
palomino4Windows Server 2022 Datacenter / x64  OK    OK    OK    OK  NO, package depends on 'basilisk' which is not available
lconwaymacOS 12.6.5 Monterey / x86_64  OK    OK    WARNINGS    OK  UNNEEDED, same version is already published
Package 166/504HostnameOS / ArchINSTALLBUILDCHECKBUILD BIN
FRASER 1.13.0  (landing page)
Christian Mertes
git_last_commit: bb07dd3
git_last_commit_date: 2023-04-25 11:17:40 -0400
nebbiolo2Linux (Ubuntu 22.04.2 LTS) / x86_64  OK    OK    OK  UNNEEDED, same version is already published
palomino4Windows Server 2022 Datacenter / x64  OK    OK    OK    OK  UNNEEDED, same version is already published
lconwaymacOS 12.6.5 Monterey / x86_64  OK    OK    OK    OK  UNNEEDED, same version is already published
Package 167/504HostnameOS / ArchINSTALLBUILDCHECKBUILD BIN
FuseSOM 1.3.0  (landing page)
Elijah Willie
git_last_commit: e88448d
git_last_commit_date: 2023-04-25 11:41:18 -0400
nebbiolo2Linux (Ubuntu 22.04.2 LTS) / x86_64  OK    OK    OK  UNNEEDED, same version is already published
palomino4Windows Server 2022 Datacenter / x64  OK    OK    OK    OK  UNNEEDED, same version is already published
lconwaymacOS 12.6.5 Monterey / x86_64  OK    OK    OK    OK  UNNEEDED, same version is already published
Package 168/504HostnameOS / ArchINSTALLBUILDCHECKBUILD BIN
GARS 1.21.0  (landing page)
Mattia Chiesa
git_last_commit: d7d87a5
git_last_commit_date: 2023-04-25 10:59:44 -0400
nebbiolo2Linux (Ubuntu 22.04.2 LTS) / x86_64  OK    OK    OK  UNNEEDED, same version is already published
palomino4Windows Server 2022 Datacenter / x64  OK    ERROR  skippedskipped
lconwaymacOS 12.6.5 Monterey / x86_64  OK    OK    OK    OK  UNNEEDED, same version is already published
Package 169/504HostnameOS / ArchINSTALLBUILDCHECKBUILD BIN
gCrisprTools 2.7.0  (landing page)
Russell Bainer
git_last_commit: 868322a
git_last_commit_date: 2023-04-25 10:49:24 -0400
nebbiolo2Linux (Ubuntu 22.04.2 LTS) / x86_64  OK    OK    OK  UNNEEDED, same version is already published
palomino4Windows Server 2022 Datacenter / x64  OK    OK    OK    OK  UNNEEDED, same version is already published
lconwaymacOS 12.6.5 Monterey / x86_64  OK    OK    OK    OK  UNNEEDED, same version is already published
Package 170/504HostnameOS / ArchINSTALLBUILDCHECKBUILD BIN
gemma.R 1.3.1  (landing page)
Ogan Mancarci
git_last_commit: 130dbb9
git_last_commit_date: 2023-05-31 23:35:53 -0400
nebbiolo2Linux (Ubuntu 22.04.2 LTS) / x86_64  OK    OK    ERROR  
palomino4Windows Server 2022 Datacenter / x64  OK    OK    ERROR    OK  
lconwaymacOS 12.6.5 Monterey / x86_64  OK    OK    ERROR    OK  
Package 171/504HostnameOS / ArchINSTALLBUILDCHECKBUILD BIN
GeneTonic 2.5.0  (landing page)
Federico Marini
git_last_commit: b1a834b
git_last_commit_date: 2023-04-28 17:01:52 -0400
nebbiolo2Linux (Ubuntu 22.04.2 LTS) / x86_64  OK    OK    OK  UNNEEDED, same version is already published
palomino4Windows Server 2022 Datacenter / x64  OK    OK    OK    OK  UNNEEDED, same version is already published
lconwaymacOS 12.6.5 Monterey / x86_64  OK    OK    OK    OK  UNNEEDED, same version is already published
Package 172/504HostnameOS / ArchINSTALLBUILDCHECKBUILD BIN
GenomicAlignments 1.37.0  (landing page)
Hervé Pagès
git_last_commit: 4237abd
git_last_commit_date: 2023-04-25 10:29:36 -0400
nebbiolo2Linux (Ubuntu 22.04.2 LTS) / x86_64  OK    OK    WARNINGS  UNNEEDED, same version is already published
palomino4Windows Server 2022 Datacenter / x64  OK    OK    WARNINGS    OK  UNNEEDED, same version is already published
lconwaymacOS 12.6.5 Monterey / x86_64  OK    OK    WARNINGS    OK  UNNEEDED, same version is already published
Package 173/504HostnameOS / ArchINSTALLBUILDCHECKBUILD BIN
GenomicFiles 1.37.0  (landing page)
Bioconductor Package Maintainer
git_last_commit: 2fcb640
git_last_commit_date: 2023-04-25 10:31:49 -0400
nebbiolo2Linux (Ubuntu 22.04.2 LTS) / x86_64  OK    OK    WARNINGS  UNNEEDED, same version is already published
palomino4Windows Server 2022 Datacenter / x64  OK    OK    WARNINGS    OK  UNNEEDED, same version is already published
lconwaymacOS 12.6.5 Monterey / x86_64  OK    OK    WARNINGS    OK  UNNEEDED, same version is already published
Package 174/504HostnameOS / ArchINSTALLBUILDCHECKBUILD BIN
genomicInstability 1.7.0  (landing page)
Mariano Alvarez
git_last_commit: 7bd29f4
git_last_commit_date: 2023-04-25 11:31:58 -0400
nebbiolo2Linux (Ubuntu 22.04.2 LTS) / x86_64  OK    OK    OK  UNNEEDED, same version is already published
palomino4Windows Server 2022 Datacenter / x64  OK    OK    OK    OK  UNNEEDED, same version is already published
lconwaymacOS 12.6.5 Monterey / x86_64  OK    OK    OK    OK  UNNEEDED, same version is already published
Package 175/504HostnameOS / ArchINSTALLBUILDCHECKBUILD BIN
GenomicSuperSignature 1.9.0  (landing page)
Sehyun Oh
git_last_commit: 33a7a35
git_last_commit_date: 2023-04-25 11:30:26 -0400
nebbiolo2Linux (Ubuntu 22.04.2 LTS) / x86_64  OK    OK    WARNINGS  UNNEEDED, same version is already published
palomino4Windows Server 2022 Datacenter / x64  OK    OK    WARNINGS    OK  UNNEEDED, same version is already published
lconwaymacOS 12.6.5 Monterey / x86_64  OK    OK    WARNINGS    OK  UNNEEDED, same version is already published
Package 176/504HostnameOS / ArchINSTALLBUILDCHECKBUILD BIN
GeoTcgaData 2.1.0  (landing page)
Erqiang Hu
git_last_commit: 6dbdf09
git_last_commit_date: 2023-04-25 11:43:30 -0400
nebbiolo2Linux (Ubuntu 22.04.2 LTS) / x86_64  OK    OK    OK  UNNEEDED, same version is already published
palomino4Windows Server 2022 Datacenter / x64  OK    OK    OK    OK  UNNEEDED, same version is already published
lconwaymacOS 12.6.5 Monterey / x86_64  OK    OK    OK    OK  UNNEEDED, same version is already published
Package 177/504HostnameOS / ArchINSTALLBUILDCHECKBUILD BIN
getDEE2 1.11.0  (landing page)
Mark Ziemann
git_last_commit: 7fa6e9c
git_last_commit_date: 2023-04-25 11:18:46 -0400
nebbiolo2Linux (Ubuntu 22.04.2 LTS) / x86_64  OK    OK    OK  UNNEEDED, same version is already published
palomino4Windows Server 2022 Datacenter / x64  OK    OK    OK    OK  UNNEEDED, same version is already published
lconwaymacOS 12.6.5 Monterey / x86_64  OK    OK    OK    OK  UNNEEDED, same version is already published
Package 178/504HostnameOS / ArchINSTALLBUILDCHECKBUILD BIN
ggbio 1.49.0  (landing page)
Michael Lawrence
git_last_commit: 3a00da4
git_last_commit_date: 2023-04-25 10:21:27 -0400
nebbiolo2Linux (Ubuntu 22.04.2 LTS) / x86_64  OK    OK    WARNINGS  UNNEEDED, same version is already published
palomino4Windows Server 2022 Datacenter / x64  OK    ERROR  skippedskipped
lconwaymacOS 12.6.5 Monterey / x86_64  OK    OK    WARNINGS    OK  UNNEEDED, same version is already published
Package 179/504HostnameOS / ArchINSTALLBUILDCHECKBUILD BIN
ggspavis 1.7.0  (landing page)
Lukas M. Weber
git_last_commit: b9dfb11
git_last_commit_date: 2023-04-25 11:32:06 -0400
nebbiolo2Linux (Ubuntu 22.04.2 LTS) / x86_64  OK    OK    OK  UNNEEDED, same version is already published
palomino4Windows Server 2022 Datacenter / x64  OK    ERROR  skippedskipped
lconwaymacOS 12.6.5 Monterey / x86_64  OK    OK    OK    OK  UNNEEDED, same version is already published
Package 180/504HostnameOS / ArchINSTALLBUILDCHECKBUILD BIN
Glimma 2.11.0  (landing page)
Shian Su
git_last_commit: a800c32
git_last_commit_date: 2023-04-25 10:46:07 -0400
nebbiolo2Linux (Ubuntu 22.04.2 LTS) / x86_64  OK    OK    OK  UNNEEDED, same version is already published
palomino4Windows Server 2022 Datacenter / x64  OK    OK    OK    OK  UNNEEDED, same version is already published
lconwaymacOS 12.6.5 Monterey / x86_64  OK    OK    OK    OK  UNNEEDED, same version is already published
Package 181/504HostnameOS / ArchINSTALLBUILDCHECKBUILD BIN
glmGamPoi 1.13.0  (landing page)
Constantin Ahlmann-Eltze
git_last_commit: 15bdd09
git_last_commit_date: 2023-05-05 05:30:51 -0400
nebbiolo2Linux (Ubuntu 22.04.2 LTS) / x86_64  OK    OK    OK  UNNEEDED, same version is already published
palomino4Windows Server 2022 Datacenter / x64  OK    OK    ERROR    OK  
lconwaymacOS 12.6.5 Monterey / x86_64  OK    ERROR  skippedskipped
Package 182/504HostnameOS / ArchINSTALLBUILDCHECKBUILD BIN
glmSparseNet 1.19.0  (landing page)
André Veríssimo
git_last_commit: e921121
git_last_commit_date: 2023-04-25 11:04:37 -0400
nebbiolo2Linux (Ubuntu 22.04.2 LTS) / x86_64  OK    OK    OK  UNNEEDED, same version is already published
palomino4Windows Server 2022 Datacenter / x64  OK    OK    OK    OK  UNNEEDED, same version is already published
lconwaymacOS 12.6.5 Monterey / x86_64  OK    ERROR  skippedskipped
Package 183/504HostnameOS / ArchINSTALLBUILDCHECKBUILD BIN
GNET2 1.17.0  (landing page)
Chen Chen
git_last_commit: 6d1e9e2
git_last_commit_date: 2023-04-25 11:08:59 -0400
nebbiolo2Linux (Ubuntu 22.04.2 LTS) / x86_64  OK    OK    OK  UNNEEDED, same version is already published
palomino4Windows Server 2022 Datacenter / x64  OK    OK    OK    OK  UNNEEDED, same version is already published
lconwaymacOS 12.6.5 Monterey / x86_64  OK    OK    OK    OK  UNNEEDED, same version is already published
Package 184/504HostnameOS / ArchINSTALLBUILDCHECKBUILD BIN
GRaNIE 1.5.0  (landing page)
Christian Arnold
git_last_commit: 1ec8c25
git_last_commit_date: 2023-04-25 11:38:11 -0400
nebbiolo2Linux (Ubuntu 22.04.2 LTS) / x86_64  OK    OK    WARNINGS  UNNEEDED, same version is already published
palomino4Windows Server 2022 Datacenter / x64  OK    OK    WARNINGS    OK  UNNEEDED, same version is already published
lconwaymacOS 12.6.5 Monterey / x86_64  OK    OK    ERROR    OK  
Package 185/504HostnameOS / ArchINSTALLBUILDCHECKBUILD BIN
GreyListChIP 1.33.0  (landing page)
Rory Stark
git_last_commit: 6492fce
git_last_commit_date: 2023-04-25 10:37:29 -0400
nebbiolo2Linux (Ubuntu 22.04.2 LTS) / x86_64  OK    OK    OK  UNNEEDED, same version is already published
palomino4Windows Server 2022 Datacenter / x64  OK    OK    OK    OK  UNNEEDED, same version is already published
lconwaymacOS 12.6.5 Monterey / x86_64  OK    OK    OK    OK  UNNEEDED, same version is already published
Package 186/504HostnameOS / ArchINSTALLBUILDCHECKBUILD BIN
GRmetrics 1.27.0  (landing page)
Nicholas Clark , Mario Medvedovic
git_last_commit: f58a2cc
git_last_commit_date: 2023-04-25 10:48:53 -0400
nebbiolo2Linux (Ubuntu 22.04.2 LTS) / x86_64  OK    OK    OK  UNNEEDED, same version is already published
palomino4Windows Server 2022 Datacenter / x64  OK    OK    OK    OK  UNNEEDED, same version is already published
lconwaymacOS 12.6.5 Monterey / x86_64  OK    OK    OK    OK  UNNEEDED, same version is already published
Package 187/504HostnameOS / ArchINSTALLBUILDCHECKBUILD BIN
gscreend 1.15.0  (landing page)
Katharina Imkeller
git_last_commit: 32a757b
git_last_commit_date: 2023-04-25 11:13:07 -0400
nebbiolo2Linux (Ubuntu 22.04.2 LTS) / x86_64  OK    OK    ERROR  
palomino4Windows Server 2022 Datacenter / x64  OK    OK    OK    OK  UNNEEDED, same version is already published
lconwaymacOS 12.6.5 Monterey / x86_64  OK    OK    OK    OK  UNNEEDED, same version is already published
Package 188/504HostnameOS / ArchINSTALLBUILDCHECKBUILD BIN
GSEABenchmarkeR 1.21.0  (landing page)
Ludwig Geistlinger
git_last_commit: 3a6b677
git_last_commit_date: 2023-04-25 11:00:18 -0400
nebbiolo2Linux (Ubuntu 22.04.2 LTS) / x86_64  OK    OK    OK  UNNEEDED, same version is already published
palomino4Windows Server 2022 Datacenter / x64  OK    OK    OK    OK  UNNEEDED, same version is already published
lconwaymacOS 12.6.5 Monterey / x86_64  OK    OK    OK    OK  UNNEEDED, same version is already published
Package 189/504HostnameOS / ArchINSTALLBUILDCHECKBUILD BIN
GSVA 1.49.1  (landing page)
Robert Castelo
git_last_commit: 6cceb58
git_last_commit_date: 2023-06-01 05:38:07 -0400
nebbiolo2Linux (Ubuntu 22.04.2 LTS) / x86_64  OK    OK    OK  YES
palomino4Windows Server 2022 Datacenter / x64  OK    OK    OK    OK  YES
lconwaymacOS 12.6.5 Monterey / x86_64  OK    OK    OK    OK  YES
Package 190/504HostnameOS / ArchINSTALLBUILDCHECKBUILD BIN
gwasurvivr 1.19.0  (landing page)
Abbas Rizvi
git_last_commit: f09bdec
git_last_commit_date: 2023-04-25 11:02:34 -0400
nebbiolo2Linux (Ubuntu 22.04.2 LTS) / x86_64  OK    OK    OK  UNNEEDED, same version is already published
palomino4Windows Server 2022 Datacenter / x64  OK    OK    OK    OK  UNNEEDED, same version is already published
lconwaymacOS 12.6.5 Monterey / x86_64  OK    OK    OK    OK  UNNEEDED, same version is already published
Package 191/504HostnameOS / ArchINSTALLBUILDCHECKBUILD BIN
GWENA 1.11.0  (landing page)
Gwenaëlle Lemoine
git_last_commit: cff602d
git_last_commit_date: 2023-05-02 09:32:51 -0400
nebbiolo2Linux (Ubuntu 22.04.2 LTS) / x86_64  OK    OK    WARNINGS  UNNEEDED, same version is already published
palomino4Windows Server 2022 Datacenter / x64  OK    OK    WARNINGS    OK  UNNEEDED, same version is already published
lconwaymacOS 12.6.5 Monterey / x86_64  OK    OK    WARNINGS    OK  UNNEEDED, same version is already published
Package 192/504HostnameOS / ArchINSTALLBUILDCHECKBUILD BIN
HelloRanges 1.27.0  (landing page)
Michael Lawrence
git_last_commit: a3377f2
git_last_commit_date: 2023-04-25 10:50:31 -0400
nebbiolo2Linux (Ubuntu 22.04.2 LTS) / x86_64  OK    OK    ERROR  
palomino4Windows Server 2022 Datacenter / x64  OK    OK    OK    OK  UNNEEDED, same version is already published
lconwaymacOS 12.6.5 Monterey / x86_64  OK    OK    OK    OK  UNNEEDED, same version is already published
Package 193/504HostnameOS / ArchINSTALLBUILDCHECKBUILD BIN
hermes 1.5.0  (landing page)
Daniel Sabanés Bové
git_last_commit: 02652e8
git_last_commit_date: 2023-04-25 11:35:06 -0400
nebbiolo2Linux (Ubuntu 22.04.2 LTS) / x86_64  OK    OK    OK  UNNEEDED, same version is already published
palomino4Windows Server 2022 Datacenter / x64  OK    OK    OK    OK  UNNEEDED, same version is already published
lconwaymacOS 12.6.5 Monterey / x86_64  OK    OK    OK    OK  UNNEEDED, same version is already published
Package 194/504HostnameOS / ArchINSTALLBUILDCHECKBUILD BIN
HiCDOC 1.3.0  (landing page)
Maigné Élise
git_last_commit: 40021f4
git_last_commit_date: 2023-04-25 11:39:04 -0400
nebbiolo2Linux (Ubuntu 22.04.2 LTS) / x86_64  OK    OK    OK  UNNEEDED, same version is already published
palomino4Windows Server 2022 Datacenter / x64  OK    OK    OK    OK  UNNEEDED, same version is already published
lconwaymacOS 12.6.5 Monterey / x86_64  OK    OK    OK    OK  UNNEEDED, same version is already published
Package 195/504HostnameOS / ArchINSTALLBUILDCHECKBUILD BIN
HiContacts 1.3.0  (landing page)
Jacques Serizay
git_last_commit: 1f3477e
git_last_commit_date: 2023-04-25 11:40:18 -0400
nebbiolo2Linux (Ubuntu 22.04.2 LTS) / x86_64  OK    OK    OK  UNNEEDED, same version is already published
palomino4Windows Server 2022 Datacenter / x64  OK    OK    OK    OK  UNNEEDED, same version is already published
lconwaymacOS 12.6.5 Monterey / x86_64  OK    OK    ERROR    OK  
Package 196/504HostnameOS / ArchINSTALLBUILDCHECKBUILD BIN
hipathia 3.1.0  (landing page)
Marta R. Hidalgo
git_last_commit: 176216f
git_last_commit_date: 2023-04-25 11:01:14 -0400
nebbiolo2Linux (Ubuntu 22.04.2 LTS) / x86_64  OK    OK    OK  UNNEEDED, same version is already published
palomino4Windows Server 2022 Datacenter / x64  OK    ERROR  skippedskipped
lconwaymacOS 12.6.5 Monterey / x86_64  OK    OK    OK    OK  UNNEEDED, same version is already published
Package 197/504HostnameOS / ArchINSTALLBUILDCHECKBUILD BIN
HTSeqGenie 4.31.0  (landing page)
Jens Reeder
git_last_commit: 6787c4b
git_last_commit_date: 2023-04-25 10:24:28 -0400
nebbiolo2Linux (Ubuntu 22.04.2 LTS) / x86_64  OK    OK    ERROR  
palomino4Windows Server 2022 Datacenter / x64... NOT SUPPORTED ...
lconwaymacOS 12.6.5 Monterey / x86_64... NOT SUPPORTED ...
Package 198/504HostnameOS / ArchINSTALLBUILDCHECKBUILD BIN
HumanTranscriptomeCompendium 1.17.0  (landing page)
VJ Carey
git_last_commit: ebb04a2
git_last_commit_date: 2023-04-25 11:09:43 -0400
nebbiolo2Linux (Ubuntu 22.04.2 LTS) / x86_64  OK    OK    WARNINGS  UNNEEDED, same version is already published
palomino4Windows Server 2022 Datacenter / x64  OK    OK    WARNINGS    OK  UNNEEDED, same version is already published
lconwaymacOS 12.6.5 Monterey / x86_64  OK    OK    WARNINGS    OK  UNNEEDED, same version is already published
Package 199/504HostnameOS / ArchINSTALLBUILDCHECKBUILD BIN
hummingbird 1.11.0  (landing page)
Eleni Adam
git_last_commit: 93cfd68
git_last_commit_date: 2023-04-25 11:21:35 -0400
nebbiolo2Linux (Ubuntu 22.04.2 LTS) / x86_64  OK    OK    OK  UNNEEDED, same version is already published
palomino4Windows Server 2022 Datacenter / x64  OK    OK    OK    OK  UNNEEDED, same version is already published
lconwaymacOS 12.6.5 Monterey / x86_64  OK    OK    OK    OK  UNNEEDED, same version is already published
Package 200/504HostnameOS / ArchINSTALLBUILDCHECKBUILD BIN
iasva 1.19.0  (landing page)
Donghyung Lee , Anthony Cheng
git_last_commit: 83946b0
git_last_commit_date: 2023-04-25 11:02:14 -0400
nebbiolo2Linux (Ubuntu 22.04.2 LTS) / x86_64  OK    OK    OK  UNNEEDED, same version is already published
palomino4Windows Server 2022 Datacenter / x64  OK    OK    OK    OK  UNNEEDED, same version is already published
lconwaymacOS 12.6.5 Monterey / x86_64  OK    OK    OK    OK  UNNEEDED, same version is already published
Package 201/504HostnameOS / ArchINSTALLBUILDCHECKBUILD BIN
icetea 1.19.1  (landing page)
Vivek Bhardwaj
git_last_commit: a7b3f63
git_last_commit_date: 2023-04-27 13:16:33 -0400
nebbiolo2Linux (Ubuntu 22.04.2 LTS) / x86_64  OK    OK    WARNINGS  UNNEEDED, same version is already published
palomino4Windows Server 2022 Datacenter / x64  OK    OK    WARNINGS    OK  UNNEEDED, same version is already published
lconwaymacOS 12.6.5 Monterey / x86_64  OK    OK    WARNINGS    OK  UNNEEDED, same version is already published
Package 202/504HostnameOS / ArchINSTALLBUILDCHECKBUILD BIN
ideal 1.25.1  (landing page)
Federico Marini
git_last_commit: a878492
git_last_commit_date: 2023-04-28 17:01:12 -0400
nebbiolo2Linux (Ubuntu 22.04.2 LTS) / x86_64  OK    OK    OK  UNNEEDED, same version is already published
palomino4Windows Server 2022 Datacenter / x64  OK    OK    OK    OK  NO, package depends on 'IHW' which is not available
lconwaymacOS 12.6.5 Monterey / x86_64  ERROR    ERROR  skippedskipped
Package 203/504HostnameOS / ArchINSTALLBUILDCHECKBUILD BIN
IFAA 1.3.0  (landing page)
Zhigang Li
git_last_commit: e5c0844
git_last_commit_date: 2023-04-25 11:41:42 -0400
nebbiolo2Linux (Ubuntu 22.04.2 LTS) / x86_64  OK    OK    OK  UNNEEDED, same version is already published
palomino4Windows Server 2022 Datacenter / x64  OK    OK    OK    OK  UNNEEDED, same version is already published
lconwaymacOS 12.6.5 Monterey / x86_64  OK    OK    OK    OK  UNNEEDED, same version is already published
Package 204/504HostnameOS / ArchINSTALLBUILDCHECKBUILD BIN
IgGeneUsage 1.15.0  (landing page)
Simo Kitanovski
git_last_commit: c17a4e3
git_last_commit_date: 2023-04-25 11:11:37 -0400
nebbiolo2Linux (Ubuntu 22.04.2 LTS) / x86_64  OK    OK    OK  UNNEEDED, same version is already published
palomino4Windows Server 2022 Datacenter / x64  OK    OK    OK    OK  UNNEEDED, same version is already published
lconwaymacOS 12.6.5 Monterey / x86_64  OK    OK    OK    OK  UNNEEDED, same version is already published
Package 205/504HostnameOS / ArchINSTALLBUILDCHECKBUILD BIN
ILoReg 1.11.0  (landing page)
Johannes Smolander
git_last_commit: 2a39997
git_last_commit_date: 2023-04-25 11:20:49 -0400
nebbiolo2Linux (Ubuntu 22.04.2 LTS) / x86_64  OK    OK    ERROR  
palomino4Windows Server 2022 Datacenter / x64  OK    OK    WARNINGS    OK  UNNEEDED, same version is already published
lconwaymacOS 12.6.5 Monterey / x86_64  OK    OK    WARNINGS    OK  UNNEEDED, same version is already published
Package 206/504HostnameOS / ArchINSTALLBUILDCHECKBUILD BIN
imcRtools 1.7.0  (landing page)
Nils Eling
git_last_commit: 192c60b
git_last_commit_date: 2023-04-27 05:02:58 -0400
nebbiolo2Linux (Ubuntu 22.04.2 LTS) / x86_64  OK    OK    OK  UNNEEDED, same version is already published
palomino4Windows Server 2022 Datacenter / x64  OK    OK    OK    OK  UNNEEDED, same version is already published
lconwaymacOS 12.6.5 Monterey / x86_64  OK    OK