Back to Multiple platform build/check report for BioC 3.17
ABCDEFGHIJKLMNOPQRS[T]UVWXYZ

This page was generated on 2023-01-31 11:05:18 -0500 (Tue, 31 Jan 2023).

HostnameOSArch (*)R versionInstalled pkgs
nebbiolo1Linux (Ubuntu 22.04.1 LTS)x86_64R Under development (unstable) (2023-01-10 r83596) -- "Unsuffered Consequences" 4467
palomino3Windows Server 2022 Datacenterx64R Under development (unstable) (2023-01-10 r83596 ucrt) -- "Unsuffered Consequences" 4248
merida1macOS 10.14.6 Mojavex86_64R Under development (unstable) (2023-01-10 r83596) -- "Unsuffered Consequences" 4271
Click on any hostname to see more info about the system (e.g. compilers)      (*) as reported by 'uname -p', except on Windows and Mac OS X

All results for package TreeAndLeaf


To the developers/maintainers of the TreeAndLeaf package:
- Please allow up to 24 hours (and sometimes 48 hours) for your latest push to git@git.bioconductor.org:packages/TreeAndLeaf.git to
reflect on this report. See How and When does the builder pull? When will my changes propagate? for more information.
- Make sure to use the following settings in order to reproduce any error or warning you see on this page.

raw results

Package 2070/2164HostnameOS / ArchINSTALLBUILDCHECKBUILD BIN
TreeAndLeaf 1.11.0  (landing page)
Milena A. Cardoso
Snapshot Date: 2023-01-30 14:00:21 -0500 (Mon, 30 Jan 2023)
git_url: https://git.bioconductor.org/packages/TreeAndLeaf
git_branch: master
git_last_commit: 6a6b7b3
git_last_commit_date: 2022-11-01 11:21:19 -0500 (Tue, 01 Nov 2022)
nebbiolo1Linux (Ubuntu 22.04.1 LTS) / x86_64  OK    OK    OK  UNNEEDED, same version is already published
palomino3Windows Server 2022 Datacenter / x64  OK    OK    OK    OK  UNNEEDED, same version is already published
merida1macOS 10.14.6 Mojave / x86_64  OK    OK    OK    OK  UNNEEDED, same version is already published