Back to Multiple platform build/check report for BioC 3.16
ABCDEF[G]HIJKLMNOPQRSTUVWXYZ

This page was generated on 2022-07-04 11:07:32 -0400 (Mon, 04 Jul 2022).

HostnameOSArch (*)R versionInstalled pkgs
nebbiolo2Linux (Ubuntu 20.04.4 LTS)x86_644.2.0 Patched (2022-06-02 r82447) -- "Vigorous Calisthenics" 4343
palomino4Windows Server 2022 Datacenterx644.2.0 Patched (2022-06-02 r82447 ucrt) -- "Vigorous Calisthenics" 4148
lconwaymacOS 12.2.1 Montereyx86_644.2.0 Patched (2022-05-29 r82424) -- "Vigorous Calisthenics" 4160
Click on any hostname to see more info about the system (e.g. compilers)      (*) as reported by 'uname -p', except on Windows and Mac OS X

CHECK results for GateFinder on lconway


To the developers/maintainers of the GateFinder package:
- Please allow up to 24 hours (and sometimes 48 hours) for your latest push to git@git.bioconductor.org:packages/GateFinder.git to
reflect on this report. See How and When does the builder pull? When will my changes propagate? for more information.
- Make sure to use the following settings in order to reproduce any error or warning you see on this page.

raw results

Package 717/2124HostnameOS / ArchINSTALLBUILDCHECKBUILD BIN
GateFinder 1.17.0  (landing page)
Nima Aghaeepour
Snapshot Date: 2022-07-03 14:00:03 -0400 (Sun, 03 Jul 2022)
git_url: https://git.bioconductor.org/packages/GateFinder
git_branch: master
git_last_commit: 3152988
git_last_commit_date: 2022-04-26 11:48:11 -0400 (Tue, 26 Apr 2022)
nebbiolo2Linux (Ubuntu 20.04.4 LTS) / x86_64  OK    OK    OK  UNNEEDED, same version is already published
palomino4Windows Server 2022 Datacenter / x64  OK    OK    OK    OK  UNNEEDED, same version is already published
lconwaymacOS 12.2.1 Monterey / x86_64  OK    OK    OK    OK  UNNEEDED, same version is already published

Summary

Package: GateFinder
Version: 1.17.0
Command: /Library/Frameworks/R.framework/Resources/bin/R CMD check --install=check:GateFinder.install-out.txt --library=/Library/Frameworks/R.framework/Resources/library --no-vignettes --timings GateFinder_1.17.0.tar.gz
StartedAt: 2022-07-03 20:35:16 -0400 (Sun, 03 Jul 2022)
EndedAt: 2022-07-03 20:36:37 -0400 (Sun, 03 Jul 2022)
EllapsedTime: 80.8 seconds
RetCode: 0
Status:   OK  
CheckDir: GateFinder.Rcheck
Warnings: 0

Command output

##############################################################################
##############################################################################
###
### Running command:
###
###   /Library/Frameworks/R.framework/Resources/bin/R CMD check --install=check:GateFinder.install-out.txt --library=/Library/Frameworks/R.framework/Resources/library --no-vignettes --timings GateFinder_1.17.0.tar.gz
###
##############################################################################
##############################################################################


* using log directory ‘/Users/biocbuild/bbs-3.16-bioc/meat/GateFinder.Rcheck’
* using R version 4.2.0 Patched (2022-05-29 r82424)
* using platform: x86_64-apple-darwin17.0 (64-bit)
* using session charset: UTF-8
* using option ‘--no-vignettes’
* checking for file ‘GateFinder/DESCRIPTION’ ... OK
* checking extension type ... Package
* this is package ‘GateFinder’ version ‘1.17.0’
* checking package namespace information ... OK
* checking package dependencies ... OK
* checking if this is a source package ... OK
* checking if there is a namespace ... OK
* checking for hidden files and directories ... OK
* checking for portable file names ... OK
* checking for sufficient/correct file permissions ... OK
* checking whether package ‘GateFinder’ can be installed ... OK
* checking installed package size ... OK
* checking package directory ... OK
* checking ‘build’ directory ... OK
* checking DESCRIPTION meta-information ... OK
* checking top-level files ... OK
* checking for left-over files ... OK
* checking index information ... OK
* checking package subdirectories ... OK
* checking R files for non-ASCII characters ... OK
* checking R files for syntax errors ... OK
* checking whether the package can be loaded ... OK
* checking whether the package can be loaded with stated dependencies ... OK
* checking whether the package can be unloaded cleanly ... OK
* checking whether the namespace can be loaded with stated dependencies ... OK
* checking whether the namespace can be unloaded cleanly ... OK
* checking dependencies in R code ... OK
* checking S3 generic/method consistency ... NOTE
Found the following apparent S3 methods exported but not registered:
  plot.GateFinder
See section ‘Registering S3 methods’ in the ‘Writing R Extensions’
manual.
* checking replacement functions ... OK
* checking foreign function calls ... OK
* checking R code for possible problems ... NOTE
.ah2sp: no visible global function definition for ‘CRS’
.ah2sp: no visible global function definition for ‘anglesArc’
.ah2sp: no visible global function definition for ‘Line’
.ah2sp: no visible global function definition for ‘Lines’
.ah2sp: no visible global function definition for ‘SpatialLines’
.ah2sp: no visible global function definition for ‘slot’
.ah2sp : <anonymous>: no visible global function definition for ‘slot’
.ah2sp: no visible global function definition for ‘SpatialPolygons’
.ah2sp: no visible global function definition for ‘Polygons’
.ah2sp : <anonymous>: no visible global function definition for
  ‘Polygon’
.ah2sp: no visible binding for global variable
  ‘SpatialPolygonsDataFrame’
.ah2sp: no visible global function definition for
  ‘SpatialPolygonsDataFrame’
.binsearch: no visible global function definition for ‘test’
.flowFPOutliers: no visible global function definition for ‘new’
.getBestPoly: no visible global function definition for ‘quantile’
.getBestPoly: no visible global function definition for ‘chull’
.getBestPoly: no visible global function definition for ‘ahull’
.getBestPoly : <anonymous>: no visible global function definition for
  ‘ahull’
.getBestPoly : <anonymous>: no visible global function definition for
  ‘chull’
.getGates : <anonymous>: no visible global function definition for
  ‘chull’
.spline.poly: no visible global function definition for ‘spline’
GateFinder: no visible global function definition for ‘median’
GateFinder: no visible global function definition for ‘new’
plot.GateFinder: no visible global function definition for ‘par’
plot.GateFinder: no visible global function definition for ‘colors’
plot.GateFinder: no visible global function definition for ‘points’
plot.GateFinder: no visible global function definition for ‘axis’
plot.GateFinder: no visible global function definition for ‘box’
plot.GateFinder: no visible global function definition for ‘lines’
plot,GatingProjection-ANY: no visible global function definition for
  ‘par’
plot,GatingProjection-ANY: no visible global function definition for
  ‘lines’
plot,GatingProjection-ANY: no visible global function definition for
  ‘legend’
Undefined global functions or variables:
  CRS Line Lines Polygon Polygons SpatialLines SpatialPolygons
  SpatialPolygonsDataFrame ahull anglesArc axis box chull colors legend
  lines median new par points quantile slot spline test
Consider adding
  importFrom("grDevices", "chull", "colors")
  importFrom("graphics", "axis", "box", "legend", "lines", "par",
             "points")
  importFrom("methods", "new", "slot")
  importFrom("stats", "median", "quantile", "spline")
to your NAMESPACE file (and ensure that your DESCRIPTION Imports field
contains 'methods').
* checking Rd files ... OK
* checking Rd metadata ... OK
* checking Rd cross-references ... OK
* checking for missing documentation entries ... OK
* checking for code/documentation mismatches ... OK
* checking Rd \usage sections ... OK
* checking Rd contents ... OK
* checking for unstated dependencies in examples ... OK
* checking contents of ‘data’ directory ... OK
* checking data for non-ASCII characters ... OK
* checking data for ASCII and uncompressed saves ... OK
* checking sizes of PDF files under ‘inst/doc’ ... OK
* checking files in ‘vignettes’ ... OK
* checking examples ... OK
* checking for unstated dependencies in ‘tests’ ... OK
* checking tests ...
  Running ‘runTests.R’
 OK
* checking for unstated dependencies in vignettes ... OK
* checking package vignettes in ‘inst/doc’ ... OK
* checking running R code from vignettes ... SKIPPED
* checking re-building of vignette outputs ... SKIPPED
* checking PDF version of manual ... OK
* DONE

Status: 2 NOTEs
See
  ‘/Users/biocbuild/bbs-3.16-bioc/meat/GateFinder.Rcheck/00check.log’
for details.



Installation output

GateFinder.Rcheck/00install.out

##############################################################################
##############################################################################
###
### Running command:
###
###   /Library/Frameworks/R.framework/Resources/bin/R CMD INSTALL GateFinder
###
##############################################################################
##############################################################################


* installing to library ‘/Library/Frameworks/R.framework/Versions/4.2/Resources/library’
* installing *source* package ‘GateFinder’ ...
** using staged installation
** R
** data
** inst
** byte-compile and prepare package for lazy loading
** help
*** installing help indices
** building package indices
** installing vignettes
** testing if installed package can be loaded from temporary location
** testing if installed package can be loaded from final location
** testing if installed package keeps a record of temporary installation path
* DONE (GateFinder)

Tests output

GateFinder.Rcheck/tests/runTests.Rout


R version 4.2.0 Patched (2022-05-29 r82424) -- "Vigorous Calisthenics"
Copyright (C) 2022 The R Foundation for Statistical Computing
Platform: x86_64-apple-darwin17.0 (64-bit)

R is free software and comes with ABSOLUTELY NO WARRANTY.
You are welcome to redistribute it under certain conditions.
Type 'license()' or 'licence()' for distribution details.

R is a collaborative project with many contributors.
Type 'contributors()' for more information and
'citation()' on how to cite R or R packages in publications.

Type 'demo()' for some demos, 'help()' for on-line help, or
'help.start()' for an HTML browser interface to help.
Type 'q()' to quit R.

> BiocGenerics:::testPackage('GateFinder')


RUNIT TEST PROTOCOL -- Sun Jul  3 20:36:28 2022 
*********************************************** 
Number of test functions: 1 
Number of errors: 0 
Number of failures: 0 

 
1 Test Suite : 
GateFinder RUnit Tests - 1 test function, 0 errors, 0 failures
Number of test functions: 1 
Number of errors: 0 
Number of failures: 0 
> 
> proc.time()
   user  system elapsed 
  2.956   0.229   3.176 

Example timings

GateFinder.Rcheck/GateFinder-Ex.timings

nameusersystemelapsed
GateFinder-package1.1560.0571.218
GateFinder0.7650.0270.794
GatingProjection-class0.7010.0260.730
LPSData0.0210.0030.025
plot.GateFinder0.7090.0240.736