Back to Multiple platform build/check report for BioC 3.13
ABCDEFGHIJKLMNO[P]QRSTUVWXYZ

Multiple platform build/check report for BioC 3.13

Results for PING

This page was generated on 2020-11-24 12:01:40 -0500 (Tue, 24 Nov 2020).

Package 1302/1907HostnameOS / ArchINSTALLBUILDCHECKBUILD BIN
PING 2.35.0
Renan Sauteraud
Snapshot Date: 2020-11-23 14:41:10 -0500 (Mon, 23 Nov 2020)
URL: https://git.bioconductor.org/packages/PING
Branch: master
Last Commit: 77ad790
Last Changed Date: 2020-10-27 10:44:58 -0500 (Tue, 27 Oct 2020)
malbec2 Linux (Ubuntu 20.04.1 LTS) / x86_64  OK  OK  WARNINGS UNNEEDED, same version exists in internal repository
tokay2 Windows Server 2012 R2 Standard / x64  OK  OK  WARNINGS  OK UNNEEDED, same version exists in internal repository
riesling1 Windows Server 2019 Standard / x64  OK  OK  WARNINGS  OK 
machv2 macOS 10.14.6 Mojave / x86_64  OK  OK  WARNINGS  OK UNNEEDED, same version exists in internal repository