Back to Multiple platform build/check report for BioC 3.14
ABCDEFGHIJKL[M]NOPQRSTUVWXYZ

This page was generated on 2021-10-19 12:04:10 -0400 (Tue, 19 Oct 2021).

All results for package MethylAid

To the developers/maintainers of the MethylAid package:
- Please allow up to 24 hours (and sometimes 48 hours) for your latest push to git@git.bioconductor.org:packages/MethylAid.git to
reflect on this report. See How and When does the builder pull? When will my changes propagate? here for more information.
- Make sure to use the following settings in order to reproduce any error or warning you see on this page.

raw results

Package 1106/2060HostnameOS / ArchINSTALLBUILDCHECKBUILD BIN
MethylAid 1.27.0  (landing page)
L.J.Sinke
Snapshot Date: 2021-10-18 14:50:10 -0400 (Mon, 18 Oct 2021)
git_url: https://git.bioconductor.org/packages/MethylAid
git_branch: master
git_last_commit: 9e35130
git_last_commit_date: 2021-05-19 12:05:17 -0400 (Wed, 19 May 2021)
nebbiolo2Linux (Ubuntu 20.04.2 LTS) / x86_64  OK    OK    OK  UNNEEDED, same version is already published
riesling1Windows Server 2019 Standard / x64  OK    OK    OK    OK  UNNEEDED, same version is already published
merida1macOS 10.14.6 Mojave / x86_64  OK    OK    OK    NA