Back to Multiple platform build/check report for BioC 3.14
AB[C]DEFGHIJKLMNOPQRSTUVWXYZ

This page was generated on 2021-10-14 12:04:36 -0400 (Thu, 14 Oct 2021).

All results for package CoreGx

To the developers/maintainers of the CoreGx package:
- Please allow up to 24 hours (and sometimes 48 hours) for your latest push to git@git.bioconductor.org:packages/CoreGx.git to
reflect on this report. See How and When does the builder pull? When will my changes propagate? here for more information.
- Make sure to use the following settings in order to reproduce any error or warning you see on this page.

raw results

Package 391/2056HostnameOS / ArchINSTALLBUILDCHECKBUILD BIN
CoreGx 1.5.6  (landing page)
Benjamin Haibe-Kains
Snapshot Date: 2021-10-13 14:50:09 -0400 (Wed, 13 Oct 2021)
git_url: https://git.bioconductor.org/packages/CoreGx
git_branch: master
git_last_commit: 5cde387
git_last_commit_date: 2021-10-06 16:44:28 -0400 (Wed, 06 Oct 2021)
nebbiolo2Linux (Ubuntu 20.04.2 LTS) / x86_64  OK    OK    OK  UNNEEDED, same version is already published
riesling1Windows Server 2019 Standard / x64  OK    OK    OK    OK  UNNEEDED, same version is already published
merida1macOS 10.14.6 Mojave / x86_64  OK    OK    OK    OK  UNNEEDED, same version is already published

Results for Bioconductor software packages that depend directly on package CoreGx

QUICK STATSOS / ArchINSTALLBUILDCHECKBUILD BIN
nebbiolo2Linux (Ubuntu 20.04.2 LTS) / x86_64
004
004
0004
riesling1Windows Server 2019 Standard / x64
004
004
0103
004
merida1macOS 10.14.6 Mojave / x86_64
004
004
0004
003
Package 1/4HostnameOS / ArchINSTALLBUILDCHECKBUILD BIN
PDATK 1.1.3  (landing page)
Benjamin Haibe-Kains
git_last_commit: cfa69f2
git_last_commit_date: 2021-06-18 19:41:26 -0400
nebbiolo2Linux (Ubuntu 20.04.2 LTS) / x86_64  OK    OK    OK  UNNEEDED, same version is already published
riesling1Windows Server 2019 Standard / x64  OK    OK    OK    OK  UNNEEDED, same version is already published
merida1macOS 10.14.6 Mojave / x86_64  OK    OK    OK    OK  UNNEEDED, same version is already published
Package 2/4HostnameOS / ArchINSTALLBUILDCHECKBUILD BIN
PharmacoGx 2.5.2  (landing page)
Benjamin Haibe-Kains
git_last_commit: 64e1365
git_last_commit_date: 2021-06-01 22:03:53 -0400
nebbiolo2Linux (Ubuntu 20.04.2 LTS) / x86_64  OK    OK    OK  UNNEEDED, same version is already published
riesling1Windows Server 2019 Standard / x64  OK    OK    OK    OK  UNNEEDED, same version is already published
merida1macOS 10.14.6 Mojave / x86_64  OK    OK    OK    OK  UNNEEDED, same version is already published
Package 3/4HostnameOS / ArchINSTALLBUILDCHECKBUILD BIN
RadioGx 1.3.0  (landing page)
Benjamin Haibe-Kains
git_last_commit: 21d8da5
git_last_commit_date: 2021-05-19 12:53:17 -0400
nebbiolo2Linux (Ubuntu 20.04.2 LTS) / x86_64  OK    OK    OK  UNNEEDED, same version is already published
riesling1Windows Server 2019 Standard / x64  OK    OK    OK    OK  UNNEEDED, same version is already published
merida1macOS 10.14.6 Mojave / x86_64  OK    OK    OK    OK  UNNEEDED, same version is already published
Package 4/4HostnameOS / ArchINSTALLBUILDCHECKBUILD BIN
ToxicoGx 1.3.4  (landing page)
Benjamin Haibe-Kains
git_last_commit: a98a55e
git_last_commit_date: 2021-10-13 14:48:03 -0400
nebbiolo2Linux (Ubuntu 20.04.2 LTS) / x86_64  OK    OK    OK  YES
riesling1Windows Server 2019 Standard / x64  OK    OK    ERROR    OK  
merida1macOS 10.14.6 Mojave / x86_64  OK    OK    OK    NA