Back to Multiple platform build/check report for BioC 3.16
ABC[D]EFGHIJKLMNOPQRSTUVWXYZ

This page was generated on 2022-05-26 11:02:25 -0400 (Thu, 26 May 2022).

HostnameOSArch (*)R versionInstalled pkgs
nebbiolo2Linux (Ubuntu 20.04.4 LTS)x86_644.2.0 RC (2022-04-21 r82226) -- "Vigorous Calisthenics" 4357
palomino4Windows Server 2022 Datacenterx644.2.0 Patched (2022-04-24 r82246 ucrt) -- "Vigorous Calisthenics" 4159
Click on any hostname to see more info about the system (e.g. compilers)      (*) as reported by 'uname -p', except on Windows and Mac OS X

All results for package DeMixT


To the developers/maintainers of the DeMixT package:
- Please allow up to 24 hours (and sometimes 48 hours) for your latest push to git@git.bioconductor.org:packages/DeMixT.git to
reflect on this report. See How and When does the builder pull? When will my changes propagate? for more information.
- Make sure to use the following settings in order to reproduce any error or warning you see on this page.

raw results

Package 498/2112HostnameOS / ArchINSTALLBUILDCHECKBUILD BIN
DeMixT 1.13.0  (landing page)
Shuai Guo
Snapshot Date: 2022-05-25 14:00:04 -0400 (Wed, 25 May 2022)
git_url: https://git.bioconductor.org/packages/DeMixT
git_branch: master
git_last_commit: a85fc21
git_last_commit_date: 2022-04-26 11:54:08 -0400 (Tue, 26 Apr 2022)
nebbiolo2Linux (Ubuntu 20.04.4 LTS) / x86_64  OK    OK    WARNINGS  UNNEEDED, same version is already published
palomino4Windows Server 2022 Datacenter / x64  OK    OK    WARNINGS    OK  UNNEEDED, same version is already published