Back to Multiple platform build/check report for BioC 3.18:   simplified   long
AB[C]DEFGHIJKLMNOPQRSTUVWXYZ

This page was generated on 2023-09-28 11:39:01 -0400 (Thu, 28 Sep 2023).

HostnameOSArch (*)R versionInstalled pkgs
nebbiolo2Linux (Ubuntu 22.04.2 LTS)x86_644.3.1 (2023-06-16) -- "Beagle Scouts" 4660
palomino4Windows Server 2022 Datacenterx644.3.1 (2023-06-16 ucrt) -- "Beagle Scouts" 4395
lconwaymacOS 12.6.5 Montereyx86_644.3.1 Patched (2023-06-17 r84564) -- "Beagle Scouts" 4409
kunpeng2Linux (openEuler 22.03 LTS-SP1)aarch644.3.1 (2023-06-16) -- "Beagle Scouts" 4400
Click on any hostname to see more info about the system (e.g. compilers)      (*) as reported by 'uname -p', except on Windows and Mac OS X

Package 371/2233HostnameOS / ArchINSTALLBUILDCHECKBUILD BIN
clusterStab 1.73.0  (landing page)
James W. MacDonald
Snapshot Date: 2023-09-27 14:05:07 -0400 (Wed, 27 Sep 2023)
git_url: https://git.bioconductor.org/packages/clusterStab
git_branch: devel
git_last_commit: ed24d22
git_last_commit_date: 2023-04-25 09:42:14 -0400 (Tue, 25 Apr 2023)
nebbiolo2Linux (Ubuntu 22.04.2 LTS) / x86_64  OK    OK    OK  UNNEEDED, same version is already published
palomino4Windows Server 2022 Datacenter / x64  OK    OK    OK    OK  UNNEEDED, same version is already published
lconwaymacOS 12.6.5 Monterey / x86_64  OK    OK    OK    OK  UNNEEDED, same version is already published
kunpeng2Linux (openEuler 22.03 LTS-SP1) / aarch64  OK    OK    OK  

BUILD BIN results for clusterStab on lconway


To the developers/maintainers of the clusterStab package:
- Allow up to 24 hours (and sometimes 48 hours) for your latest push to git@git.bioconductor.org:packages/clusterStab.git to reflect on this report. See Troubleshooting Build Report for more information.
- Use the following Renviron settings to reproduce errors and warnings.
- If 'R CMD check' started to fail recently on the Linux builder(s) over a missing dependency, add the missing dependency to 'Suggests:' in your DESCRIPTION file. See Renviron.bioc for more information.

raw results


Summary

Package: clusterStab
Version: 1.73.0
Command: rm -rf clusterStab.buildbin-libdir && mkdir clusterStab.buildbin-libdir && /Users/biocbuild/BBS/utils/build-universal.sh clusterStab_1.73.0.tar.gz /Library/Frameworks/R.framework/Resources/bin/R clusterStab.buildbin-libdir
StartedAt: 2023-09-28 00:22:46 -0400 (Thu, 28 Sep 2023)
EndedAt: 2023-09-28 00:22:53 -0400 (Thu, 28 Sep 2023)
EllapsedTime: 7.0 seconds
RetCode: 0
Status:   OK  
PackageFile: clusterStab_1.73.0.tgz
PackageFileSize: 337.8 KiB

Command output

##############################################################################
##############################################################################
###
### Running command:
###
###   rm -rf clusterStab.buildbin-libdir && mkdir clusterStab.buildbin-libdir && /Users/biocbuild/BBS/utils/build-universal.sh clusterStab_1.73.0.tar.gz /Library/Frameworks/R.framework/Resources/bin/R clusterStab.buildbin-libdir
###
##############################################################################
##############################################################################


>>>>>>> 
>>>>>>> INSTALLATION WITH 'R CMD INSTALL --preclean --no-multiarch --library=clusterStab.buildbin-libdir clusterStab_1.73.0.tar.gz'
>>>>>>> 

* installing *source* package ‘clusterStab’ ...
** using staged installation
** R
** inst
** byte-compile and prepare package for lazy loading
** help
*** installing help indices
** building package indices
** installing vignettes
** testing if installed package can be loaded from temporary location
** testing if installed package can be loaded from final location
** testing if installed package keeps a record of temporary installation path
* DONE (clusterStab)