Back to Multiple platform build/check report for BioC 3.14
ABCDEFGHIJKLMNOPQR[S]TUVWXYZ

This page was generated on 2021-09-17 12:04:38 -0400 (Fri, 17 Sep 2021).

All results for package selectKSigs

To the developers/maintainers of the selectKSigs package:
- Please allow up to 24 hours (and sometimes 48 hours) for your latest push to git@git.bioconductor.org:packages/selectKSigs.git to
reflect on this report. See How and When does the builder pull? When will my changes propagate? here for more information.
- Make sure to use the following settings in order to reproduce any error or warning you see on this page.

raw results

Package 1711/2029HostnameOS / ArchINSTALLBUILDCHECKBUILD BIN
selectKSigs 1.5.0  (landing page)
Zhi Yang
Snapshot Date: 2021-09-16 14:50:05 -0400 (Thu, 16 Sep 2021)
git_url: https://git.bioconductor.org/packages/selectKSigs
git_branch: master
git_last_commit: 125e65b
git_last_commit_date: 2021-05-19 12:48:21 -0400 (Wed, 19 May 2021)
nebbiolo2Linux (Ubuntu 20.04.2 LTS) / x86_64  OK    OK    OK  UNNEEDED, same version is already published
riesling1Windows Server 2019 Standard / x64  OK    OK    OK    OK  UNNEEDED, same version is already published
merida1macOS 10.14.6 Mojave / x86_64  OK    OK    OK    OK  UNNEEDED, same version is already published