Back to Multiple platform build/check report for BioC 3.14
ABCDEFGHIJKL[M]NOPQRSTUVWXYZ

This page was generated on 2021-10-18 12:03:45 -0400 (Mon, 18 Oct 2021).

BUILD results for Maaslin2 on nebbiolo2

To the developers/maintainers of the Maaslin2 package:
- Please allow up to 24 hours (and sometimes 48 hours) for your latest push to git@git.bioconductor.org:packages/Maaslin2.git to
reflect on this report. See How and When does the builder pull? When will my changes propagate? here for more information.
- Make sure to use the following settings in order to reproduce any error or warning you see on this page.

raw results

Package 1015/2060HostnameOS / ArchINSTALLBUILDCHECKBUILD BIN
Maaslin2 1.7.2  (landing page)
Lauren McIver
Snapshot Date: 2021-10-17 14:50:03 -0400 (Sun, 17 Oct 2021)
git_url: https://git.bioconductor.org/packages/Maaslin2
git_branch: master
git_last_commit: fa0acbd
git_last_commit_date: 2021-07-29 18:52:57 -0400 (Thu, 29 Jul 2021)
nebbiolo2Linux (Ubuntu 20.04.2 LTS) / x86_64  OK    OK    OK  UNNEEDED, same version is already published
riesling1Windows Server 2019 Standard / x64  OK    OK    OK    OK  UNNEEDED, same version is already published
merida1macOS 10.14.6 Mojave / x86_64  OK    OK    OK    NA  

Summary

Package: Maaslin2
Version: 1.7.2
Command: /home/biocbuild/bbs-3.14-bioc/R/bin/R CMD build --keep-empty-dirs --no-resave-data Maaslin2
StartedAt: 2021-10-17 17:39:21 -0400 (Sun, 17 Oct 2021)
EndedAt: 2021-10-17 17:40:36 -0400 (Sun, 17 Oct 2021)
EllapsedTime: 75.3 seconds
RetCode: 0
Status:   OK  
PackageFile: Maaslin2_1.7.2.tar.gz
PackageFileSize: 670.3 KiB

Command output

##############################################################################
##############################################################################
###
### Running command:
###
###   /home/biocbuild/bbs-3.14-bioc/R/bin/R CMD build --keep-empty-dirs --no-resave-data Maaslin2
###
##############################################################################
##############################################################################


* checking for file ‘Maaslin2/DESCRIPTION’ ... OK
* preparing ‘Maaslin2’:
* checking DESCRIPTION meta-information ... OK
* installing the package to build vignettes
* creating vignettes ... OK
* checking for LF line-endings in source and make files and shell scripts
* checking for empty or unneeded directories
Omitted ‘LazyData’ from DESCRIPTION
* building ‘Maaslin2_1.7.2.tar.gz’