Back to Multiple platform build/check report for BioC 3.19:   simplified   long
ABCD[E]FGHIJKLMNOPQRSTUVWXYZ

This page was generated on 2023-12-01 11:34:16 -0500 (Fri, 01 Dec 2023).

HostnameOSArch (*)R versionInstalled pkgs
nebbiolo1Linux (Ubuntu 22.04.2 LTS)x86_64R Under development (unstable) (2023-11-11 r85510) -- "Unsuffered Consequences" 4601
palomino3Windows Server 2022 Datacenterx64R Under development (unstable) (2023-11-14 r85524 ucrt) -- "Unsuffered Consequences" 4343
merida1macOS 12.7.1 Montereyx86_64R Under development (unstable) (2023-11-11 r85510) -- "Unsuffered Consequences" 4368
kunpeng2Linux (openEuler 22.03 LTS-SP1)aarch64R Under development (unstable) (2023-11-01 r85459) -- "Unsuffered Consequences" 4253
Click on any hostname to see more info about the system (e.g. compilers)      (*) as reported by 'uname -p', except on Windows and Mac OS X

All results for package epiNEM


To the developers/maintainers of the epiNEM package:
- Allow up to 24 hours (and sometimes 48 hours) for your latest push to git@git.bioconductor.org:packages/epiNEM.git to reflect on this report. See Troubleshooting Build Report for more information.
- Use the following Renviron settings to reproduce errors and warnings.
- If 'R CMD check' started to fail recently on the Linux builder(s) over a missing dependency, add the missing dependency to 'Suggests:' in your DESCRIPTION file. See Renviron.bioc for more information.

raw results

Package 647/2225HostnameOS / ArchINSTALLBUILDCHECKBUILD BIN
epiNEM 1.27.0  (landing page)
Martin Pirkl
Snapshot Date: 2023-11-30 14:00:18 -0500 (Thu, 30 Nov 2023)
git_url: https://git.bioconductor.org/packages/epiNEM
git_branch: devel
git_last_commit: 0164938
git_last_commit_date: 2023-10-24 10:55:55 -0500 (Tue, 24 Oct 2023)
nebbiolo1Linux (Ubuntu 22.04.2 LTS) / x86_64  OK    OK    OK  UNNEEDED, same version is already published
palomino3Windows Server 2022 Datacenter / x64  OK    OK    OK    OK  UNNEEDED, same version is already published
merida1macOS 12.7.1 Monterey / x86_64  OK    OK    OK    OK  UNNEEDED, same version is already published
kunpeng2Linux (openEuler 22.03 LTS-SP1) / aarch64  OK    OK    OK  

Results for Bioconductor software packages that depend directly on package epiNEM

QUICK STATSOS / ArchINSTALLBUILDCHECKBUILD BIN
nebbiolo1Linux (Ubuntu 22.04.2 LTS) / x86_64
003
003
0003
palomino3Windows Server 2022 Datacenter / x64
003
003
0003
003
merida1macOS 12.7.1 Monterey / x86_64
003
003
0003
003
kunpeng2Linux (openEuler 22.03 LTS-SP1) / aarch64
003
102
0002
Package 1/3HostnameOS / ArchINSTALLBUILDCHECKBUILD BIN
bnem 1.11.0  (landing page)
Martin Pirkl
git_last_commit: c0ad922
git_last_commit_date: 2023-10-24 11:28:26 -0500
nebbiolo1Linux (Ubuntu 22.04.2 LTS) / x86_64  OK    OK    OK  UNNEEDED, same version is already published
palomino3Windows Server 2022 Datacenter / x64  OK    OK    OK    OK  UNNEEDED, same version is already published
merida1macOS 12.7.1 Monterey / x86_64  OK    OK    OK    OK  UNNEEDED, same version is already published
kunpeng2Linux (openEuler 22.03 LTS-SP1) / aarch64  OK    OK    OK  
Package 2/3HostnameOS / ArchINSTALLBUILDCHECKBUILD BIN
dce 1.11.0  (landing page)
Kim Philipp Jablonski
git_last_commit: 57c5fa4
git_last_commit_date: 2023-10-24 11:30:24 -0500
nebbiolo1Linux (Ubuntu 22.04.2 LTS) / x86_64  OK    OK    OK  UNNEEDED, same version is already published
palomino3Windows Server 2022 Datacenter / x64  OK    OK    OK    OK  UNNEEDED, same version is already published
merida1macOS 12.7.1 Monterey / x86_64  OK    OK    OK    OK  UNNEEDED, same version is already published
kunpeng2Linux (openEuler 22.03 LTS-SP1) / aarch64  OK    TIMEOUT  skipped
Package 3/3HostnameOS / ArchINSTALLBUILDCHECKBUILD BIN
nempi 1.11.0  (landing page)
Martin Pirkl
git_last_commit: 41f9998
git_last_commit_date: 2023-11-07 03:30:26 -0500
nebbiolo1Linux (Ubuntu 22.04.2 LTS) / x86_64  OK    OK    OK  UNNEEDED, same version is already published
palomino3Windows Server 2022 Datacenter / x64  OK    OK    OK    OK  UNNEEDED, same version is already published
merida1macOS 12.7.1 Monterey / x86_64  OK    OK    OK    OK  UNNEEDED, same version is already published
kunpeng2Linux (openEuler 22.03 LTS-SP1) / aarch64  OK    OK    OK