Back to Multiple platform build/check report for BioC 3.17
AB[C]DEFGHIJKLMNOPQRSTUVWXYZ

This page was generated on 2022-12-07 11:04:17 -0500 (Wed, 07 Dec 2022).

HostnameOSArch (*)R versionInstalled pkgs
nebbiolo1Linux (Ubuntu 22.04.1 LTS)x86_64R Under development (unstable) (2022-11-30 r83393) -- "Unsuffered Consequences" 4423
palomino3Windows Server 2022 Datacenterx64R Under development (unstable) (2022-11-30 r83393 ucrt) -- "Unsuffered Consequences" 4193
merida1macOS 10.14.6 Mojavex86_64R Under development (unstable) (2022-11-30 r83393) -- "Unsuffered Consequences" 4236
Click on any hostname to see more info about the system (e.g. compilers)      (*) as reported by 'uname -p', except on Windows and Mac OS X

All results for package cBioPortalData


To the developers/maintainers of the cBioPortalData package:
- Please allow up to 24 hours (and sometimes 48 hours) for your latest push to git@git.bioconductor.org:packages/cBioPortalData.git to
reflect on this report. See How and When does the builder pull? When will my changes propagate? for more information.
- Make sure to use the following settings in order to reproduce any error or warning you see on this page.

raw results

Package 258/2155HostnameOS / ArchINSTALLBUILDCHECKBUILD BIN
cBioPortalData 2.11.1  (landing page)
Marcel Ramos
Snapshot Date: 2022-12-06 14:00:17 -0500 (Tue, 06 Dec 2022)
git_url: https://git.bioconductor.org/packages/cBioPortalData
git_branch: master
git_last_commit: a5644f7
git_last_commit_date: 2022-11-22 14:25:07 -0500 (Tue, 22 Nov 2022)
nebbiolo1Linux (Ubuntu 22.04.1 LTS) / x86_64  OK    OK    OK  UNNEEDED, same version is already published
palomino3Windows Server 2022 Datacenter / x64  OK    OK    OK    OK  NO, package depends on 'MultiAssayExperiment' which is not available
merida1macOS 10.14.6 Mojave / x86_64  OK    OK    OK    OK  NO, package depends on 'RTCGAToolbox' which is not available

Results for Bioconductor software packages that depend directly on package cBioPortalData

QUICK STATSOS / ArchINSTALLBUILDCHECKBUILD BIN
nebbiolo1Linux (Ubuntu 22.04.1 LTS) / x86_64
003
021
0001
palomino3Windows Server 2022 Datacenter / x64
003
012
0002
002
merida1macOS 10.14.6 Mojave / x86_64
003
012
0002
002
Package 1/3HostnameOS / ArchINSTALLBUILDCHECKBUILD BIN
cbaf 1.21.0  (landing page)
Arman Shahrisa
git_last_commit: 4a37007
git_last_commit_date: 2022-11-01 11:16:26 -0500
nebbiolo1Linux (Ubuntu 22.04.1 LTS) / x86_64  OK    OK    OK  UNNEEDED, same version is already published
palomino3Windows Server 2022 Datacenter / x64  OK    OK    OK    OK  NO, package depends on 'cBioPortalData' which is not available
merida1macOS 10.14.6 Mojave / x86_64  OK    OK    OK    OK  NO, package depends on 'cBioPortalData' which is not available
Package 2/3HostnameOS / ArchINSTALLBUILDCHECKBUILD BIN
LowMACA 1.29.0  (landing page)
Giorgio Melloni , Stefano de Pretis
git_last_commit: 8395102
git_last_commit_date: 2022-11-01 11:11:22 -0500
nebbiolo1Linux (Ubuntu 22.04.1 LTS) / x86_64  OK    ERROR  skipped
palomino3Windows Server 2022 Datacenter / x64  OK    OK    OK    OK  NO, package depends on 'cBioPortalData' which is not available
merida1macOS 10.14.6 Mojave / x86_64  OK    OK    OK    OK  NO, package depends on 'cBioPortalData' which is not available
Package 3/3HostnameOS / ArchINSTALLBUILDCHECKBUILD BIN
PrecisionTrialDrawer 1.15.0  (landing page)
Giorgio Melloni
git_last_commit: 116b0cf
git_last_commit_date: 2022-11-01 11:18:58 -0500
nebbiolo1Linux (Ubuntu 22.04.1 LTS) / x86_64  OK    ERROR  skipped
palomino3Windows Server 2022 Datacenter / x64  OK    ERROR  skippedskipped
merida1macOS 10.14.6 Mojave / x86_64  OK    ERROR  skippedskipped