Back to Multiple platform build/check report for BioC 3.20:   simplified   long
ABCDEFGHIJKL[M]NOPQRSTUVWXYZ

This page was generated on 2024-07-24 11:41 -0400 (Wed, 24 Jul 2024).

HostnameOSArch (*)R versionInstalled pkgs
nebbiolo2Linux (Ubuntu 22.04.3 LTS)x86_644.4.1 (2024-06-14) -- "Race for Your Life" 4688
palomino8Windows Server 2022 Datacenterx644.4.1 (2024-06-14 ucrt) -- "Race for Your Life" 4284
lconwaymacOS 12.7.1 Montereyx86_644.4.1 (2024-06-14) -- "Race for Your Life" 4455
kjohnson3macOS 13.6.5 Venturaarm644.4.1 (2024-06-14) -- "Race for Your Life" 4404
Click on any hostname to see more info about the system (e.g. compilers)      (*) as reported by 'uname -p', except on Windows and Mac OS X

Package 1235/2248HostnameOS / ArchINSTALLBUILDCHECKBUILD BIN
MicrobiomeProfiler 1.11.0  (landing page)
Meijun Chen
Snapshot Date: 2024-07-23 14:00 -0400 (Tue, 23 Jul 2024)
git_url: https://git.bioconductor.org/packages/MicrobiomeProfiler
git_branch: devel
git_last_commit: 0b41aed
git_last_commit_date: 2024-04-30 11:37:53 -0400 (Tue, 30 Apr 2024)
nebbiolo2Linux (Ubuntu 22.04.3 LTS) / x86_64  OK    OK    OK  UNNEEDED, same version is already published
palomino8Windows Server 2022 Datacenter / x64  OK    OK    OK    OK  UNNEEDED, same version is already published
lconwaymacOS 12.7.1 Monterey / x86_64  OK    OK    OK    OK  UNNEEDED, same version is already published
kjohnson3macOS 13.6.5 Ventura / arm64  OK    OK    OK    OK  UNNEEDED, same version is already published


CHECK results for MicrobiomeProfiler on lconway

To the developers/maintainers of the MicrobiomeProfiler package:
- Allow up to 24 hours (and sometimes 48 hours) for your latest push to git@git.bioconductor.org:packages/MicrobiomeProfiler.git to reflect on this report. See Troubleshooting Build Report for more information.
- Use the following Renviron settings to reproduce errors and warnings.
- If 'R CMD check' started to fail recently on the Linux builder(s) over a missing dependency, add the missing dependency to 'Suggests:' in your DESCRIPTION file. See Renviron.bioc for more information.

raw results


Summary

Package: MicrobiomeProfiler
Version: 1.11.0
Command: /Library/Frameworks/R.framework/Resources/bin/R CMD check --install=check:MicrobiomeProfiler.install-out.txt --library=/Library/Frameworks/R.framework/Resources/library --no-vignettes --timings MicrobiomeProfiler_1.11.0.tar.gz
StartedAt: 2024-07-23 22:32:30 -0400 (Tue, 23 Jul 2024)
EndedAt: 2024-07-23 22:36:00 -0400 (Tue, 23 Jul 2024)
EllapsedTime: 210.1 seconds
RetCode: 0
Status:   OK  
CheckDir: MicrobiomeProfiler.Rcheck
Warnings: 0

Command output

##############################################################################
##############################################################################
###
### Running command:
###
###   /Library/Frameworks/R.framework/Resources/bin/R CMD check --install=check:MicrobiomeProfiler.install-out.txt --library=/Library/Frameworks/R.framework/Resources/library --no-vignettes --timings MicrobiomeProfiler_1.11.0.tar.gz
###
##############################################################################
##############################################################################


* using log directory ‘/Users/biocbuild/bbs-3.20-bioc/meat/MicrobiomeProfiler.Rcheck’
* using R version 4.4.1 (2024-06-14)
* using platform: x86_64-apple-darwin20
* R was compiled by
    Apple clang version 14.0.0 (clang-1400.0.29.202)
    GNU Fortran (GCC) 12.2.0
* running under: macOS Monterey 12.7.1
* using session charset: UTF-8
* using option ‘--no-vignettes’
* checking for file ‘MicrobiomeProfiler/DESCRIPTION’ ... OK
* this is package ‘MicrobiomeProfiler’ version ‘1.11.0’
* package encoding: UTF-8
* checking package namespace information ... OK
* checking package dependencies ... OK
* checking if this is a source package ... OK
* checking if there is a namespace ... OK
* checking for hidden files and directories ... OK
* checking for portable file names ... OK
* checking for sufficient/correct file permissions ... OK
* checking whether package ‘MicrobiomeProfiler’ can be installed ... OK
* checking installed package size ... OK
* checking package directory ... OK
* checking ‘build’ directory ... OK
* checking DESCRIPTION meta-information ... OK
* checking top-level files ... OK
* checking for left-over files ... OK
* checking index information ... OK
* checking package subdirectories ... OK
* checking code files for non-ASCII characters ... OK
* checking R files for syntax errors ... OK
* checking whether the package can be loaded ... OK
* checking whether the package can be loaded with stated dependencies ... OK
* checking whether the package can be unloaded cleanly ... OK
* checking whether the namespace can be loaded with stated dependencies ... OK
* checking whether the namespace can be unloaded cleanly ... OK
* checking dependencies in R code ... OK
* checking S3 generic/method consistency ... OK
* checking replacement functions ... OK
* checking foreign function calls ... OK
* checking R code for possible problems ... OK
* checking Rd files ... OK
* checking Rd metadata ... OK
* checking Rd cross-references ... OK
* checking for missing documentation entries ... OK
* checking for code/documentation mismatches ... OK
* checking Rd \usage sections ... OK
* checking Rd contents ... OK
* checking for unstated dependencies in examples ... OK
* checking contents of ‘data’ directory ... OK
* checking data for non-ASCII characters ... OK
* checking data for ASCII and uncompressed saves ... OK
* checking R/sysdata.rda ... OK
* checking files in ‘vignettes’ ... OK
* checking examples ... OK
* checking for unstated dependencies in ‘tests’ ... OK
* checking tests ...
  Running ‘testthat.R’
 OK
* checking for unstated dependencies in vignettes ... OK
* checking package vignettes ... OK
* checking running R code from vignettes ... SKIPPED
* checking re-building of vignette outputs ... SKIPPED
* checking PDF version of manual ... OK
* DONE

Status: OK


Installation output

MicrobiomeProfiler.Rcheck/00install.out

##############################################################################
##############################################################################
###
### Running command:
###
###   /Library/Frameworks/R.framework/Resources/bin/R CMD INSTALL MicrobiomeProfiler
###
##############################################################################
##############################################################################


* installing to library ‘/Library/Frameworks/R.framework/Versions/4.4-x86_64/Resources/library’
* installing *source* package ‘MicrobiomeProfiler’ ...
** using staged installation
** R
** data
** inst
** byte-compile and prepare package for lazy loading
** help
*** installing help indices
** building package indices
** installing vignettes
** testing if installed package can be loaded from temporary location
** testing if installed package can be loaded from final location
** testing if installed package keeps a record of temporary installation path
* DONE (MicrobiomeProfiler)

Tests output

MicrobiomeProfiler.Rcheck/tests/testthat.Rout


R version 4.4.1 (2024-06-14) -- "Race for Your Life"
Copyright (C) 2024 The R Foundation for Statistical Computing
Platform: x86_64-apple-darwin20

R is free software and comes with ABSOLUTELY NO WARRANTY.
You are welcome to redistribute it under certain conditions.
Type 'license()' or 'licence()' for distribution details.

R is a collaborative project with many contributors.
Type 'contributors()' for more information and
'citation()' on how to cite R or R packages in publications.

Type 'demo()' for some demos, 'help()' for on-line help, or
'help.start()' for an HTML browser interface to help.
Type 'q()' to quit R.

> library(testthat)
> library(MicrobiomeProfiler)

> test_check("MicrobiomeProfiler")
--> No gene can be mapped....
--> Expected input gene ID: 2.7.1.199,1.1.1.43,2.7.1.147,1.2.1.90,2.3.3.3,2.7.1.63
--> return NULL...
--> No gene can be mapped....
--> Expected input gene ID: COG0092,COG0030,COG0074,COG0038,COG0008,COG0073
--> return NULL...
--> No gene can be mapped....
--> Expected input gene ID: 562,46506,239759,28050,216851,239935
--> return NULL...
--> No gene can be mapped....
--> Expected input gene ID: PW_C000105,PW_C000837,PW_C001783,PW_C000463,PW_C001858,PW_C000448
--> return NULL...
--> No gene can be mapped....
--> Expected input gene ID: C00026,C05381,C06473,C00068,C01801,C15973
--> return NULL...
--> No gene can be mapped....
--> Expected input gene ID: HMDB0000641,HMDB0001377,HMDB0000536,HMDB0001487,HMDB0001096,HMDB0001179
--> return NULL...
[ FAIL 0 | WARN 0 | SKIP 0 | PASS 12 ]
> 
> 
> proc.time()
   user  system elapsed 
 10.685   0.872  11.643 

Example timings

MicrobiomeProfiler.Rcheck/MicrobiomeProfiler-Ex.timings

nameusersystemelapsed
Psoriasis_data0.0020.0020.004
Rat_data0.0010.0010.002
enrichCOG0.0840.0080.091
enrichHMDB0.0490.0050.054
enrichKO0.5300.0990.649
enrichMBKEGG0.1300.0160.148
enrichMDA0.1960.0410.241
enrichModule0.0660.0080.076
enrichSMPDB0.1500.0190.177
microbiota_taxlist0.0010.0010.001
run_MicrobiomeProfiler0.0000.0000.001