Back to Multiple platform build/check report for BioC 3.16
ABCDEFGHIJKLMNOPQRSTUVW[X]YZ

This page was generated on 2022-05-24 11:04:32 -0400 (Tue, 24 May 2022).

HostnameOSArch (*)R versionInstalled pkgs
nebbiolo2Linux (Ubuntu 20.04.4 LTS)x86_644.2.0 RC (2022-04-21 r82226) -- "Vigorous Calisthenics" 4357
palomino4Windows Server 2022 Datacenterx644.2.0 Patched (2022-04-24 r82246 ucrt) -- "Vigorous Calisthenics" 4129
lconwaymacOS 12.2.1 Montereyx86_644.2.0 Patched (2022-04-24 r82246) -- "Vigorous Calisthenics" 4173
Click on any hostname to see more info about the system (e.g. compilers)      (*) as reported by 'uname -p', except on Windows and Mac OS X

All results for package xcms


To the developers/maintainers of the xcms package:
- Please allow up to 24 hours (and sometimes 48 hours) for your latest push to git@git.bioconductor.org:packages/xcms.git to
reflect on this report. See How and When does the builder pull? When will my changes propagate? for more information.
- Make sure to use the following settings in order to reproduce any error or warning you see on this page.

raw results

Package 2098/2112HostnameOS / ArchINSTALLBUILDCHECKBUILD BIN
xcms 3.19.0  (landing page)
Steffen Neumann
Snapshot Date: 2022-05-23 13:55:05 -0400 (Mon, 23 May 2022)
git_url: https://git.bioconductor.org/packages/xcms
git_branch: master
git_last_commit: 71df9e1
git_last_commit_date: 2022-04-26 10:56:56 -0400 (Tue, 26 Apr 2022)
nebbiolo2Linux (Ubuntu 20.04.4 LTS) / x86_64  OK    OK    OK  UNNEEDED, same version is already published
palomino4Windows Server 2022 Datacenter / x64  OK    OK    OK    OK  UNNEEDED, same version is already published
lconwaymacOS 12.2.1 Monterey / x86_64  OK    OK    OK    NA  

Results for Bioconductor software packages that depend directly on package xcms

QUICK STATSOS / ArchINSTALLBUILDCHECKBUILD BIN
nebbiolo2Linux (Ubuntu 20.04.4 LTS) / x86_64
0013
0013
0139
palomino4Windows Server 2022 Datacenter / x64
0013
0013
0139
0013
lconwaymacOS 12.2.1 Monterey / x86_64
0013
0013
0139
0013
Package 1/13HostnameOS / ArchINSTALLBUILDCHECKBUILD BIN
CAMERA 1.53.0  (landing page)
Steffen Neumann
git_last_commit: ac16892
git_last_commit_date: 2022-04-26 11:02:39 -0400
nebbiolo2Linux (Ubuntu 20.04.4 LTS) / x86_64  OK    OK    OK  UNNEEDED, same version is already published
palomino4Windows Server 2022 Datacenter / x64  OK    OK    OK    OK  UNNEEDED, same version is already published
lconwaymacOS 12.2.1 Monterey / x86_64  OK    OK    OK    OK  UNNEEDED, same version is already published
Package 2/13HostnameOS / ArchINSTALLBUILDCHECKBUILD BIN
cliqueMS 1.11.0  (landing page)
Oriol Senan Campos
git_last_commit: 1c6f192
git_last_commit_date: 2022-04-26 12:01:15 -0400
nebbiolo2Linux (Ubuntu 20.04.4 LTS) / x86_64  OK    OK    OK  UNNEEDED, same version is already published
palomino4Windows Server 2022 Datacenter / x64  OK    OK    OK    OK  UNNEEDED, same version is already published
lconwaymacOS 12.2.1 Monterey / x86_64  OK    OK    OK    OK  UNNEEDED, same version is already published
Package 3/13HostnameOS / ArchINSTALLBUILDCHECKBUILD BIN
cosmiq 1.31.0  (landing page)
David Fischer
git_last_commit: bbedede
git_last_commit_date: 2022-04-26 11:20:00 -0400
nebbiolo2Linux (Ubuntu 20.04.4 LTS) / x86_64  OK    OK    OK  UNNEEDED, same version is already published
palomino4Windows Server 2022 Datacenter / x64  OK    OK    OK    OK  UNNEEDED, same version is already published
lconwaymacOS 12.2.1 Monterey / x86_64  OK    OK    OK    OK  UNNEEDED, same version is already published
Package 4/13HostnameOS / ArchINSTALLBUILDCHECKBUILD BIN
flagme 1.53.0  (landing page)
Mark Robinson , Riccardo Romoli
git_last_commit: e51924d
git_last_commit_date: 2022-04-26 11:02:21 -0400
nebbiolo2Linux (Ubuntu 20.04.4 LTS) / x86_64  OK    OK    WARNINGS  UNNEEDED, same version is already published
palomino4Windows Server 2022 Datacenter / x64  OK    OK    WARNINGS    OK  UNNEEDED, same version is already published
lconwaymacOS 12.2.1 Monterey / x86_64  OK    OK    WARNINGS    OK  UNNEEDED, same version is already published
Package 5/13HostnameOS / ArchINSTALLBUILDCHECKBUILD BIN
IPO 1.23.1  (landing page)
Thomas Riebenbauer
git_last_commit: 6f388c6
git_last_commit_date: 2022-05-10 11:52:03 -0400
nebbiolo2Linux (Ubuntu 20.04.4 LTS) / x86_64  OK    OK    ERROR  
palomino4Windows Server 2022 Datacenter / x64  OK    OK    ERROR    OK  
lconwaymacOS 12.2.1 Monterey / x86_64  OK    OK    ERROR    OK  
Package 6/13HostnameOS / ArchINSTALLBUILDCHECKBUILD BIN
LOBSTAHS 1.23.0  (landing page)
Henry Holm
git_last_commit: d67c139
git_last_commit_date: 2022-04-26 11:33:33 -0400
nebbiolo2Linux (Ubuntu 20.04.4 LTS) / x86_64  OK    OK    WARNINGS  UNNEEDED, same version is already published
palomino4Windows Server 2022 Datacenter / x64  OK    OK    WARNINGS    OK  UNNEEDED, same version is already published
lconwaymacOS 12.2.1 Monterey / x86_64  OK    OK    WARNINGS    OK  UNNEEDED, same version is already published
Package 7/13HostnameOS / ArchINSTALLBUILDCHECKBUILD BIN
MAIT 1.31.0  (landing page)
Pol Sola-Santos
git_last_commit: 4cfc7db
git_last_commit_date: 2022-04-26 11:22:13 -0400
nebbiolo2Linux (Ubuntu 20.04.4 LTS) / x86_64  OK    OK    OK  UNNEEDED, same version is already published
palomino4Windows Server 2022 Datacenter / x64  OK    OK    OK    OK  UNNEEDED, same version is already published
lconwaymacOS 12.2.1 Monterey / x86_64  OK    OK    OK    OK  UNNEEDED, same version is already published
Package 8/13HostnameOS / ArchINSTALLBUILDCHECKBUILD BIN
Metab 1.31.0  (landing page)
Raphael Aggio
git_last_commit: c78af8a
git_last_commit_date: 2022-04-26 11:22:57 -0400
nebbiolo2Linux (Ubuntu 20.04.4 LTS) / x86_64  OK    OK    OK  UNNEEDED, same version is already published
palomino4Windows Server 2022 Datacenter / x64  OK    OK    OK    OK  UNNEEDED, same version is already published
lconwaymacOS 12.2.1 Monterey / x86_64  OK    OK    OK    OK  UNNEEDED, same version is already published
Package 9/13HostnameOS / ArchINSTALLBUILDCHECKBUILD BIN
metaMS 1.33.0  (landing page)
Yann Guitton
git_last_commit: d29b1d6
git_last_commit_date: 2022-04-26 11:19:16 -0400
nebbiolo2Linux (Ubuntu 20.04.4 LTS) / x86_64  OK    OK    OK  UNNEEDED, same version is already published
palomino4Windows Server 2022 Datacenter / x64  OK    OK    OK    OK  UNNEEDED, same version is already published
lconwaymacOS 12.2.1 Monterey / x86_64  OK    OK    OK    OK  UNNEEDED, same version is already published
Package 10/13HostnameOS / ArchINSTALLBUILDCHECKBUILD BIN
MobilityTransformR 1.1.0  (landing page)
Liesa Salzer
git_last_commit: 9749d65
git_last_commit_date: 2022-04-26 12:21:33 -0400
nebbiolo2Linux (Ubuntu 20.04.4 LTS) / x86_64  OK    OK    OK  UNNEEDED, same version is already published
palomino4Windows Server 2022 Datacenter / x64  OK    OK    OK    OK  UNNEEDED, same version is already published
lconwaymacOS 12.2.1 Monterey / x86_64  OK    OK    OK    OK  UNNEEDED, same version is already published
Package 11/13HostnameOS / ArchINSTALLBUILDCHECKBUILD BIN
ncGTW 1.11.0  (landing page)
Chiung-Ting Wu
git_last_commit: 93695fc
git_last_commit_date: 2022-04-26 11:57:46 -0400
nebbiolo2Linux (Ubuntu 20.04.4 LTS) / x86_64  OK    OK    OK  UNNEEDED, same version is already published
palomino4Windows Server 2022 Datacenter / x64  OK    OK    OK    OK  UNNEEDED, same version is already published
lconwaymacOS 12.2.1 Monterey / x86_64  OK    OK    OK    OK  UNNEEDED, same version is already published
Package 12/13HostnameOS / ArchINSTALLBUILDCHECKBUILD BIN
proFIA 1.23.0  (landing page)
Alexis Delabriere
git_last_commit: c897664
git_last_commit_date: 2022-04-26 11:37:19 -0400
nebbiolo2Linux (Ubuntu 20.04.4 LTS) / x86_64  OK    OK    WARNINGS  UNNEEDED, same version is already published
palomino4Windows Server 2022 Datacenter / x64  OK    OK    WARNINGS    OK  UNNEEDED, same version is already published
lconwaymacOS 12.2.1 Monterey / x86_64  OK    OK    WARNINGS    OK  UNNEEDED, same version is already published
Package 13/13HostnameOS / ArchINSTALLBUILDCHECKBUILD BIN
Risa 1.39.0  (landing page)
Alejandra Gonzalez-Beltran
git_last_commit: e897873
git_last_commit_date: 2022-04-26 11:12:03 -0400
nebbiolo2Linux (Ubuntu 20.04.4 LTS) / x86_64  OK    OK    OK  UNNEEDED, same version is already published
palomino4Windows Server 2022 Datacenter / x64  OK    OK    OK    OK  UNNEEDED, same version is already published
lconwaymacOS 12.2.1 Monterey / x86_64  OK    OK    OK    OK  UNNEEDED, same version is already published