Back to Multiple platform build/check report for BioC 3.16
ABCDEFGHIJKLMNOPQ[R]STUVWXYZ

This page was generated on 2022-06-24 11:08:26 -0400 (Fri, 24 Jun 2022).

HostnameOSArch (*)R versionInstalled pkgs
nebbiolo2Linux (Ubuntu 20.04.4 LTS)x86_644.2.0 Patched (2022-06-02 r82447) -- "Vigorous Calisthenics" 4331
palomino4Windows Server 2022 Datacenterx644.2.0 Patched (2022-06-02 r82447 ucrt) -- "Vigorous Calisthenics" 4136
lconwaymacOS 12.2.1 Montereyx86_644.2.0 Patched (2022-05-29 r82424) -- "Vigorous Calisthenics" 4147
Click on any hostname to see more info about the system (e.g. compilers)      (*) as reported by 'uname -p', except on Windows and Mac OS X

BUILD BIN results for R453Plus1Toolbox on lconway


To the developers/maintainers of the R453Plus1Toolbox package:
- Please allow up to 24 hours (and sometimes 48 hours) for your latest push to git@git.bioconductor.org:packages/R453Plus1Toolbox.git to
reflect on this report. See How and When does the builder pull? When will my changes propagate? for more information.
- Make sure to use the following settings in order to reproduce any error or warning you see on this page.

raw results

Package 1539/2118HostnameOS / ArchINSTALLBUILDCHECKBUILD BIN
R453Plus1Toolbox 1.47.0  (landing page)
Hans-Ulrich Klein
Snapshot Date: 2022-06-23 14:00:04 -0400 (Thu, 23 Jun 2022)
git_url: https://git.bioconductor.org/packages/R453Plus1Toolbox
git_branch: master
git_last_commit: 79327f0
git_last_commit_date: 2022-04-26 11:06:14 -0400 (Tue, 26 Apr 2022)
nebbiolo2Linux (Ubuntu 20.04.4 LTS) / x86_64  OK    OK    OK  UNNEEDED, same version is already published
palomino4Windows Server 2022 Datacenter / x64  OK    OK    OK    OK  UNNEEDED, same version is already published
lconwaymacOS 12.2.1 Monterey / x86_64  OK    OK    OK    OK  UNNEEDED, same version is already published

Summary

Package: R453Plus1Toolbox
Version: 1.47.0
Command: rm -rf R453Plus1Toolbox.buildbin-libdir && mkdir R453Plus1Toolbox.buildbin-libdir && /Users/biocbuild/BBS/utils/build-universal.sh R453Plus1Toolbox_1.47.0.tar.gz /Library/Frameworks/R.framework/Resources/bin/R R453Plus1Toolbox.buildbin-libdir
StartedAt: 2022-06-23 23:51:51 -0400 (Thu, 23 Jun 2022)
EndedAt: 2022-06-23 23:53:19 -0400 (Thu, 23 Jun 2022)
EllapsedTime: 87.4 seconds
RetCode: 0
Status:   OK  
PackageFile: R453Plus1Toolbox_1.47.0.tgz
PackageFileSize: 2.356 MiB

Command output

##############################################################################
##############################################################################
###
### Running command:
###
###   rm -rf R453Plus1Toolbox.buildbin-libdir && mkdir R453Plus1Toolbox.buildbin-libdir && /Users/biocbuild/BBS/utils/build-universal.sh R453Plus1Toolbox_1.47.0.tar.gz /Library/Frameworks/R.framework/Resources/bin/R R453Plus1Toolbox.buildbin-libdir
###
##############################################################################
##############################################################################


>>>>>>> 
>>>>>>> INSTALLATION WITH 'R CMD INSTALL --preclean --no-multiarch --library=R453Plus1Toolbox.buildbin-libdir R453Plus1Toolbox_1.47.0.tar.gz'
>>>>>>> 

* installing *source* package ‘R453Plus1Toolbox’ ...
** using staged installation
** libs
clang -mmacosx-version-min=10.13 -I"/Library/Frameworks/R.framework/Resources/include" -DNDEBUG   -I/usr/local/include   -fPIC  -Wall -g -O2  -c readSFF.c -o readSFF.o
readSFF.c:27:7: warning: variable 'block_count' set but not used [-Wunused-but-set-variable]
  int block_count;
      ^
1 warning generated.
clang -mmacosx-version-min=10.13 -I"/Library/Frameworks/R.framework/Resources/include" -DNDEBUG   -I/usr/local/include   -fPIC  -Wall -g -O2  -c writeSFF.c -o writeSFF.o
clang -mmacosx-version-min=10.13 -dynamiclib -Wl,-headerpad_max_install_names -undefined dynamic_lookup -single_module -multiply_defined suppress -L/Library/Frameworks/R.framework/Resources/lib -L/usr/local/lib -o R453Plus1Toolbox.so readSFF.o writeSFF.o -F/Library/Frameworks/R.framework/.. -framework R -Wl,-framework -Wl,CoreFoundation
installing to /Users/biocbuild/bbs-3.16-bioc/meat/R453Plus1Toolbox.buildbin-libdir/00LOCK-R453Plus1Toolbox/00new/R453Plus1Toolbox/libs
** R
** data
** inst
** byte-compile and prepare package for lazy loading
** help
*** installing help indices
** building package indices
** installing vignettes
** testing if installed package can be loaded from temporary location
** checking absolute paths in shared objects and dynamic libraries
** testing if installed package can be loaded from final location
** testing if installed package keeps a record of temporary installation path
* DONE (R453Plus1Toolbox)


>>>>>>> 
>>>>>>> FIXING LINKS FOR R453Plus1Toolbox.buildbin-libdir/R453Plus1Toolbox/libs/R453Plus1Toolbox.so
>>>>>>> 

install_name_tool -change "/usr/local/lib/libgcc_s.1.dylib" "/Library/Frameworks/R.framework/Versions/4.2/Resources/lib/libgcc_s.1.dylib" "R453Plus1Toolbox.buildbin-libdir/R453Plus1Toolbox/libs/R453Plus1Toolbox.so"
install_name_tool -change "/usr/local/lib/libgfortran.5.dylib" "/Library/Frameworks/R.framework/Versions/4.2/Resources/lib/libgfortran.5.dylib" "R453Plus1Toolbox.buildbin-libdir/R453Plus1Toolbox/libs/R453Plus1Toolbox.so"
install_name_tool -change "/usr/local/lib/libquadmath.0.dylib" "/Library/Frameworks/R.framework/Versions/4.2/Resources/lib/libquadmath.0.dylib" "R453Plus1Toolbox.buildbin-libdir/R453Plus1Toolbox/libs/R453Plus1Toolbox.so"