Back to Multiple platform build/check report for BioC 3.14
ABCD[E]FGHIJKLMNOPQRSTUVWXYZ

This page was generated on 2021-10-18 12:03:41 -0400 (Mon, 18 Oct 2021).

BUILD results for EnrichmentBrowser on nebbiolo2

To the developers/maintainers of the EnrichmentBrowser package:
- Please allow up to 24 hours (and sometimes 48 hours) for your latest push to git@git.bioconductor.org:packages/EnrichmentBrowser.git to
reflect on this report. See How and When does the builder pull? When will my changes propagate? here for more information.
- Make sure to use the following settings in order to reproduce any error or warning you see on this page.

raw results

Package 572/2060HostnameOS / ArchINSTALLBUILDCHECKBUILD BIN
EnrichmentBrowser 2.23.4  (landing page)
Ludwig Geistlinger
Snapshot Date: 2021-10-17 14:50:03 -0400 (Sun, 17 Oct 2021)
git_url: https://git.bioconductor.org/packages/EnrichmentBrowser
git_branch: master
git_last_commit: b60c892
git_last_commit_date: 2021-07-21 08:55:09 -0400 (Wed, 21 Jul 2021)
nebbiolo2Linux (Ubuntu 20.04.2 LTS) / x86_64  OK    OK    OK  UNNEEDED, same version is already published
riesling1Windows Server 2019 Standard / x64  OK    OK    OK    OK  UNNEEDED, same version is already published
merida1macOS 10.14.6 Mojave / x86_64  OK    OK    OK    OK  UNNEEDED, same version is already published

Summary

Package: EnrichmentBrowser
Version: 2.23.4
Command: /home/biocbuild/bbs-3.14-bioc/R/bin/R CMD build --keep-empty-dirs --no-resave-data EnrichmentBrowser
StartedAt: 2021-10-17 17:14:22 -0400 (Sun, 17 Oct 2021)
EndedAt: 2021-10-17 17:16:14 -0400 (Sun, 17 Oct 2021)
EllapsedTime: 112.3 seconds
RetCode: 0
Status:   OK  
PackageFile: EnrichmentBrowser_2.23.4.tar.gz
PackageFileSize: 1.912 MiB

Command output

##############################################################################
##############################################################################
###
### Running command:
###
###   /home/biocbuild/bbs-3.14-bioc/R/bin/R CMD build --keep-empty-dirs --no-resave-data EnrichmentBrowser
###
##############################################################################
##############################################################################


* checking for file ‘EnrichmentBrowser/DESCRIPTION’ ... OK
* preparing ‘EnrichmentBrowser’:
* checking DESCRIPTION meta-information ... OK
* installing the package to build vignettes
* creating vignettes ... OK
* checking for LF line-endings in source and make files and shell scripts
* checking for empty or unneeded directories
* building ‘EnrichmentBrowser_2.23.4.tar.gz’