Back to Build/check report for BioC 3.15
ABCDEFG[H]IJKLMNOPQRSTUVWXYZ

This page was generated on 2021-12-03 12:48:40 -0500 (Fri, 03 Dec 2021).

All results for package HiCDCPlus

To the developers/maintainers of the HiCDCPlus package:
- Please allow up to 24 hours (and sometimes 48 hours) for your latest push to git@git.bioconductor.org:packages/HiCDCPlus.git to
reflect on this report. See How and When does the builder pull? When will my changes propagate? here for more information.
- Make sure to use the following settings in order to reproduce any error or warning you see on this page.

raw results

Package 861/2068HostnameOS / ArchINSTALLBUILDCHECKBUILD BIN
HiCDCPlus 1.3.0  (landing page)
Merve Sahin
Snapshot Date: 2021-12-02 13:55:08 -0500 (Thu, 02 Dec 2021)
git_url: https://git.bioconductor.org/packages/HiCDCPlus
git_branch: master
git_last_commit: f20a848
git_last_commit_date: 2021-10-26 13:07:04 -0500 (Tue, 26 Oct 2021)
nebbiolo1Linux (Ubuntu 20.04.3 LTS) / x86_64  OK    OK    OK  UNNEEDED, same version is already published