Back to Build/check report for BioC 3.15
AB[C]DEFGHIJKLMNOPQRSTUVWXYZ

This page was generated on 2021-12-03 12:48:38 -0500 (Fri, 03 Dec 2021).

All results for package COCOA

To the developers/maintainers of the COCOA package:
- Please allow up to 24 hours (and sometimes 48 hours) for your latest push to git@git.bioconductor.org:packages/COCOA.git to
reflect on this report. See How and When does the builder pull? When will my changes propagate? here for more information.
- Make sure to use the following settings in order to reproduce any error or warning you see on this page.

raw results

Package 361/2068HostnameOS / ArchINSTALLBUILDCHECKBUILD BIN
COCOA 2.9.1  (landing page)
John Lawson
Snapshot Date: 2021-12-02 13:55:08 -0500 (Thu, 02 Dec 2021)
git_url: https://git.bioconductor.org/packages/COCOA
git_branch: master
git_last_commit: 8d1d3ca
git_last_commit_date: 2021-11-19 00:54:37 -0500 (Fri, 19 Nov 2021)
nebbiolo1Linux (Ubuntu 20.04.3 LTS) / x86_64  OK    OK    OK  UNNEEDED, same version is already published