Back to Multiple platform build/check report for BioC 3.16
ABCDEFGHIJKL[M]NOPQRSTUVWXYZ

This page was generated on 2022-06-24 11:08:14 -0400 (Fri, 24 Jun 2022).

HostnameOSArch (*)R versionInstalled pkgs
nebbiolo2Linux (Ubuntu 20.04.4 LTS)x86_644.2.0 Patched (2022-06-02 r82447) -- "Vigorous Calisthenics" 4331
palomino4Windows Server 2022 Datacenterx644.2.0 Patched (2022-06-02 r82447 ucrt) -- "Vigorous Calisthenics" 4136
lconwaymacOS 12.2.1 Montereyx86_644.2.0 Patched (2022-05-29 r82424) -- "Vigorous Calisthenics" 4147
Click on any hostname to see more info about the system (e.g. compilers)      (*) as reported by 'uname -p', except on Windows and Mac OS X

BUILD BIN results for MsFeatures on lconway


To the developers/maintainers of the MsFeatures package:
- Please allow up to 24 hours (and sometimes 48 hours) for your latest push to git@git.bioconductor.org:packages/MsFeatures.git to
reflect on this report. See How and When does the builder pull? When will my changes propagate? for more information.
- Make sure to use the following settings in order to reproduce any error or warning you see on this page.

raw results

Package 1237/2118HostnameOS / ArchINSTALLBUILDCHECKBUILD BIN
MsFeatures 1.5.0  (landing page)
Johannes Rainer
Snapshot Date: 2022-06-23 14:00:04 -0400 (Thu, 23 Jun 2022)
git_url: https://git.bioconductor.org/packages/MsFeatures
git_branch: master
git_last_commit: 2c1c1ef
git_last_commit_date: 2022-04-26 12:12:35 -0400 (Tue, 26 Apr 2022)
nebbiolo2Linux (Ubuntu 20.04.4 LTS) / x86_64  OK    OK    OK  UNNEEDED, same version is already published
palomino4Windows Server 2022 Datacenter / x64  OK    OK    OK    OK  UNNEEDED, same version is already published
lconwaymacOS 12.2.1 Monterey / x86_64  OK    OK    OK    OK  UNNEEDED, same version is already published

Summary

Package: MsFeatures
Version: 1.5.0
Command: rm -rf MsFeatures.buildbin-libdir && mkdir MsFeatures.buildbin-libdir && /Users/biocbuild/BBS/utils/build-universal.sh MsFeatures_1.5.0.tar.gz /Library/Frameworks/R.framework/Resources/bin/R MsFeatures.buildbin-libdir
StartedAt: 2022-06-23 23:46:52 -0400 (Thu, 23 Jun 2022)
EndedAt: 2022-06-23 23:47:15 -0400 (Thu, 23 Jun 2022)
EllapsedTime: 23.5 seconds
RetCode: 0
Status:   OK  
PackageFile: MsFeatures_1.5.0.tgz
PackageFileSize: 1.101 MiB

Command output

##############################################################################
##############################################################################
###
### Running command:
###
###   rm -rf MsFeatures.buildbin-libdir && mkdir MsFeatures.buildbin-libdir && /Users/biocbuild/BBS/utils/build-universal.sh MsFeatures_1.5.0.tar.gz /Library/Frameworks/R.framework/Resources/bin/R MsFeatures.buildbin-libdir
###
##############################################################################
##############################################################################


>>>>>>> 
>>>>>>> INSTALLATION WITH 'R CMD INSTALL --preclean --no-multiarch --library=MsFeatures.buildbin-libdir MsFeatures_1.5.0.tar.gz'
>>>>>>> 

* installing *source* package ‘MsFeatures’ ...
** using staged installation
** R
** data
** inst
** byte-compile and prepare package for lazy loading
** help
*** installing help indices
** building package indices
** installing vignettes
** testing if installed package can be loaded from temporary location
** testing if installed package can be loaded from final location
** testing if installed package keeps a record of temporary installation path
* DONE (MsFeatures)