Back to Multiple platform build/check report for BioC 3.18:   simplified   long
ABCDEF[G]HIJKLMNOPQRSTUVWXYZ

This page was generated on 2023-06-08 13:02:30 -0400 (Thu, 08 Jun 2023).

HostnameOSArch (*)R versionInstalled pkgs
nebbiolo2Linux (Ubuntu 22.04.2 LTS)x86_644.3.0 RC (2023-04-18 r84287) -- "Already Tomorrow" 4598
palomino4Windows Server 2022 Datacenterx644.3.0 RC (2023-04-18 r84287 ucrt) -- "Already Tomorrow" 4347
lconwaymacOS 12.6.5 Montereyx86_644.3.0 RC (2023-04-13 r84266) -- "Already Tomorrow" 4354
kunpeng2Linux (openEuler 22.03 LTS-SP1)aarch644.3.0 (2023-04-21) -- "Already Tomorrow" 4379
Click on any hostname to see more info about the system (e.g. compilers)      (*) as reported by 'uname -p', except on Windows and Mac OS X

All results for package ggtreeExtra


The builds on kunpeng2 (Linux ARM64) are experimental!
To the developers/maintainers of the ggtreeExtra package:
- Allow up to 24 hours (and sometimes 48 hours) for your latest push to git@git.bioconductor.org:packages/ggtreeExtra.git to reflect on this report. See Troubleshooting Build Report for more information.
- Use the following Renviron settings to reproduce errors and warnings.
- If 'R CMD check' started to fail recently on the Linux builder(s) over a missing dependency, add the missing dependency to 'Suggests:' in your DESCRIPTION file. See Renviron.bioc for more information.

raw results

Package 828/2199HostnameOS / ArchINSTALLBUILDCHECKBUILD BIN
ggtreeExtra 1.11.0  (landing page)
Shuangbin Xu
Snapshot Date: 2023-06-07 14:00:08 -0400 (Wed, 07 Jun 2023)
git_url: https://git.bioconductor.org/packages/ggtreeExtra
git_branch: devel
git_last_commit: 9a0a23c
git_last_commit_date: 2023-04-25 11:21:23 -0400 (Tue, 25 Apr 2023)
nebbiolo2Linux (Ubuntu 22.04.2 LTS) / x86_64  OK    OK    OK  UNNEEDED, same version is already published
palomino4Windows Server 2022 Datacenter / x64  OK    OK    OK    OK  UNNEEDED, same version is already published
lconwaymacOS 12.6.5 Monterey / x86_64  OK    OK    OK    OK  UNNEEDED, same version is already published
kunpeng2Linux (openEuler 22.03 LTS-SP1) / aarch64  OK    OK    OK  

Results for Bioconductor software packages that depend directly on package ggtreeExtra

QUICK STATSOS / ArchINSTALLBUILDCHECKBUILD BIN
nebbiolo2Linux (Ubuntu 22.04.2 LTS) / x86_64
001
001
0100
palomino4Windows Server 2022 Datacenter / x64
001
001
0100
001
lconwaymacOS 12.6.5 Monterey / x86_64
001
001
0100
001
kunpeng2Linux (openEuler 22.03 LTS-SP1) / aarch64
001
001
0100
Package 1/1HostnameOS / ArchINSTALLBUILDCHECKBUILD BIN
MicrobiotaProcess 1.13.1  (landing page)
Shuangbin Xu
git_last_commit: dc7add5
git_last_commit_date: 2023-05-03 22:02:50 -0400
nebbiolo2Linux (Ubuntu 22.04.2 LTS) / x86_64  OK    OK    ERROR  
palomino4Windows Server 2022 Datacenter / x64  OK    OK    ERROR    OK  
lconwaymacOS 12.6.5 Monterey / x86_64  OK    OK    ERROR    OK  
kunpeng2Linux (openEuler 22.03 LTS-SP1) / aarch64  OK    OK    ERROR