Back to Multiple platform build/check report for BioC 3.20:   simplified   long
ABCDEFGHIJKLMNOPQR[S]TUVWXYZ

This page was generated on 2024-06-21 13:21 -0400 (Fri, 21 Jun 2024).

HostnameOSArch (*)R versionInstalled pkgs
nebbiolo2Linux (Ubuntu 22.04.3 LTS)x86_644.4.0 RC (2024-04-16 r86468) -- "Puppy Cup" 4690
lconwaymacOS 12.7.1 Montereyx86_644.4.1 RC (2024-06-06 r86719) -- "Race for Your Life" 4404
kjohnson3macOS 13.6.5 Venturaarm644.4.1 RC (2024-06-06 r86719) -- "Race for Your Life" 4353
Click on any hostname to see more info about the system (e.g. compilers)      (*) as reported by 'uname -p', except on Windows and Mac OS X

Package 1820/2242HostnameOS / ArchINSTALLBUILDCHECKBUILD BIN
SCANVIS 1.19.0  (landing page)
Phaedra Agius
Snapshot Date: 2024-06-20 14:00 -0400 (Thu, 20 Jun 2024)
git_url: https://git.bioconductor.org/packages/SCANVIS
git_branch: devel
git_last_commit: f8a646f
git_last_commit_date: 2024-04-30 11:15:58 -0400 (Tue, 30 Apr 2024)
nebbiolo2Linux (Ubuntu 22.04.3 LTS) / x86_64  OK    OK    OK  UNNEEDED, same version is already published
lconwaymacOS 12.7.1 Monterey / x86_64  OK    OK    OK    OK  UNNEEDED, same version is already published
kjohnson3macOS 13.6.5 Ventura / arm64  OK    OK    OK    OK  UNNEEDED, same version is already published


CHECK results for SCANVIS on nebbiolo2

To the developers/maintainers of the SCANVIS package:
- Allow up to 24 hours (and sometimes 48 hours) for your latest push to git@git.bioconductor.org:packages/SCANVIS.git to reflect on this report. See Troubleshooting Build Report for more information.
- Use the following Renviron settings to reproduce errors and warnings.
- If 'R CMD check' started to fail recently on the Linux builder(s) over a missing dependency, add the missing dependency to 'Suggests:' in your DESCRIPTION file. See Renviron.bioc for more information.

raw results


Summary

Package: SCANVIS
Version: 1.19.0
Command: /home/biocbuild/bbs-3.20-bioc/R/bin/R CMD check --install=check:SCANVIS.install-out.txt --library=/home/biocbuild/bbs-3.20-bioc/R/site-library --timings SCANVIS_1.19.0.tar.gz
StartedAt: 2024-06-21 03:17:39 -0400 (Fri, 21 Jun 2024)
EndedAt: 2024-06-21 03:21:34 -0400 (Fri, 21 Jun 2024)
EllapsedTime: 234.8 seconds
RetCode: 0
Status:   OK  
CheckDir: SCANVIS.Rcheck
Warnings: 0

Command output

##############################################################################
##############################################################################
###
### Running command:
###
###   /home/biocbuild/bbs-3.20-bioc/R/bin/R CMD check --install=check:SCANVIS.install-out.txt --library=/home/biocbuild/bbs-3.20-bioc/R/site-library --timings SCANVIS_1.19.0.tar.gz
###
##############################################################################
##############################################################################


* using log directory ‘/home/biocbuild/bbs-3.20-bioc/meat/SCANVIS.Rcheck’
* using R version 4.4.0 RC (2024-04-16 r86468)
* using platform: x86_64-pc-linux-gnu
* R was compiled by
    gcc (Ubuntu 11.4.0-1ubuntu1~22.04) 11.4.0
    GNU Fortran (Ubuntu 11.4.0-1ubuntu1~22.04) 11.4.0
* running under: Ubuntu 22.04.4 LTS
* using session charset: UTF-8
* checking for file ‘SCANVIS/DESCRIPTION’ ... OK
* checking extension type ... Package
* this is package ‘SCANVIS’ version ‘1.19.0’
* checking package namespace information ... OK
* checking package dependencies ... OK
* checking if this is a source package ... OK
* checking if there is a namespace ... OK
* checking for hidden files and directories ... OK
* checking for portable file names ... OK
* checking for sufficient/correct file permissions ... OK
* checking whether package ‘SCANVIS’ can be installed ... OK
* checking installed package size ... OK
* checking package directory ... OK
* checking ‘build’ directory ... OK
* checking DESCRIPTION meta-information ... OK
* checking top-level files ... OK
* checking for left-over files ... OK
* checking index information ... OK
* checking package subdirectories ... OK
* checking code files for non-ASCII characters ... OK
* checking R files for syntax errors ... OK
* checking whether the package can be loaded ... OK
* checking whether the package can be loaded with stated dependencies ... OK
* checking whether the package can be unloaded cleanly ... OK
* checking whether the namespace can be loaded with stated dependencies ... OK
* checking whether the namespace can be unloaded cleanly ... OK
* checking loading without being on the library search path ... OK
* checking dependencies in R code ... OK
* checking S3 generic/method consistency ... OK
* checking replacement functions ... OK
* checking foreign function calls ... OK
* checking R code for possible problems ... NOTE
SCANVISannotation: no visible global function definition for
  ‘download.file’
SCANVISannotation: no visible binding for global variable ‘out.dir’
SCANVISannotation: no visible global function definition for
  ‘elementMetadata’
SCANVISannotation: no visible global function definition for ‘seqnames’
SCANVISmerge: no visible global function definition for ‘read.delim’
SCANVISread_STAR: no visible global function definition for
  ‘read.delim’
SCANVISscan: no visible global function definition for ‘read.delim’
SCANVISscan: no visible global function definition for ‘tail’
SCANVISscan: no visible global function definition for ‘write.table’
SCANVISvisual: no visible global function definition for ‘rect’
SCANVISvisual: no visible global function definition for ‘lines’
SCANVISvisual: no visible global function definition for ‘text’
SCANVISvisual: no visible global function definition for ‘legend’
SCANVISvisual: no visible global function definition for ‘write.table’
SCANVISvisual: no visible global function definition for ‘read.delim’
SCANVISvisual: no visible global function definition for ‘tail’
SCANVISvisual: no visible global function definition for ‘head’
SCANVISvisual: no visible global function definition for ‘points’
gene2roi: no visible global function definition for ‘tail’
Undefined global functions or variables:
  download.file elementMetadata head legend lines out.dir points
  read.delim rect seqnames tail text write.table
Consider adding
  importFrom("graphics", "legend", "lines", "points", "rect", "text")
  importFrom("utils", "download.file", "head", "read.delim", "tail",
             "write.table")
to your NAMESPACE file.
* checking Rd files ... OK
* checking Rd metadata ... OK
* checking Rd cross-references ... OK
* checking for missing documentation entries ... OK
* checking for code/documentation mismatches ... OK
* checking Rd \usage sections ... OK
* checking Rd contents ... NOTE
Argument items with no description in Rd file 'SCANVISannotation.Rd':
  ‘ftp.url’
* checking for unstated dependencies in examples ... OK
* checking contents of ‘data’ directory ... OK
* checking data for non-ASCII characters ... OK
* checking data for ASCII and uncompressed saves ... OK
* checking files in ‘vignettes’ ... OK
* checking examples ... OK
* checking for unstated dependencies in vignettes ... OK
* checking package vignettes ... OK
* checking re-building of vignette outputs ... OK
* checking PDF version of manual ... OK
* DONE

Status: 2 NOTEs
See
  ‘/home/biocbuild/bbs-3.20-bioc/meat/SCANVIS.Rcheck/00check.log’
for details.


Installation output

SCANVIS.Rcheck/00install.out

##############################################################################
##############################################################################
###
### Running command:
###
###   /home/biocbuild/bbs-3.20-bioc/R/bin/R CMD INSTALL SCANVIS
###
##############################################################################
##############################################################################


* installing to library ‘/home/biocbuild/bbs-3.20-bioc/R/site-library’
* installing *source* package ‘SCANVIS’ ...
** using staged installation
** R
** data
** byte-compile and prepare package for lazy loading
** help
*** installing help indices
** building package indices
** installing vignettes
** testing if installed package can be loaded from temporary location
** testing if installed package can be loaded from final location
** testing if installed package keeps a record of temporary installation path
* DONE (SCANVIS)

Tests output


Example timings

SCANVIS.Rcheck/SCANVIS-Ex.timings

nameusersystemelapsed
IR2Mat0.0450.0000.045
SCANVISannotation000
SCANVISlinkvar0.2540.0000.254
SCANVISmerge0.1070.0200.127
SCANVISreadSTAR0.0040.0000.004
SCANVISscan0.1610.0160.177
SCANVISvisual0.5560.0960.652
gene2roi0.0430.0000.043
ls_url0.0080.0041.846