Back to Multiple platform build/check report for BioC 3.15
ABCDEFGHIJKLMNOPQRS[T]UVWXYZ

This page was generated on 2022-01-22 11:05:19 -0500 (Sat, 22 Jan 2022).

HostnameOSArch (*)R versionInstalled pkgs
nebbiolo1Linux (Ubuntu 20.04.4 LTS)x86_64R Under development (unstable) (2022-01-05 r81451) -- "Unsuffered Consequences" 4163
riesling1Windows Server 2019 Standardx64R Under development (unstable) (2021-11-21 r81221) -- "Unsuffered Consequences" 4058
palomino3Windows Server 2022 Datacenterx64R Under development (unstable) (2021-12-21 r81400 ucrt) -- "Unsuffered Consequences" 4000
merida1macOS 10.14.6 Mojavex86_64R Under development (unstable) (2022-01-05 r81451) -- "Unsuffered Consequences" 4117
Click on any hostname to see more info about the system (e.g. compilers)      (*) as reported by 'uname -p', except on Windows and Mac OS X

All results for package tilingArray


To the developers/maintainers of the tilingArray package:
- Please allow up to 24 hours (and sometimes 48 hours) for your latest push to git@git.bioconductor.org:packages/tilingArray.git to
reflect on this report. See How and When does the builder pull? When will my changes propagate? here for more information.
- Make sure to use the following settings in order to reproduce any error or warning you see on this page.

raw results

Package 1947/2075HostnameOS / ArchINSTALLBUILDCHECKBUILD BIN
tilingArray 1.73.0  (landing page)
Zhenyu Xu
Snapshot Date: 2022-01-21 13:55:18 -0500 (Fri, 21 Jan 2022)
git_url: https://git.bioconductor.org/packages/tilingArray
git_branch: master
git_last_commit: 886d6ad
git_last_commit_date: 2021-10-26 11:47:46 -0500 (Tue, 26 Oct 2021)
nebbiolo1Linux (Ubuntu 20.04.4 LTS) / x86_64  OK    OK    OK  UNNEEDED, same version is already published
riesling1Windows Server 2019 Standard / x64  OK    OK    NA    NA  
palomino3Windows Server 2022 Datacenter / x64  OK    OK    OK    OK  NO, package depends on 'Biobase' which is not available
merida1macOS 10.14.6 Mojave / x86_64  OK    OK    OK    OK  UNNEEDED, same version is already published

Results for Bioconductor software packages that depend directly on package tilingArray

QUICK STATSOS / ArchINSTALLBUILDCHECKBUILD BIN
nebbiolo1Linux (Ubuntu 20.04.4 LTS) / x86_64
002
002
0002
riesling1Windows Server 2019 Standard / x64
002
002
0000
000
palomino3Windows Server 2022 Datacenter / x64
002
011
0001
001
merida1macOS 10.14.6 Mojave / x86_64
002
002
0002
002
Package 1/2HostnameOS / ArchINSTALLBUILDCHECKBUILD BIN
ADaCGH2 2.35.0  (landing page)
Ramon Diaz-Uriarte
git_last_commit: 0c308d5
git_last_commit_date: 2021-10-26 11:57:27 -0500
nebbiolo1Linux (Ubuntu 20.04.4 LTS) / x86_64  OK    OK    OK  UNNEEDED, same version is already published
riesling1Windows Server 2019 Standard / x64  OK    OK    NA    NA  
palomino3Windows Server 2022 Datacenter / x64  OK    ERROR  skippedskipped
merida1macOS 10.14.6 Mojave / x86_64  OK    OK    OK    OK  UNNEEDED, same version is already published
Package 2/2HostnameOS / ArchINSTALLBUILDCHECKBUILD BIN
snapCGH 1.65.0  (landing page)
John Marioni
git_last_commit: 4add7c4
git_last_commit_date: 2021-10-26 11:49:07 -0500
nebbiolo1Linux (Ubuntu 20.04.4 LTS) / x86_64  OK    OK    OK  UNNEEDED, same version is already published
riesling1Windows Server 2019 Standard / x64  OK    OK    NA    NA  
palomino3Windows Server 2022 Datacenter / x64  OK    OK    OK    OK  NO, package depends on 'aCGH' which is not available
merida1macOS 10.14.6 Mojave / x86_64  OK    OK    OK    OK  UNNEEDED, same version is already published