Back to Multiple platform build/check report for BioC 3.16
ABCDEFGH[I]JKLMNOPQRSTUVWXYZ

This page was generated on 2022-05-27 11:02:28 -0400 (Fri, 27 May 2022).

HostnameOSArch (*)R versionInstalled pkgs
nebbiolo2Linux (Ubuntu 20.04.4 LTS)x86_644.2.0 RC (2022-04-21 r82226) -- "Vigorous Calisthenics" 4357
palomino4Windows Server 2022 Datacenterx644.2.0 Patched (2022-04-24 r82246 ucrt) -- "Vigorous Calisthenics" 4159
Click on any hostname to see more info about the system (e.g. compilers)      (*) as reported by 'uname -p', except on Windows and Mac OS X

All results for package Informeasure


To the developers/maintainers of the Informeasure package:
- Please allow up to 24 hours (and sometimes 48 hours) for your latest push to git@git.bioconductor.org:packages/Informeasure.git to
reflect on this report. See How and When does the builder pull? When will my changes propagate? for more information.
- Make sure to use the following settings in order to reproduce any error or warning you see on this page.

raw results

Package 946/2112HostnameOS / ArchINSTALLBUILDCHECKBUILD BIN
Informeasure 1.7.0  (landing page)
Chu Pan
Snapshot Date: 2022-05-26 14:00:02 -0400 (Thu, 26 May 2022)
git_url: https://git.bioconductor.org/packages/Informeasure
git_branch: master
git_last_commit: f144f02
git_last_commit_date: 2022-04-26 12:09:00 -0400 (Tue, 26 Apr 2022)
nebbiolo2Linux (Ubuntu 20.04.4 LTS) / x86_64  OK    OK    OK  UNNEEDED, same version is already published
palomino4Windows Server 2022 Datacenter / x64  OK    OK    OK    OK  UNNEEDED, same version is already published