Back to Multiple platform build/check report for BioC 3.20: simplified long |
|
This page was generated on 2024-05-06 11:35:51 -0400 (Mon, 06 May 2024).
Hostname | OS | Arch (*) | R version | Installed pkgs |
---|---|---|---|---|
nebbiolo2 | Linux (Ubuntu 22.04.3 LTS) | x86_64 | 4.4.0 RC (2024-04-16 r86468) -- "Puppy Cup" | 4661 |
palomino4 | Windows Server 2022 Datacenter | x64 | 4.4.0 RC (2024-04-16 r86468 ucrt) -- "Puppy Cup" | 4392 |
merida1 | macOS 12.7.4 Monterey | x86_64 | 4.4.0 Patched (2024-04-24 r86482) -- "Puppy Cup" | 4423 |
Click on any hostname to see more info about the system (e.g. compilers) (*) as reported by 'uname -p', except on Windows and Mac OS X |
Package 2/2230 | Hostname | OS / Arch | INSTALL | BUILD | CHECK | BUILD BIN | ||||||||
a4Base 1.53.0 (landing page) Laure Cougnaud
| nebbiolo2 | Linux (Ubuntu 22.04.3 LTS) / x86_64 | OK | OK | OK | |||||||||
palomino4 | Windows Server 2022 Datacenter / x64 | OK | OK | OK | OK | |||||||||
merida1 | macOS 12.7.4 Monterey / x86_64 | OK | OK | OK | OK | |||||||||
kjohnson1 | macOS 13.6.6 Ventura / arm64 | see weekly results here | ||||||||||||
To the developers/maintainers of the a4Base package: - Allow up to 24 hours (and sometimes 48 hours) for your latest push to git@git.bioconductor.org:packages/a4Base.git to reflect on this report. See Troubleshooting Build Report for more information. - Use the following Renviron settings to reproduce errors and warnings. - If 'R CMD check' started to fail recently on the Linux builder(s) over a missing dependency, add the missing dependency to 'Suggests:' in your DESCRIPTION file. See Renviron.bioc for more information. |
Package: a4Base |
Version: 1.53.0 |
Command: /home/biocbuild/bbs-3.20-bioc/R/bin/R CMD check --install=check:a4Base.install-out.txt --library=/home/biocbuild/bbs-3.20-bioc/R/site-library --timings a4Base_1.53.0.tar.gz |
StartedAt: 2024-05-03 20:34:11 -0400 (Fri, 03 May 2024) |
EndedAt: 2024-05-03 20:37:15 -0400 (Fri, 03 May 2024) |
EllapsedTime: 184.3 seconds |
RetCode: 0 |
Status: OK |
CheckDir: a4Base.Rcheck |
Warnings: 0 |
############################################################################## ############################################################################## ### ### Running command: ### ### /home/biocbuild/bbs-3.20-bioc/R/bin/R CMD check --install=check:a4Base.install-out.txt --library=/home/biocbuild/bbs-3.20-bioc/R/site-library --timings a4Base_1.53.0.tar.gz ### ############################################################################## ############################################################################## * using log directory ‘/home/biocbuild/bbs-3.20-bioc/meat/a4Base.Rcheck’ * using R version 4.4.0 RC (2024-04-16 r86468) * using platform: x86_64-pc-linux-gnu * R was compiled by gcc (Ubuntu 11.4.0-1ubuntu1~22.04) 11.4.0 GNU Fortran (Ubuntu 11.4.0-1ubuntu1~22.04) 11.4.0 * running under: Ubuntu 22.04.4 LTS * using session charset: UTF-8 * checking for file ‘a4Base/DESCRIPTION’ ... OK * checking extension type ... Package * this is package ‘a4Base’ version ‘1.53.0’ * checking package namespace information ... OK * checking package dependencies ... NOTE Package which this enhances but not available for checking: ‘JavaGD’ * checking if this is a source package ... OK * checking if there is a namespace ... OK * checking for hidden files and directories ... OK * checking for portable file names ... OK * checking for sufficient/correct file permissions ... OK * checking whether package ‘a4Base’ can be installed ... OK * checking installed package size ... OK * checking package directory ... OK * checking DESCRIPTION meta-information ... OK * checking top-level files ... OK * checking for left-over files ... OK * checking index information ... OK * checking package subdirectories ... OK * checking code files for non-ASCII characters ... OK * checking R files for syntax errors ... OK * checking whether the package can be loaded ... OK * checking whether the package can be loaded with stated dependencies ... OK * checking whether the package can be unloaded cleanly ... OK * checking whether the namespace can be loaded with stated dependencies ... OK * checking whether the namespace can be unloaded cleanly ... OK * checking loading without being on the library search path ... OK * checking whether startup messages can be suppressed ... OK * checking dependencies in R code ... OK * checking S3 generic/method consistency ... OK * checking replacement functions ... OK * checking foreign function calls ... OK * checking R code for possible problems ... OK * checking Rd files ... NOTE checkRd: (-1) computeLogRatio.Rd:49-51: Lost braces in \itemize; meant \describe ? checkRd: (-1) computeLogRatio.Rd:52-55: Lost braces in \itemize; meant \describe ? checkRd: (-1) filterVarInt.Rd:52: Escaped LaTeX specials: \& checkRd: (-1) histPvalue.Rd:50: Escaped LaTeX specials: \& checkRd: (-1) lassoReg.Rd:38: Escaped LaTeX specials: \& checkRd: (-1) plotLogRatio.Rd:166: Lost braces in \itemize; meant \describe ? checkRd: (-1) plotLogRatio.Rd:167: Lost braces in \itemize; meant \describe ? checkRd: (-1) plotLogRatio.Rd:168: Lost braces in \itemize; meant \describe ? checkRd: (-1) plotLogRatio.Rd:169: Lost braces in \itemize; meant \describe ? checkRd: (-1) plotLogRatio.Rd:170: Lost braces in \itemize; meant \describe ? checkRd: (-1) plotLogRatio.Rd:183-185: Lost braces in \itemize; meant \describe ? checkRd: (-1) plotLogRatio.Rd:186-191: Lost braces in \itemize; meant \describe ? checkRd: (-1) plotLogRatio.Rd:192-200: Lost braces in \itemize; meant \describe ? checkRd: (-1) plotLogRatio.Rd:201-203: Lost braces in \itemize; meant \describe ? checkRd: (-1) spectralMap.Rd:49: Escaped LaTeX specials: \& checkRd: (-1) topTable-methods.Rd:112: Lost braces in \itemize; meant \describe ? checkRd: (-1) volcanoPlot.Rd:45: Escaped LaTeX specials: \& * checking Rd metadata ... OK * checking Rd cross-references ... OK * checking for missing documentation entries ... OK * checking for code/documentation mismatches ... OK * checking Rd \usage sections ... OK * checking Rd contents ... OK * checking for unstated dependencies in examples ... OK * checking contents of ‘data’ directory ... OK * checking data for non-ASCII characters ... OK * checking data for ASCII and uncompressed saves ... OK * checking examples ... OK Examples with CPU (user + system) or elapsed time > 5s user system elapsed spectralMap 9.431 0.339 9.771 * checking PDF version of manual ... OK * DONE Status: 2 NOTEs See ‘/home/biocbuild/bbs-3.20-bioc/meat/a4Base.Rcheck/00check.log’ for details.
a4Base.Rcheck/00install.out
############################################################################## ############################################################################## ### ### Running command: ### ### /home/biocbuild/bbs-3.20-bioc/R/bin/R CMD INSTALL a4Base ### ############################################################################## ############################################################################## * installing to library ‘/home/biocbuild/bbs-3.20-bioc/R/site-library’ * installing *source* package ‘a4Base’ ... ** using staged installation ** R ** data ** inst ** byte-compile and prepare package for lazy loading ** help *** installing help indices ** building package indices ** testing if installed package can be loaded from temporary location ** testing if installed package can be loaded from final location ** testing if installed package keeps a record of temporary installation path * DONE (a4Base)
a4Base.Rcheck/a4Base-Ex.timings
name | user | system | elapsed | |
a4palette | 0.045 | 0.001 | 0.044 | |
addQuantilesColors | 1.750 | 0.075 | 1.825 | |
boxPlot | 2.466 | 0.120 | 2.586 | |
combineTwoExpressionSet | 0 | 0 | 0 | |
computeLogRatio | 4.135 | 0.243 | 4.379 | |
createExpressionSet | 0.027 | 0.003 | 0.030 | |
filterVarInt | 2.170 | 0.063 | 2.235 | |
heatmap.expressionSet | 0 | 0 | 0 | |
histPvalue | 1.697 | 0.032 | 1.728 | |
histpvalueplotter | 1.69 | 0.04 | 1.73 | |
lassoReg | 1.685 | 0.040 | 1.724 | |
logReg | 0.000 | 0.000 | 0.001 | |
nlcvTT | 0 | 0 | 0 | |
plot1gene | 1.729 | 0.044 | 1.774 | |
plotComb2Samples | 1.860 | 0.059 | 1.920 | |
plotCombMultSamples | 3.030 | 0.096 | 3.126 | |
plotCombination2genes | 2.422 | 0.064 | 2.486 | |
plotLogRatio | 3.702 | 0.072 | 3.774 | |
probabilitiesPlot | 0 | 0 | 0 | |
probe2gene | 1.455 | 0.031 | 1.487 | |
profilesPlot | 1.647 | 0.045 | 1.692 | |
propdegenescalculation | 2.290 | 0.059 | 2.350 | |
replicates | 0.001 | 0.000 | 0.001 | |
spectralMap | 9.431 | 0.339 | 9.771 | |
tTest | 1.968 | 0.024 | 1.992 | |
volcanoPlot | 2.122 | 0.016 | 2.137 | |