Back to Build/check report for BioC 3.13
ABCDEFGHIJKLMNOPQR[S]TUVWXYZ

Build/check report for BioC 3.13

Results for srnadiff

This page was generated on 2020-10-30 10:53:27 -0400 (Fri, 30 Oct 2020).

Package 1722/1906HostnameOS / ArchINSTALLBUILDCHECKBUILD BIN
srnadiff 1.11.0
Zytnicki Matthias
Snapshot Date: 2020-10-29 14:40:27 -0400 (Thu, 29 Oct 2020)
URL: https://git.bioconductor.org/packages/srnadiff
Branch: master
Last Commit: a75c0fe
Last Changed Date: 2020-10-27 11:31:35 -0400 (Tue, 27 Oct 2020)
malbec2 Linux (Ubuntu 18.04.4 LTS) / x86_64  OK  OK  OK UNNEEDED, same version exists in internal repository