Back to Multiple platform build/check report for BioC 3.20: simplified long |
|
This page was generated on 2024-05-06 11:36:33 -0400 (Mon, 06 May 2024).
Hostname | OS | Arch (*) | R version | Installed pkgs |
---|---|---|---|---|
nebbiolo2 | Linux (Ubuntu 22.04.3 LTS) | x86_64 | 4.4.0 RC (2024-04-16 r86468) -- "Puppy Cup" | 4661 |
palomino4 | Windows Server 2022 Datacenter | x64 | 4.4.0 RC (2024-04-16 r86468 ucrt) -- "Puppy Cup" | 4392 |
merida1 | macOS 12.7.4 Monterey | x86_64 | 4.4.0 Patched (2024-04-24 r86482) -- "Puppy Cup" | 4423 |
Click on any hostname to see more info about the system (e.g. compilers) (*) as reported by 'uname -p', except on Windows and Mac OS X |
Package 2100/2230 | Hostname | OS / Arch | INSTALL | BUILD | CHECK | BUILD BIN | ||||||||
TissueEnrich 1.25.0 (landing page) Ashish Jain
| nebbiolo2 | Linux (Ubuntu 22.04.3 LTS) / x86_64 | ERROR | ERROR | skipped | |||||||||
palomino4 | Windows Server 2022 Datacenter / x64 | ERROR | ERROR | skipped | skipped | |||||||||
merida1 | macOS 12.7.4 Monterey / x86_64 | ERROR | ERROR | skipped | skipped | |||||||||
kjohnson1 | macOS 13.6.6 Ventura / arm64 | see weekly results here | ||||||||||||
To the developers/maintainers of the TissueEnrich package: - Allow up to 24 hours (and sometimes 48 hours) for your latest push to git@git.bioconductor.org:packages/TissueEnrich.git to reflect on this report. See Troubleshooting Build Report for more information. - Use the following Renviron settings to reproduce errors and warnings. - If 'R CMD check' started to fail recently on the Linux builder(s) over a missing dependency, add the missing dependency to 'Suggests:' in your DESCRIPTION file. See Renviron.bioc for more information. |
Package: TissueEnrich |
Version: 1.25.0 |
Command: /home/biocbuild/bbs-3.20-bioc/R/bin/R CMD build --keep-empty-dirs --no-resave-data TissueEnrich |
StartedAt: 2024-05-03 20:16:26 -0400 (Fri, 03 May 2024) |
EndedAt: 2024-05-03 20:16:28 -0400 (Fri, 03 May 2024) |
EllapsedTime: 1.3 seconds |
RetCode: 1 |
Status: ERROR |
PackageFile: None |
PackageFileSize: NA |
############################################################################## ############################################################################## ### ### Running command: ### ### /home/biocbuild/bbs-3.20-bioc/R/bin/R CMD build --keep-empty-dirs --no-resave-data TissueEnrich ### ############################################################################## ############################################################################## * checking for file ‘TissueEnrich/DESCRIPTION’ ... OK * preparing ‘TissueEnrich’: * checking DESCRIPTION meta-information ... OK * installing the package to build vignettes ----------------------------------- ERROR: dependency ‘ensurer’ is not available for package ‘TissueEnrich’ * removing ‘/tmp/RtmpXXPZc8/Rinst19b843eb7e92c/TissueEnrich’ ----------------------------------- ERROR: package installation failed