Back to Multiple platform build/check report for BioC 3.18:   simplified   long
ABCDEFGHIJKLMN[O]PQRSTUVWXYZ

This page was generated on 2023-09-25 11:35:29 -0400 (Mon, 25 Sep 2023).

HostnameOSArch (*)R versionInstalled pkgs
nebbiolo2Linux (Ubuntu 22.04.2 LTS)x86_644.3.1 (2023-06-16) -- "Beagle Scouts" 4659
palomino4Windows Server 2022 Datacenterx644.3.1 (2023-06-16 ucrt) -- "Beagle Scouts" 4394
lconwaymacOS 12.6.5 Montereyx86_644.3.1 Patched (2023-06-17 r84564) -- "Beagle Scouts" 4408
kunpeng2Linux (openEuler 22.03 LTS-SP1)aarch644.3.1 (2023-06-16) -- "Beagle Scouts" 4397
Click on any hostname to see more info about the system (e.g. compilers)      (*) as reported by 'uname -p', except on Windows and Mac OS X

All results for package orthogene


To the developers/maintainers of the orthogene package:
- Allow up to 24 hours (and sometimes 48 hours) for your latest push to git@git.bioconductor.org:packages/orthogene.git to reflect on this report. See Troubleshooting Build Report for more information.
- Use the following Renviron settings to reproduce errors and warnings.
- If 'R CMD check' started to fail recently on the Linux builder(s) over a missing dependency, add the missing dependency to 'Suggests:' in your DESCRIPTION file. See Renviron.bioc for more information.

raw results

Package 1456/2233HostnameOS / ArchINSTALLBUILDCHECKBUILD BIN
orthogene 1.7.2  (landing page)
Brian Schilder
Snapshot Date: 2023-09-24 14:05:06 -0400 (Sun, 24 Sep 2023)
git_url: https://git.bioconductor.org/packages/orthogene
git_branch: devel
git_last_commit: c57a55a
git_last_commit_date: 2023-08-30 13:11:36 -0400 (Wed, 30 Aug 2023)
nebbiolo2Linux (Ubuntu 22.04.2 LTS) / x86_64  OK    OK    OK  UNNEEDED, same version is already published
palomino4Windows Server 2022 Datacenter / x64  OK    OK    OK    OK  UNNEEDED, same version is already published
lconwaymacOS 12.6.5 Monterey / x86_64  OK    OK    OK    OK  UNNEEDED, same version is already published
kunpeng2Linux (openEuler 22.03 LTS-SP1) / aarch64  OK    OK    OK  

Results for Bioconductor software packages that depend directly on package orthogene

QUICK STATSOS / ArchINSTALLBUILDCHECKBUILD BIN
nebbiolo2Linux (Ubuntu 22.04.2 LTS) / x86_64
001
001
0001
palomino4Windows Server 2022 Datacenter / x64
001
001
0001
001
lconwaymacOS 12.6.5 Monterey / x86_64
001
001
0001
001
kunpeng2Linux (openEuler 22.03 LTS-SP1) / aarch64
001
001
0001
Package 1/1HostnameOS / ArchINSTALLBUILDCHECKBUILD BIN
EWCE 1.9.3  (landing page)
Alan Murphy
git_last_commit: 5a472f8
git_last_commit_date: 2023-08-29 05:27:30 -0400
nebbiolo2Linux (Ubuntu 22.04.2 LTS) / x86_64  OK    OK    OK  UNNEEDED, same version is already published
palomino4Windows Server 2022 Datacenter / x64  OK    OK    OK    OK  UNNEEDED, same version is already published
lconwaymacOS 12.6.5 Monterey / x86_64  OK    OK    OK    OK  UNNEEDED, same version is already published
kunpeng2Linux (openEuler 22.03 LTS-SP1) / aarch64  OK    OK    OK