Back to Multiple platform build/check report for BioC 3.18:   simplified   long
A[B]CDEFGHIJKLMNOPQRSTUVWXYZ

This page was generated on 2023-09-23 11:34:26 -0400 (Sat, 23 Sep 2023).

HostnameOSArch (*)R versionInstalled pkgs
nebbiolo2Linux (Ubuntu 22.04.2 LTS)x86_644.3.1 (2023-06-16) -- "Beagle Scouts" 4659
palomino4Windows Server 2022 Datacenterx644.3.1 (2023-06-16 ucrt) -- "Beagle Scouts" 4394
lconwaymacOS 12.6.5 Montereyx86_644.3.1 Patched (2023-06-17 r84564) -- "Beagle Scouts" 4408
kunpeng2Linux (openEuler 22.03 LTS-SP1)aarch644.3.1 (2023-06-16) -- "Beagle Scouts" 4397
Click on any hostname to see more info about the system (e.g. compilers)      (*) as reported by 'uname -p', except on Windows and Mac OS X

All results for package basilisk


To the developers/maintainers of the basilisk package:
- Allow up to 24 hours (and sometimes 48 hours) for your latest push to git@git.bioconductor.org:packages/basilisk.git to reflect on this report. See Troubleshooting Build Report for more information.
- Use the following Renviron settings to reproduce errors and warnings.
- If 'R CMD check' started to fail recently on the Linux builder(s) over a missing dependency, add the missing dependency to 'Suggests:' in your DESCRIPTION file. See Renviron.bioc for more information.

raw results

Package 132/2233HostnameOS / ArchINSTALLBUILDCHECKBUILD BIN
basilisk 1.13.3  (landing page)
Aaron Lun
Snapshot Date: 2023-09-22 14:05:07 -0400 (Fri, 22 Sep 2023)
git_url: https://git.bioconductor.org/packages/basilisk
git_branch: devel
git_last_commit: 54dee79
git_last_commit_date: 2023-07-11 18:33:42 -0400 (Tue, 11 Jul 2023)
nebbiolo2Linux (Ubuntu 22.04.2 LTS) / x86_64  OK    OK    TIMEOUT  
palomino4Windows Server 2022 Datacenter / x64  OK    OK    TIMEOUT    OK  
lconwaymacOS 12.6.5 Monterey / x86_64  OK    OK    TIMEOUT    OK  
kunpeng2Linux (openEuler 22.03 LTS-SP1) / aarch64  OK    ERROR  skipped

Results for Bioconductor software packages that depend directly on package basilisk

QUICK STATSOS / ArchINSTALLBUILDCHECKBUILD BIN
nebbiolo2Linux (Ubuntu 22.04.2 LTS) / x86_64
0022
0121
00219
palomino4Windows Server 2022 Datacenter / x64
0015
0015
01311
0015
lconwaymacOS 12.6.5 Monterey / x86_64
0021
0120
00317
0020
kunpeng2Linux (openEuler 22.03 LTS-SP1) / aarch64
0022
499
0126
Package 1/22HostnameOS / ArchINSTALLBUILDCHECKBUILD BIN
BiocHail 1.1.5  (landing page)
Vincent Carey
git_last_commit: e99e635
git_last_commit_date: 2023-09-02 08:13:25 -0400
nebbiolo2Linux (Ubuntu 22.04.2 LTS) / x86_64  OK    OK    OK  UNNEEDED, same version is already published
palomino4Windows Server 2022 Datacenter / x64... NOT SUPPORTED ...
lconwaymacOS 12.6.5 Monterey / x86_64... NOT SUPPORTED ...
kunpeng2Linux (openEuler 22.03 LTS-SP1) / aarch64  OK    ERROR  skipped
Package 2/22HostnameOS / ArchINSTALLBUILDCHECKBUILD BIN
BiocSklearn 1.23.1  (landing page)
Vince Carey
git_last_commit: eddb4f4
git_last_commit_date: 2023-08-31 07:53:16 -0400
nebbiolo2Linux (Ubuntu 22.04.2 LTS) / x86_64  OK    OK    OK  UNNEEDED, same version is already published
palomino4Windows Server 2022 Datacenter / x64  OK    OK    OK    OK  UNNEEDED, same version is already published
lconwaymacOS 12.6.5 Monterey / x86_64  OK    OK    OK    OK  UNNEEDED, same version is already published
kunpeng2Linux (openEuler 22.03 LTS-SP1) / aarch64  OK    ERROR  skipped
Package 3/22HostnameOS / ArchINSTALLBUILDCHECKBUILD BIN
cbpManager 1.9.3  (landing page)
Arsenij Ustjanzew
git_last_commit: 9450173
git_last_commit_date: 2023-07-13 07:02:51 -0400
nebbiolo2Linux (Ubuntu 22.04.2 LTS) / x86_64  OK    OK    WARNINGS  UNNEEDED, same version is already published
palomino4Windows Server 2022 Datacenter / x64  OK    OK    WARNINGS    OK  UNNEEDED, same version is already published
lconwaymacOS 12.6.5 Monterey / x86_64  OK    OK    WARNINGS    OK  UNNEEDED, same version is already published
kunpeng2Linux (openEuler 22.03 LTS-SP1) / aarch64  OK    OK    WARNINGS  
Package 4/22HostnameOS / ArchINSTALLBUILDCHECKBUILD BIN
cfTools 1.1.0  (landing page)
Ran Hu
git_last_commit: fceef22
git_last_commit_date: 2023-07-31 23:17:05 -0400
nebbiolo2Linux (Ubuntu 22.04.2 LTS) / x86_64  OK    OK    OK  UNNEEDED, same version is already published
palomino4Windows Server 2022 Datacenter / x64  OK    OK    OK    OK  UNNEEDED, same version is already published
lconwaymacOS 12.6.5 Monterey / x86_64  OK    OK    OK    OK  UNNEEDED, same version is already published
kunpeng2Linux (openEuler 22.03 LTS-SP1) / aarch64  OK    ERROR  skipped
Package 5/22HostnameOS / ArchINSTALLBUILDCHECKBUILD BIN
crisprScore 1.5.0  (landing page)
Jean-Philippe Fortin
git_last_commit: b3a100b
git_last_commit_date: 2023-04-25 11:35:22 -0400
nebbiolo2Linux (Ubuntu 22.04.2 LTS) / x86_64  OK    OK    OK  UNNEEDED, same version is already published
palomino4Windows Server 2022 Datacenter / x64  OK    OK    OK    OK  UNNEEDED, same version is already published
lconwaymacOS 12.6.5 Monterey / x86_64  OK    OK    OK    OK  UNNEEDED, same version is already published
kunpeng2Linux (openEuler 22.03 LTS-SP1) / aarch64  OK    OK    OK  
Package 6/22HostnameOS / ArchINSTALLBUILDCHECKBUILD BIN
densvis 1.11.5  (landing page)
Alan O'Callaghan
git_last_commit: 25e0c82
git_last_commit_date: 2023-09-12 07:06:05 -0400
nebbiolo2Linux (Ubuntu 22.04.2 LTS) / x86_64  OK    OK    OK  UNNEEDED, same version is already published
palomino4Windows Server 2022 Datacenter / x64... NOT SUPPORTED ...
lconwaymacOS 12.6.5 Monterey / x86_64  OK    OK    OK    OK  UNNEEDED, same version is already published
kunpeng2Linux (openEuler 22.03 LTS-SP1) / aarch64  OK    ERROR  skipped
Package 7/22HostnameOS / ArchINSTALLBUILDCHECKBUILD BIN
FLAMES 1.7.2  (landing page)
Oliver Voogd
git_last_commit: c62c530
git_last_commit_date: 2023-09-10 23:10:11 -0400
nebbiolo2Linux (Ubuntu 22.04.2 LTS) / x86_64  OK    OK    OK  UNNEEDED, same version is already published
palomino4Windows Server 2022 Datacenter / x64  OK    OK    WARNINGS    OK  UNNEEDED, same version is already published
lconwaymacOS 12.6.5 Monterey / x86_64  OK    OK    WARNINGS    OK  UNNEEDED, same version is already published
kunpeng2Linux (openEuler 22.03 LTS-SP1) / aarch64  OK    ERROR  skipped
Package 8/22HostnameOS / ArchINSTALLBUILDCHECKBUILD BIN
HiCool 1.1.0  (landing page)
Jacques Serizay
git_last_commit: c35e109
git_last_commit_date: 2023-04-25 11:43:17 -0400
nebbiolo2Linux (Ubuntu 22.04.2 LTS) / x86_64  OK    OK    OK  UNNEEDED, same version is already published
palomino4Windows Server 2022 Datacenter / x64... NOT SUPPORTED ...
lconwaymacOS 12.6.5 Monterey / x86_64  OK    OK    OK    OK  UNNEEDED, same version is already published
kunpeng2Linux (openEuler 22.03 LTS-SP1) / aarch64  OK    ERROR  skipped
Package 9/22HostnameOS / ArchINSTALLBUILDCHECKBUILD BIN
MACSr 1.9.1  (landing page)
Qiang Hu
git_last_commit: ce3ee8c
git_last_commit_date: 2023-08-03 15:56:30 -0400
nebbiolo2Linux (Ubuntu 22.04.2 LTS) / x86_64  OK    OK    OK  UNNEEDED, same version is already published
palomino4Windows Server 2022 Datacenter / x64... NOT SUPPORTED ...
lconwaymacOS 12.6.5 Monterey / x86_64  OK    OK    OK    OK  UNNEEDED, same version is already published
kunpeng2Linux (openEuler 22.03 LTS-SP1) / aarch64  OK    OK    OK  
Package 10/22HostnameOS / ArchINSTALLBUILDCHECKBUILD BIN
MOFA2 1.11.0  (landing page)
Ricard Argelaguet
git_last_commit: 15df5e3
git_last_commit_date: 2023-04-25 11:23:55 -0400
nebbiolo2Linux (Ubuntu 22.04.2 LTS) / x86_64  OK    OK    OK  UNNEEDED, same version is already published
palomino4Windows Server 2022 Datacenter / x64  OK    OK    OK    OK  UNNEEDED, same version is already published
lconwaymacOS 12.6.5 Monterey / x86_64  OK    OK    OK    OK  UNNEEDED, same version is already published
kunpeng2Linux (openEuler 22.03 LTS-SP1) / aarch64  OK    OK    OK  
Package 11/22HostnameOS / ArchINSTALLBUILDCHECKBUILD BIN
orthos 0.99.1  (landing page)
Panagiotis Papasaikas
git_last_commit: 6fec905
git_last_commit_date: 2023-06-30 11:23:04 -0400
nebbiolo2Linux (Ubuntu 22.04.2 LTS) / x86_64  OK    OK    OK  UNNEEDED, same version is already published
palomino4Windows Server 2022 Datacenter / x64  OK    OK    ERROR    OK  
lconwaymacOS 12.6.5 Monterey / x86_64  OK    OK    OK    OK  UNNEEDED, same version is already published
kunpeng2Linux (openEuler 22.03 LTS-SP1) / aarch64  OK    TIMEOUT  skipped
Package 12/22HostnameOS / ArchINSTALLBUILDCHECKBUILD BIN
pareg 1.5.1  (landing page)
Kim Philipp Jablonski
git_last_commit: 6fe7c59
git_last_commit_date: 2023-07-08 05:11:29 -0400
nebbiolo2Linux (Ubuntu 22.04.2 LTS) / x86_64  OK    OK    OK  UNNEEDED, same version is already published
palomino4Windows Server 2022 Datacenter / x64  OK    OK    OK    OK  UNNEEDED, same version is already published
lconwaymacOS 12.6.5 Monterey / x86_64  OK    OK    OK    OK  UNNEEDED, same version is already published
kunpeng2Linux (openEuler 22.03 LTS-SP1) / aarch64  OK    TIMEOUT  skipped
Package 13/22HostnameOS / ArchINSTALLBUILDCHECKBUILD BIN
Rcwl 1.17.2  (landing page)
Qiang Hu
git_last_commit: 633648c
git_last_commit_date: 2023-08-10 12:07:39 -0400
nebbiolo2Linux (Ubuntu 22.04.2 LTS) / x86_64  OK    OK    OK  UNNEEDED, same version is already published
palomino4Windows Server 2022 Datacenter / x64... NOT SUPPORTED ...
lconwaymacOS 12.6.5 Monterey / x86_64  OK    OK    OK    OK  UNNEEDED, same version is already published
kunpeng2Linux (openEuler 22.03 LTS-SP1) / aarch64  OK    TIMEOUT  skipped
Package 14/22HostnameOS / ArchINSTALLBUILDCHECKBUILD BIN
recountmethylation 1.11.1  (landing page)
Sean K Maden
git_last_commit: be0a705
git_last_commit_date: 2023-05-26 19:07:55 -0400
nebbiolo2Linux (Ubuntu 22.04.2 LTS) / x86_64  OK    OK    OK  UNNEEDED, same version is already published
palomino4Windows Server 2022 Datacenter / x64  OK    OK    OK    OK  UNNEEDED, same version is already published
lconwaymacOS 12.6.5 Monterey / x86_64  OK    OK    OK    OK  UNNEEDED, same version is already published
kunpeng2Linux (openEuler 22.03 LTS-SP1) / aarch64  OK    OK    OK  
Package 15/22HostnameOS / ArchINSTALLBUILDCHECKBUILD BIN
ReUseData 1.1.0  (landing page)
Qian Liu
git_last_commit: d20cd98
git_last_commit_date: 2023-07-28 12:15:42 -0400
nebbiolo2Linux (Ubuntu 22.04.2 LTS) / x86_64  OK    ERROR  skipped
palomino4Windows Server 2022 Datacenter / x64... NOT SUPPORTED ...
lconwaymacOS 12.6.5 Monterey / x86_64  OK    OK    OK    OK  UNNEEDED, same version is already published
kunpeng2Linux (openEuler 22.03 LTS-SP1) / aarch64  OK    TIMEOUT  skipped
Package 16/22HostnameOS / ArchINSTALLBUILDCHECKBUILD BIN
scPipe 2.1.0  (landing page)
Shian Su
git_last_commit: 76de7bd
git_last_commit_date: 2023-04-25 10:57:21 -0400
nebbiolo2Linux (Ubuntu 22.04.2 LTS) / x86_64  OK    OK    WARNINGS  UNNEEDED, same version is already published
palomino4Windows Server 2022 Datacenter / x64  OK    OK    WARNINGS    OK  UNNEEDED, same version is already published
lconwaymacOS 12.6.5 Monterey / x86_64  OK    OK    WARNINGS    OK  UNNEEDED, same version is already published
kunpeng2Linux (openEuler 22.03 LTS-SP1) / aarch64  OK    OK    WARNINGS  
Package 17/22HostnameOS / ArchINSTALLBUILDCHECKBUILD BIN
scviR 1.1.0  (landing page)
Vincent Carey
git_last_commit: 83f66c7
git_last_commit_date: 2023-04-25 11:43:19 -0400
nebbiolo2Linux (Ubuntu 22.04.2 LTS) / x86_64  OK    OK    OK  UNNEEDED, same version is already published
palomino4Windows Server 2022 Datacenter / x64... NOT SUPPORTED ...
lconwaymacOS 12.6.5 Monterey / x86_64  OK    ERROR  skippedskipped
kunpeng2Linux (openEuler 22.03 LTS-SP1) / aarch64  OK    ERROR  skipped
Package 18/22HostnameOS / ArchINSTALLBUILDCHECKBUILD BIN
SimBu 1.3.0  (landing page)
Alexander Dietrich
git_last_commit: 03bf7f7
git_last_commit_date: 2023-04-25 11:39:34 -0400
nebbiolo2Linux (Ubuntu 22.04.2 LTS) / x86_64  OK    OK    OK  UNNEEDED, same version is already published
palomino4Windows Server 2022 Datacenter / x64  OK    OK    OK    OK  UNNEEDED, same version is already published
lconwaymacOS 12.6.5 Monterey / x86_64  OK    OK    OK    OK  UNNEEDED, same version is already published
kunpeng2Linux (openEuler 22.03 LTS-SP1) / aarch64  OK    OK    OK  
Package 19/22HostnameOS / ArchINSTALLBUILDCHECKBUILD BIN
snifter 1.11.1  (landing page)
Alan O'Callaghan
git_last_commit: 38a77de
git_last_commit_date: 2023-09-07 04:43:05 -0400
nebbiolo2Linux (Ubuntu 22.04.2 LTS) / x86_64  OK    OK    OK  UNNEEDED, same version is already published
palomino4Windows Server 2022 Datacenter / x64  OK    OK    OK    OK  UNNEEDED, same version is already published
lconwaymacOS 12.6.5 Monterey / x86_64  OK    OK    OK    OK  UNNEEDED, same version is already published
kunpeng2Linux (openEuler 22.03 LTS-SP1) / aarch64  OK    OK    OK  
Package 20/22HostnameOS / ArchINSTALLBUILDCHECKBUILD BIN
spatialDE 1.7.0  (landing page)
Gabriele Sales
git_last_commit: d47398e
git_last_commit_date: 2023-04-25 11:32:03 -0400
nebbiolo2Linux (Ubuntu 22.04.2 LTS) / x86_64  OK    OK    OK  UNNEEDED, same version is already published
palomino4Windows Server 2022 Datacenter / x64  OK    OK    OK    OK  UNNEEDED, same version is already published
lconwaymacOS 12.6.5 Monterey / x86_64  OK    OK    OK    OK  UNNEEDED, same version is already published
kunpeng2Linux (openEuler 22.03 LTS-SP1) / aarch64  OK    ERROR  skipped
Package 21/22HostnameOS / ArchINSTALLBUILDCHECKBUILD BIN
velociraptor 1.11.1  (landing page)
Kevin Rue-Albrecht
git_last_commit: a1b20fa
git_last_commit_date: 2023-07-21 08:15:29 -0400
nebbiolo2Linux (Ubuntu 22.04.2 LTS) / x86_64  OK    OK    OK  UNNEEDED, same version is already published
palomino4Windows Server 2022 Datacenter / x64  OK    OK    OK    OK  UNNEEDED, same version is already published
lconwaymacOS 12.6.5 Monterey / x86_64  OK    OK    OK    OK  UNNEEDED, same version is already published
kunpeng2Linux (openEuler 22.03 LTS-SP1) / aarch64  OK    ERROR  skipped
Package 22/22HostnameOS / ArchINSTALLBUILDCHECKBUILD BIN
zellkonverter 1.11.2  (landing page)
Luke Zappia
git_last_commit: 25104dc
git_last_commit_date: 2023-08-28 07:28:54 -0400
nebbiolo2Linux (Ubuntu 22.04.2 LTS) / x86_64  OK    OK    OK  UNNEEDED, same version is already published
palomino4Windows Server 2022 Datacenter / x64  OK    OK    OK    OK  UNNEEDED, same version is already published
lconwaymacOS 12.6.5 Monterey / x86_64  OK    OK    OK    OK  UNNEEDED, same version is already published
kunpeng2Linux (openEuler 22.03 LTS-SP1) / aarch64  OK    OK    ERROR